BEGIN:VCALENDAR
VERSION:2.0
PRODID:-//The Review Newspaper - ECPv6.15.18//NONSGML v1.0//EN
CALSCALE:GREGORIAN
METHOD:PUBLISH
X-WR-CALNAME:The Review Newspaper
X-ORIGINAL-URL:https://thereview.ca
X-WR-CALDESC:Events for The Review Newspaper
REFRESH-INTERVAL;VALUE=DURATION:PT1H
X-Robots-Tag:noindex
X-PUBLISHED-TTL:PT1H
BEGIN:VTIMEZONE
TZID:America/Toronto
BEGIN:DAYLIGHT
TZOFFSETFROM:-0500
TZOFFSETTO:-0400
TZNAME:EDT
DTSTART:20180311T070000
END:DAYLIGHT
BEGIN:STANDARD
TZOFFSETFROM:-0400
TZOFFSETTO:-0500
TZNAME:EST
DTSTART:20181104T060000
END:STANDARD
BEGIN:DAYLIGHT
TZOFFSETFROM:-0500
TZOFFSETTO:-0400
TZNAME:EDT
DTSTART:20190310T070000
END:DAYLIGHT
BEGIN:STANDARD
TZOFFSETFROM:-0400
TZOFFSETTO:-0500
TZNAME:EST
DTSTART:20191103T060000
END:STANDARD
BEGIN:DAYLIGHT
TZOFFSETFROM:-0500
TZOFFSETTO:-0400
TZNAME:EDT
DTSTART:20200308T070000
END:DAYLIGHT
BEGIN:STANDARD
TZOFFSETFROM:-0400
TZOFFSETTO:-0500
TZNAME:EST
DTSTART:20201101T060000
END:STANDARD
END:VTIMEZONE
BEGIN:VEVENT
DTSTART;VALUE=DATE:20190907
DTEND;VALUE=DATE:20190908
DTSTAMP:20260420T011559
CREATED:20190828T190105Z
LAST-MODIFIED:20190828T190105Z
UID:10007358-1567814400-1567900799@thereview.ca
SUMMARY:61st Annual Prescott County Plowing Match
DESCRIPTION:www.prescottplowmenass.com \nFood on-site\nInfo:\nGlenn Conway 613-674-2808\nRichard Sauve 613-551-5144\nCharly Leduc 613-880-9100 \nAwards Ceremony\n& Dinner 6 p.m. \nNICKO’S RESTO BAR\n17 HIGH STREET\, VANKLEEK HILL \nThere will be a raffle\nfor a $1\,000 gift certificate\ntoward a VOYAGES DK Travel holiday. \nAwards\nGrand Champion\nSponsored by J. U. Leduc Trophy\nReserve Champion\nSponsored by Prescott County\nPlowmen’s Association \n\n\n	Related
URL:https://thereview.ca/event/61st-annual-prescott-county-plowing-match/
LOCATION:Wandlynn Farm\, 3450 Stardale Rd\, Vankleek Hill\, ON
CATEGORIES:Local,Other
ATTACH;FMTTYPE=image/jpeg:https://thereview.ca/wp-content/uploads/2019/08/LS_sep-12-18-Prescott-County-Plow-Match-19.jpg
GEO:45.5392544;-74.5747894
X-APPLE-STRUCTURED-LOCATION;VALUE=URI;X-ADDRESS=Wandlynn Farm 3450 Stardale Rd Vankleek Hill ON;X-APPLE-RADIUS=500;X-TITLE=3450 Stardale Rd:geo:-74.5747894,45.5392544
END:VEVENT
END:VCALENDAR