BEGIN:VCALENDAR
VERSION:2.0
PRODID:-//The Review Newspaper - ECPv6.15.18//NONSGML v1.0//EN
CALSCALE:GREGORIAN
METHOD:PUBLISH
X-WR-CALNAME:The Review Newspaper
X-ORIGINAL-URL:https://thereview.ca
X-WR-CALDESC:Events for The Review Newspaper
REFRESH-INTERVAL;VALUE=DURATION:PT1H
X-Robots-Tag:noindex
X-PUBLISHED-TTL:PT1H
BEGIN:VTIMEZONE
TZID:America/Toronto
BEGIN:DAYLIGHT
TZOFFSETFROM:-0500
TZOFFSETTO:-0400
TZNAME:EDT
DTSTART:20250309T070000
END:DAYLIGHT
BEGIN:STANDARD
TZOFFSETFROM:-0400
TZOFFSETTO:-0500
TZNAME:EST
DTSTART:20251102T060000
END:STANDARD
BEGIN:DAYLIGHT
TZOFFSETFROM:-0500
TZOFFSETTO:-0400
TZNAME:EDT
DTSTART:20260308T070000
END:DAYLIGHT
BEGIN:STANDARD
TZOFFSETFROM:-0400
TZOFFSETTO:-0500
TZNAME:EST
DTSTART:20261101T060000
END:STANDARD
BEGIN:DAYLIGHT
TZOFFSETFROM:-0500
TZOFFSETTO:-0400
TZNAME:EDT
DTSTART:20270314T070000
END:DAYLIGHT
BEGIN:STANDARD
TZOFFSETFROM:-0400
TZOFFSETTO:-0500
TZNAME:EST
DTSTART:20271107T060000
END:STANDARD
END:VTIMEZONE
BEGIN:VEVENT
DTSTART;TZID=America/Toronto:20260425T090000
DTEND;TZID=America/Toronto:20260425T130000
DTSTAMP:20260422T182425
CREATED:20260421T183040Z
LAST-MODIFIED:20260421T183040Z
UID:10029354-1777107600-1777122000@thereview.ca
SUMMARY:Square Dance Competition
DESCRIPTION:Doors open at 9:00 am\nCompetition Starts at 10:30 am \nCoffee and Snacks will be available for purchase from The Broken Kettle. Pizza for Lunch will be available for purchase. Proceeds towards the VCI Music Club. Music by Sharon Silverson McOuat & fiddlers Glenn Silverson and Neil MacKay \nFor more information or to register please contact:\nkelleyallen@xplornet.ca \n\n\n	Related
URL:https://thereview.ca/event/square-dance-competition-4/
LOCATION:Vankleek Hill Collegiate Institute\, 5814\, 34 Hwy\, Vankleek Hill\, Vankleek Hill\, K0B 1R0\, Canada
ATTACH;FMTTYPE=image/jpeg:https://s3.us-east-2.amazonaws.com/thereview.ca/wp-content/uploads/2026/04/21142945/fiddle-and-dance-events-fb.jpg
GEO:45.5225422;-74.652243
X-APPLE-STRUCTURED-LOCATION;VALUE=URI;X-ADDRESS=Vankleek Hill Collegiate Institute 5814 34 Hwy Vankleek Hill Vankleek Hill K0B 1R0 Canada;X-APPLE-RADIUS=500;X-TITLE=5814\, 34 Hwy:geo:-74.652243,45.5225422
END:VEVENT
END:VCALENDAR