BEGIN:VCALENDAR
VERSION:2.0
PRODID:-//The Review Newspaper - ECPv6.15.18//NONSGML v1.0//EN
CALSCALE:GREGORIAN
METHOD:PUBLISH
X-ORIGINAL-URL:https://thereview.ca
X-WR-CALDESC:Events for The Review Newspaper
REFRESH-INTERVAL;VALUE=DURATION:PT1H
X-Robots-Tag:noindex
X-PUBLISHED-TTL:PT1H
BEGIN:VTIMEZONE
TZID:America/Toronto
BEGIN:DAYLIGHT
TZOFFSETFROM:-0500
TZOFFSETTO:-0400
TZNAME:EDT
DTSTART:20230312T070000
END:DAYLIGHT
BEGIN:STANDARD
TZOFFSETFROM:-0400
TZOFFSETTO:-0500
TZNAME:EST
DTSTART:20231105T060000
END:STANDARD
BEGIN:DAYLIGHT
TZOFFSETFROM:-0500
TZOFFSETTO:-0400
TZNAME:EDT
DTSTART:20240310T070000
END:DAYLIGHT
BEGIN:STANDARD
TZOFFSETFROM:-0400
TZOFFSETTO:-0500
TZNAME:EST
DTSTART:20241103T060000
END:STANDARD
BEGIN:DAYLIGHT
TZOFFSETFROM:-0500
TZOFFSETTO:-0400
TZNAME:EDT
DTSTART:20250309T070000
END:DAYLIGHT
BEGIN:STANDARD
TZOFFSETFROM:-0400
TZOFFSETTO:-0500
TZNAME:EST
DTSTART:20251102T060000
END:STANDARD
BEGIN:DAYLIGHT
TZOFFSETFROM:-0500
TZOFFSETTO:-0400
TZNAME:EDT
DTSTART:20260308T070000
END:DAYLIGHT
BEGIN:STANDARD
TZOFFSETFROM:-0400
TZOFFSETTO:-0500
TZNAME:EST
DTSTART:20261101T060000
END:STANDARD
END:VTIMEZONE
BEGIN:VEVENT
DTSTART;TZID=America/Toronto:20250221T190000
DTEND;TZID=America/Toronto:20250221T230000
DTSTAMP:20260421T230905
CREATED:20250205T165831Z
LAST-MODIFIED:20250205T165831Z
UID:10010178-1740164400-1740178800@thereview.ca
SUMMARY:A Family Fun Night Dance & Square Dance
DESCRIPTION:Vankleek Hill Fiddle and Dance Association & Genesis Cooperative Community present: A Family Fun Night Dance & Square Dance\nMusic by Neil Emberg & Ashley MacLeod-McRae\nSquare Dance Instruction 7:00 to 7:30\nProceeds towards Rideau Hill Camp. \n\n\n	Related
URL:https://thereview.ca/event/a-family-fun-night-dance-square-dance/
LOCATION:Vankleek Hill Arena\, 36 Mill Street\, Vankleek Hill\, Ontario\, K0B 1R0\, Canada
ATTACH;FMTTYPE=image/jpeg:https://s3.us-east-2.amazonaws.com/thereview.ca/wp-content/uploads/2025/02/05115803/fiddle-and-dance.jpg
END:VEVENT
BEGIN:VEVENT
DTSTART;TZID=America/Toronto:20240420T083000
DTEND;TZID=America/Toronto:20240420T130000
DTSTAMP:20260421T230905
CREATED:20240410T162642Z
LAST-MODIFIED:20240410T162653Z
UID:10009896-1713601800-1713618000@thereview.ca
SUMMARY:Indoor Vendor & Yard Sale
DESCRIPTION:The Société Alzheimer Society of Cornwall and District is hosting an indoor vendor and yard sale. \n\n\n\nwww.alzheimer.ca/cornwall \n\n\n\n\n\n\n\n\n\n\n\n\n\n\n	Related
URL:https://thereview.ca/event/indoor-vendor-yard-sale/
LOCATION:Vankleek Hill Arena\, 36 Mill Street\, Vankleek Hill\, Ontario\, K0B 1R0\, Canada
ATTACH;FMTTYPE=image/jpeg:https://thereview.ca/wp-content/uploads/2024/04/Alzheimers.jpg
END:VEVENT
BEGIN:VEVENT
DTSTART;TZID=America/Toronto:20240315T150000
DTEND;TZID=America/Toronto:20240315T180000
DTSTAMP:20260421T230905
CREATED:20240311T182623Z
LAST-MODIFIED:20240311T182633Z
UID:10009874-1710514800-1710525600@thereview.ca
SUMMARY:Free Skate
DESCRIPTION:Related
URL:https://thereview.ca/event/free-skate/
LOCATION:Vankleek Hill Arena\, 36 Mill Street\, Vankleek Hill\, Ontario\, K0B 1R0\, Canada
ATTACH;FMTTYPE=image/jpeg:https://thereview.ca/wp-content/uploads/2024/03/MPP-S-Sarrazin-skate-rgb-2024-03-13.jpg
END:VEVENT
END:VCALENDAR