BEGIN:VCALENDAR
VERSION:2.0
PRODID:-//The Review Newspaper - ECPv6.15.18//NONSGML v1.0//EN
CALSCALE:GREGORIAN
METHOD:PUBLISH
X-ORIGINAL-URL:https://thereview.ca
X-WR-CALDESC:Events for The Review Newspaper
REFRESH-INTERVAL;VALUE=DURATION:PT1H
X-Robots-Tag:noindex
X-PUBLISHED-TTL:PT1H
BEGIN:VTIMEZONE
TZID:America/Toronto
BEGIN:DAYLIGHT
TZOFFSETFROM:-0500
TZOFFSETTO:-0400
TZNAME:EDT
DTSTART:20180311T070000
END:DAYLIGHT
BEGIN:STANDARD
TZOFFSETFROM:-0400
TZOFFSETTO:-0500
TZNAME:EST
DTSTART:20181104T060000
END:STANDARD
BEGIN:DAYLIGHT
TZOFFSETFROM:-0500
TZOFFSETTO:-0400
TZNAME:EDT
DTSTART:20190310T070000
END:DAYLIGHT
BEGIN:STANDARD
TZOFFSETFROM:-0400
TZOFFSETTO:-0500
TZNAME:EST
DTSTART:20191103T060000
END:STANDARD
BEGIN:DAYLIGHT
TZOFFSETFROM:-0500
TZOFFSETTO:-0400
TZNAME:EDT
DTSTART:20200308T070000
END:DAYLIGHT
BEGIN:STANDARD
TZOFFSETFROM:-0400
TZOFFSETTO:-0500
TZNAME:EST
DTSTART:20201101T060000
END:STANDARD
END:VTIMEZONE
BEGIN:VEVENT
DTSTART;TZID=America/Toronto:20191020T140000
DTEND;TZID=America/Toronto:20191020T160000
DTSTAMP:20260421T014134
CREATED:20191007T125107Z
LAST-MODIFIED:20191007T125107Z
UID:10007708-1571580000-1571587200@thereview.ca
SUMMARY:Journalist Ann Hui visits StoryFest 2019 to talk family and food
DESCRIPTION:Globe & Mail reporter Ann Hui will visit Greenwood’s StoryFest 2019 to discuss her book\, Chop Suey Nation. In 2016\, she drove across Canada – from Victoria to Fogo Island – to write about small-town Chinese restaurants and the families who run them. It was only after the story was published that she discovered her own family could have been included: her parents had run their own Chinese restaurant before she was born. This discovery\, and the realization that there was so much of her own history she didn’t yet know\, set her on a time-sensitive mission: to understand how\, after generations living in a poverty-stricken area of Guangdong\, China\, her family had somehow wound up in Canada. She weaves her own family’s story with that of the small-town Chinese restaurant owners across the country in Chop Suey Nation. \n\n\n	Related
URL:https://thereview.ca/event/journalist-ann-hui-visits-storyfest-2019-to-talk-family-and-food/
LOCATION:St. Mary’s Hall\, Hudson\, QC\, 273 Main Rd.\, Hudson\, QC\, Canada
ATTACH;FMTTYPE=image/jpeg:https://thereview.ca/wp-content/uploads/2019/10/139xNxIMG_9579.jpg.pagespeed.ic_.pMmc_xJF15.jpg
ORGANIZER;CN="Greenwood Centre for Living History":MAILTO:history@greenwoodcentre.org
GEO:45.4521751;-74.1161714
X-APPLE-STRUCTURED-LOCATION;VALUE=URI;X-ADDRESS=St. Mary’s Hall Hudson QC 273 Main Rd. Hudson QC Canada;X-APPLE-RADIUS=500;X-TITLE=273 Main Rd.:geo:-74.1161714,45.4521751
END:VEVENT
END:VCALENDAR