BEGIN:VCALENDAR
VERSION:2.0
PRODID:-//The Review Newspaper - ECPv6.15.18//NONSGML v1.0//EN
CALSCALE:GREGORIAN
METHOD:PUBLISH
X-WR-CALNAME:The Review Newspaper
X-ORIGINAL-URL:https://thereview.ca
X-WR-CALDESC:Events for The Review Newspaper
REFRESH-INTERVAL;VALUE=DURATION:PT1H
X-Robots-Tag:noindex
X-PUBLISHED-TTL:PT1H
BEGIN:VTIMEZONE
TZID:America/Toronto
BEGIN:DAYLIGHT
TZOFFSETFROM:-0500
TZOFFSETTO:-0400
TZNAME:EDT
DTSTART:20210314T070000
END:DAYLIGHT
BEGIN:STANDARD
TZOFFSETFROM:-0400
TZOFFSETTO:-0500
TZNAME:EST
DTSTART:20211107T060000
END:STANDARD
BEGIN:DAYLIGHT
TZOFFSETFROM:-0500
TZOFFSETTO:-0400
TZNAME:EDT
DTSTART:20220313T070000
END:DAYLIGHT
BEGIN:STANDARD
TZOFFSETFROM:-0400
TZOFFSETTO:-0500
TZNAME:EST
DTSTART:20221106T060000
END:STANDARD
BEGIN:DAYLIGHT
TZOFFSETFROM:-0500
TZOFFSETTO:-0400
TZNAME:EDT
DTSTART:20230312T070000
END:DAYLIGHT
BEGIN:STANDARD
TZOFFSETFROM:-0400
TZOFFSETTO:-0500
TZNAME:EST
DTSTART:20231105T060000
END:STANDARD
BEGIN:DAYLIGHT
TZOFFSETFROM:-0500
TZOFFSETTO:-0400
TZNAME:EDT
DTSTART:20240310T070000
END:DAYLIGHT
BEGIN:STANDARD
TZOFFSETFROM:-0400
TZOFFSETTO:-0500
TZNAME:EST
DTSTART:20241103T060000
END:STANDARD
BEGIN:DAYLIGHT
TZOFFSETFROM:-0500
TZOFFSETTO:-0400
TZNAME:EDT
DTSTART:20250309T070000
END:DAYLIGHT
BEGIN:STANDARD
TZOFFSETFROM:-0400
TZOFFSETTO:-0500
TZNAME:EST
DTSTART:20251102T060000
END:STANDARD
BEGIN:DAYLIGHT
TZOFFSETFROM:-0500
TZOFFSETTO:-0400
TZNAME:EDT
DTSTART:20260308T070000
END:DAYLIGHT
BEGIN:STANDARD
TZOFFSETFROM:-0400
TZOFFSETTO:-0500
TZNAME:EST
DTSTART:20261101T060000
END:STANDARD
BEGIN:DAYLIGHT
TZOFFSETFROM:-0500
TZOFFSETTO:-0400
TZNAME:EDT
DTSTART:20270314T070000
END:DAYLIGHT
BEGIN:STANDARD
TZOFFSETFROM:-0400
TZOFFSETTO:-0500
TZNAME:EST
DTSTART:20271107T060000
END:STANDARD
END:VTIMEZONE
BEGIN:VTIMEZONE
TZID:UTC
BEGIN:STANDARD
TZOFFSETFROM:+0000
TZOFFSETTO:+0000
TZNAME:UTC
DTSTART:20210101T000000
END:STANDARD
END:VTIMEZONE
BEGIN:VEVENT
DTSTART;TZID=America/Toronto:20260217T170000
DTEND;TZID=America/Toronto:20260217T190000
DTSTAMP:20260424T105748
CREATED:20260211T130032Z
LAST-MODIFIED:20260209T185819Z
UID:10029306-1771347600-1771354800@thereview.ca
SUMMARY:Pancake Supper
DESCRIPTION:Pancakes\, ham\, sausages\, coleslaw\, local maple syrup and  homemade baked beans.\nAdults $10\, Kids 6-10 $5\, Kids under 5 eat free. \nEveryone Welcome! \n\n\n	Related
URL:https://thereview.ca/event/pancake-supper-4/
LOCATION:St. John’s Anglican Church Hall\, 5845 Church St.\, Vankleek Hill \, Vankleek Hill \, Ontario 
ATTACH;FMTTYPE=image/jpeg:https://s3.us-east-2.amazonaws.com/thereview.ca/wp-content/uploads/2026/02/09135739/st-johns-fb-event.jpg
GEO:45.520574;-74.6516839
X-APPLE-STRUCTURED-LOCATION;VALUE=URI;X-ADDRESS=St. John’s Anglican Church Hall 5845 Church St. Vankleek Hill  Vankleek Hill  Ontario;X-APPLE-RADIUS=500;X-TITLE=5845 Church St.\, Vankleek Hill:geo:-74.6516839,45.520574
END:VEVENT
BEGIN:VEVENT
DTSTART;TZID=America/Toronto:20250430T190000
DTEND;TZID=America/Toronto:20250430T220000
DTSTAMP:20260424T105748
CREATED:20250424T174527Z
LAST-MODIFIED:20250424T174913Z
UID:10010216-1746039600-1746050400@thereview.ca
SUMMARY:Euchre Party
DESCRIPTION:APRIL SHOWERS BRING ANOTHER! EUCHRE PARTY! \nThere is always lots of laughter\, chatter\, prizes and a delicious lunch after the games are played. Feel free to invite friends and family. If you know someone who would like to learn how to play or just want to sharpen their Euchre skills\, we now have a table or 2\, reserved for these folks with someone to help with the game.\nWe look forward to seeing you on the 30th. \nAdmission $8 \n\n\n	Related
URL:https://thereview.ca/event/euchre-party-3/
LOCATION:St. John’s Anglican Church Hall\, 5845 Church St.\, Vankleek Hill \, Vankleek Hill \, Ontario 
ATTACH;FMTTYPE=image/jpeg:https://s3.us-east-2.amazonaws.com/thereview.ca/wp-content/uploads/2025/04/24134515/euchre-carkner.jpg
GEO:45.520574;-74.6516839
X-APPLE-STRUCTURED-LOCATION;VALUE=URI;X-ADDRESS=St. John’s Anglican Church Hall 5845 Church St. Vankleek Hill  Vankleek Hill  Ontario;X-APPLE-RADIUS=500;X-TITLE=5845 Church St.\, Vankleek Hill:geo:-74.6516839,45.520574
END:VEVENT
BEGIN:VEVENT
DTSTART;TZID=America/Toronto:20250327T190000
DTEND;TZID=America/Toronto:20250327T220000
DTSTAMP:20260424T105748
CREATED:20250311T184252Z
LAST-MODIFIED:20250311T184419Z
UID:10010193-1743102000-1743112800@thereview.ca
SUMMARY:Euchre Party!
DESCRIPTION:HOPE YOU WILL JOIN US! \nCOST: $8.00 per person\nPart of the proceeds will be donated to the Parish Outreach Project to feed the hungry and provide needed supplies\, clothing. \nWHAT TO EXPECT: cards\, laughter\, prizes and a delicious lunch after the games. \n\n\n	Related
URL:https://thereview.ca/event/euchre-party-2/
LOCATION:St. John’s Anglican Church Hall\, 5845 Church St.\, Vankleek Hill \, Vankleek Hill \, Ontario 
ATTACH;FMTTYPE=image/jpeg:https://s3.us-east-2.amazonaws.com/thereview.ca/wp-content/uploads/2025/03/11144235/euchre.jpg
GEO:45.520574;-74.6516839
X-APPLE-STRUCTURED-LOCATION;VALUE=URI;X-ADDRESS=St. John’s Anglican Church Hall 5845 Church St. Vankleek Hill  Vankleek Hill  Ontario;X-APPLE-RADIUS=500;X-TITLE=5845 Church St.\, Vankleek Hill:geo:-74.6516839,45.520574
END:VEVENT
BEGIN:VEVENT
DTSTART;TZID=America/Toronto:20240912T190000
DTEND;TZID=America/Toronto:20240912T210000
DTSTAMP:20260424T105748
CREATED:20240827T174516Z
LAST-MODIFIED:20240827T174516Z
UID:10010074-1726167600-1726174800@thereview.ca
SUMMARY:Euchre
DESCRIPTION:IT’S EUCHRE TIME AGAIN HOPE YOU WILL JOIN US\nEnjoy playing cards\, seeing friends and making new ones and good conversations and laughter. To help with funds for repairs of the hall foundation and the church bell. \n$8.00 per person\nPRIZES\nRefreshments after the card games. \n\n\n	Related
URL:https://thereview.ca/event/euchre-4/
LOCATION:St. John’s Anglican Church Hall\, 5845 Church St.\, Vankleek Hill \, Vankleek Hill \, Ontario 
ATTACH;FMTTYPE=image/jpeg:https://s3.us-east-2.amazonaws.com/thereview.ca/wp-content/uploads/2024/08/27134459/euchre.jpg
GEO:45.520574;-74.6516839
X-APPLE-STRUCTURED-LOCATION;VALUE=URI;X-ADDRESS=St. John’s Anglican Church Hall 5845 Church St. Vankleek Hill  Vankleek Hill  Ontario;X-APPLE-RADIUS=500;X-TITLE=5845 Church St.\, Vankleek Hill:geo:-74.6516839,45.520574
END:VEVENT
BEGIN:VEVENT
DTSTART;TZID=America/Toronto:20240817T100000
DTEND;TZID=America/Toronto:20240817T160000
DTSTAMP:20260424T105748
CREATED:20240115T153833Z
LAST-MODIFIED:20240618T174047Z
UID:10009560-1723888800-1723910400@thereview.ca
SUMMARY:Art in the Garden
DESCRIPTION:Back for the 3rd season\, St. John’s Anglican Church is hosting it’s annual Art in the Garden. A outdoor art exhibit featuring hand made one-of-a-kind art by visual artists in a wide range of styles and mediums. \n\n\n\n\n\n\n\n\n\n\n\n\n\n\n	Related
URL:https://thereview.ca/event/art-in-the-garden-3/
LOCATION:St. John’s Anglican Church Hall\, 5845 Church St.\, Vankleek Hill \, Vankleek Hill \, Ontario 
CATEGORIES:Arts & Culture
ATTACH;FMTTYPE=image/jpeg:https://thereview.ca/wp-content/uploads/2024/01/Art-in-the-garden.jpg
ORGANIZER;CN="St. John's Anglican Church":MAILTO:randal.storey@gmail.com
GEO:45.520574;-74.6516839
X-APPLE-STRUCTURED-LOCATION;VALUE=URI;X-ADDRESS=St. John’s Anglican Church Hall 5845 Church St. Vankleek Hill  Vankleek Hill  Ontario;X-APPLE-RADIUS=500;X-TITLE=5845 Church St.\, Vankleek Hill:geo:-74.6516839,45.520574
END:VEVENT
BEGIN:VEVENT
DTSTART;TZID=America/Toronto:20240523T190000
DTEND;TZID=America/Toronto:20240523T210000
DTSTAMP:20260424T105748
CREATED:20240506T181343Z
LAST-MODIFIED:20240506T181352Z
UID:10009933-1716490800-1716498000@thereview.ca
SUMMARY:Euchre
DESCRIPTION:You are invited to play EUCHRE Delicious lunch\, prizes and fun!$8 per person.Bring a friend – or two!! \n\n\n\n\n\n\n\n\n\n\n\n\n\n\n	Related
URL:https://thereview.ca/event/euchre-3/
LOCATION:St. John’s Anglican Church Hall\, 5845 Church St.\, Vankleek Hill \, Vankleek Hill \, Ontario 
ATTACH;FMTTYPE=image/jpeg:https://thereview.ca/wp-content/uploads/2024/05/Euchre-events.jpg
GEO:45.520574;-74.6516839
X-APPLE-STRUCTURED-LOCATION;VALUE=URI;X-ADDRESS=St. John’s Anglican Church Hall 5845 Church St. Vankleek Hill  Vankleek Hill  Ontario;X-APPLE-RADIUS=500;X-TITLE=5845 Church St.\, Vankleek Hill:geo:-74.6516839,45.520574
END:VEVENT
BEGIN:VEVENT
DTSTART;TZID=America/Toronto:20240419T163000
DTEND;TZID=America/Toronto:20240419T190000
DTSTAMP:20260424T105748
CREATED:20240327T170422Z
LAST-MODIFIED:20240327T170432Z
UID:10009884-1713544200-1713553200@thereview.ca
SUMMARY:Turkey Supper
DESCRIPTION:Dessert Included. Takeout available. \n\n\n\nAdults $20\, Children $10\, Under 5 Free \n\n\n\n\n\n\n\n\n\n\n\n\n	Related
URL:https://thereview.ca/event/turkey-supper-3/
LOCATION:St. John’s Anglican Church Hall\, 5845 Church St.\, Vankleek Hill \, Vankleek Hill \, Ontario 
ATTACH;FMTTYPE=image/jpeg:https://thereview.ca/wp-content/uploads/2024/03/St.-Johns-Turkey-Supper.jpg
GEO:45.520574;-74.6516839
X-APPLE-STRUCTURED-LOCATION;VALUE=URI;X-ADDRESS=St. John’s Anglican Church Hall 5845 Church St. Vankleek Hill  Vankleek Hill  Ontario;X-APPLE-RADIUS=500;X-TITLE=5845 Church St.\, Vankleek Hill:geo:-74.6516839,45.520574
END:VEVENT
BEGIN:VEVENT
DTSTART;TZID=America/Toronto:20240321T190000
DTEND;TZID=America/Toronto:20240321T210000
DTSTAMP:20260424T105748
CREATED:20240313T140016Z
LAST-MODIFIED:20240313T140025Z
UID:10009878-1711047600-1711054800@thereview.ca
SUMMARY:It's Euchre Time Again
DESCRIPTION:It is a time for laughter\, card playing\, prizes and a delicious lunch to end the evening. \n\n\n\n$8 per person. Proceeds from this event will go to the Prescott-Russell Residence Foundation Fundraiser to purchase LIFTS for each room in the new building. \n\n\n\nWe look forward to seeing our card playing friends again and perhaps meet some new ones. \n\n\n\n\n\n\n\n\n\n\n\n\n\n\n	Related
URL:https://thereview.ca/event/its-euchre-time-again/
LOCATION:St. John’s Anglican Church Hall\, 5845 Church St.\, Vankleek Hill \, Vankleek Hill \, Ontario 
ATTACH;FMTTYPE=image/jpeg:https://thereview.ca/wp-content/uploads/2024/03/Euchre.jpg
GEO:45.520574;-74.6516839
X-APPLE-STRUCTURED-LOCATION;VALUE=URI;X-ADDRESS=St. John’s Anglican Church Hall 5845 Church St. Vankleek Hill  Vankleek Hill  Ontario;X-APPLE-RADIUS=500;X-TITLE=5845 Church St.\, Vankleek Hill:geo:-74.6516839,45.520574
END:VEVENT
BEGIN:VEVENT
DTSTART;TZID=America/Toronto:20240213T170000
DTEND;TZID=America/Toronto:20240213T190000
DTSTAMP:20260424T105748
CREATED:20240130T193754Z
LAST-MODIFIED:20240130T193804Z
UID:10009582-1707843600-1707850800@thereview.ca
SUMMARY:Pancake Supper
DESCRIPTION:Adults $12\, Kids 5-7yrs $7\, Kids under 5 free. \n\n\n\nHomemade baked beans\, ham\, sausages & local maple syrup. \n\n\n\n\n\n\n\n\n\n\n\n\n\n\n	Related
URL:https://thereview.ca/event/pancake-supper-3/
LOCATION:St. John’s Anglican Church Hall\, 5845 Church St.\, Vankleek Hill \, Vankleek Hill \, Ontario 
ATTACH;FMTTYPE=image/png:https://thereview.ca/wp-content/uploads/2024/01/PdfImage-8.png
GEO:45.520574;-74.6516839
X-APPLE-STRUCTURED-LOCATION;VALUE=URI;X-ADDRESS=St. John’s Anglican Church Hall 5845 Church St. Vankleek Hill  Vankleek Hill  Ontario;X-APPLE-RADIUS=500;X-TITLE=5845 Church St.\, Vankleek Hill:geo:-74.6516839,45.520574
END:VEVENT
BEGIN:VEVENT
DTSTART;TZID=America/Toronto:20240111T183000
DTEND;TZID=America/Toronto:20240111T193000
DTSTAMP:20260424T105748
CREATED:20231115T152026Z
LAST-MODIFIED:20231115T152036Z
UID:10009284-1704997800-1705001400@thereview.ca
SUMMARY:Rosie's Yoga
DESCRIPTION:Tuesdays 5-6pm \n\n\n\nThursdays 6:30-7:30pm \n\n\n\nBeginners (All welcome) \n\n\n\n$15/class drop in or pay monthly \n\n\n\nCall 613-266-5876 \n\n\n\n\n\n\n\n\n\n\n\n\n\n\n	Related
URL:https://thereview.ca/event/rosies-yoga/2024-01-11/
LOCATION:St. John’s Anglican Church Hall\, 5845 Church St.\, Vankleek Hill \, Vankleek Hill \, Ontario 
ATTACH;FMTTYPE=image/png:https://thereview.ca/wp-content/uploads/2023/11/yoga.png
GEO:45.520574;-74.6516839
X-APPLE-STRUCTURED-LOCATION;VALUE=URI;X-ADDRESS=St. John’s Anglican Church Hall 5845 Church St. Vankleek Hill  Vankleek Hill  Ontario;X-APPLE-RADIUS=500;X-TITLE=5845 Church St.\, Vankleek Hill:geo:-74.6516839,45.520574
END:VEVENT
BEGIN:VEVENT
DTSTART;TZID=America/Toronto:20231203T143000
DTEND;TZID=America/Toronto:20231203T153000
DTSTAMP:20260424T105748
CREATED:20231122T154647Z
LAST-MODIFIED:20231122T154658Z
UID:10009288-1701613800-1701617400@thereview.ca
SUMMARY:Service of Comfort & Hope
DESCRIPTION:During this Christmas season\, are you struggling with missing family and friends or with health\, loneliness\, anxiety or hopelessness? We would like to extend an invitation to you and to families of our community to attend an ecumenical\, bilingual Service of Comfort and Hope lead by Rev Bob Albert\, Mgr Léo Villeneuve\, and Rev James Douglas. Sunday\, December 3rd\, 2023 at 2:30pm St. John’s Anglican Church\, 5845 Hwy 34\, Vankleek Hill Puissiez-vous trouver de la force dans les bras chaleureux de vos amis en cette période de Noël. May you find strength in the warm embrace of friends this Christmas season. \n\n\n\n\n\n\n\n\n\n\n\n\n\n\n	Related
URL:https://thereview.ca/event/service-of-comfort-hope/
LOCATION:St. John’s Anglican Church Hall\, 5845 Church St.\, Vankleek Hill \, Vankleek Hill \, Ontario 
ATTACH;FMTTYPE=image/png:https://thereview.ca/wp-content/uploads/2023/11/PdfImage-9.png
GEO:45.520574;-74.6516839
X-APPLE-STRUCTURED-LOCATION;VALUE=URI;X-ADDRESS=St. John’s Anglican Church Hall 5845 Church St. Vankleek Hill  Vankleek Hill  Ontario;X-APPLE-RADIUS=500;X-TITLE=5845 Church St.\, Vankleek Hill:geo:-74.6516839,45.520574
END:VEVENT
BEGIN:VEVENT
DTSTART;TZID=America/Toronto:20231129T190000
DTEND;TZID=America/Toronto:20231129T210000
DTSTAMP:20260424T105748
CREATED:20231122T155534Z
LAST-MODIFIED:20231122T155543Z
UID:10009291-1701284400-1701291600@thereview.ca
SUMMARY:Euchre
DESCRIPTION:It’s our last Euchre Card Party in 2023! at the St. John’s Anglican Church Hall in Vankleek Hill\, near the Higginson tower. Wednesday\, November 29\, at 7 p.m. Join us for cards\, fun\, prizes\, laughter and a delicious lunch. $8 per person. Please bring your friends and an item for the food bank. We look forward to having you join us wearing a Christmas sweater if possible.Merry Christmas and see you next year! \n\n\n\n\n\n\n\n\n\n\n\n\n\n\n	Related
URL:https://thereview.ca/event/euchre-2/
LOCATION:St. John’s Anglican Church Hall\, 5845 Church St.\, Vankleek Hill \, Vankleek Hill \, Ontario 
ATTACH;FMTTYPE=image/png:https://thereview.ca/wp-content/uploads/2023/11/PdfImage-12.png
GEO:45.520574;-74.6516839
X-APPLE-STRUCTURED-LOCATION;VALUE=URI;X-ADDRESS=St. John’s Anglican Church Hall 5845 Church St. Vankleek Hill  Vankleek Hill  Ontario;X-APPLE-RADIUS=500;X-TITLE=5845 Church St.\, Vankleek Hill:geo:-74.6516839,45.520574
END:VEVENT
BEGIN:VEVENT
DTSTART;TZID=America/Toronto:20231108T190000
DTEND;TZID=America/Toronto:20231108T210000
DTSTAMP:20260424T105748
CREATED:20231025T152713Z
LAST-MODIFIED:20231025T152724Z
UID:10009249-1699470000-1699477200@thereview.ca
SUMMARY:Euchre Night
DESCRIPTION:Several games of euchre and lots of fun\, followed by prizes\, then a delicious lunch. \n\n\n\n$8 per person. Funds raised will go to help pay for our new fridge.  \n\n\n\n\n\n\n\n\n\n\n\n\n\n\n	Related
URL:https://thereview.ca/event/euchre-night/
LOCATION:St. John’s Anglican Church Hall\, 5845 Church St.\, Vankleek Hill \, Vankleek Hill \, Ontario 
ATTACH;FMTTYPE=image/png:https://thereview.ca/wp-content/uploads/2023/10/PdfImage-15.png
GEO:45.520574;-74.6516839
X-APPLE-STRUCTURED-LOCATION;VALUE=URI;X-ADDRESS=St. John’s Anglican Church Hall 5845 Church St. Vankleek Hill  Vankleek Hill  Ontario;X-APPLE-RADIUS=500;X-TITLE=5845 Church St.\, Vankleek Hill:geo:-74.6516839,45.520574
END:VEVENT
BEGIN:VEVENT
DTSTART;TZID=America/Toronto:20231011T190000
DTEND;TZID=America/Toronto:20231011T210000
DTSTAMP:20260424T105748
CREATED:20230927T144018Z
LAST-MODIFIED:20230927T144106Z
UID:10009102-1697050800-1697058000@thereview.ca
SUMMARY:It is a Euchre Party!
DESCRIPTION:Please join us for cards\, fun\, laughter\, prizes anda delicious lunch.This event will help us to purchase a new fridge \n\n\n\n$8 per person. \n\n\n\n\n\n\n\n\n\n\n\n\n\n\n	Related
URL:https://thereview.ca/event/it-is-a-euchre-party/
LOCATION:St. John’s Anglican Church Hall\, 5845 Church St.\, Vankleek Hill \, Vankleek Hill \, Ontario 
ATTACH;FMTTYPE=image/png:https://thereview.ca/wp-content/uploads/2023/09/PdfImage-5.png
GEO:45.520574;-74.6516839
X-APPLE-STRUCTURED-LOCATION;VALUE=URI;X-ADDRESS=St. John’s Anglican Church Hall 5845 Church St. Vankleek Hill  Vankleek Hill  Ontario;X-APPLE-RADIUS=500;X-TITLE=5845 Church St.\, Vankleek Hill:geo:-74.6516839,45.520574
END:VEVENT
BEGIN:VEVENT
DTSTART;TZID=America/Toronto:20231004T170000
DTEND;TZID=America/Toronto:20231004T190000
DTSTAMP:20260424T105748
CREATED:20230927T144434Z
LAST-MODIFIED:20230927T144444Z
UID:10009103-1696438800-1696446000@thereview.ca
SUMMARY:BLESSING of the ANIMALS 2023
DESCRIPTION:In the spirit of St. Francis of Assisi\, Blessing of the animals. \n\n\n\n\n\n\n\n\n\n\n\n\n\n\n	Related
URL:https://thereview.ca/event/blessing-of-the-animals-2023/
LOCATION:St. John’s Anglican Church Hall\, 5845 Church St.\, Vankleek Hill \, Vankleek Hill \, Ontario 
ATTACH;FMTTYPE=image/png:https://thereview.ca/wp-content/uploads/2023/09/PdfImage-6.png
GEO:45.520574;-74.6516839
X-APPLE-STRUCTURED-LOCATION;VALUE=URI;X-ADDRESS=St. John’s Anglican Church Hall 5845 Church St. Vankleek Hill  Vankleek Hill  Ontario;X-APPLE-RADIUS=500;X-TITLE=5845 Church St.\, Vankleek Hill:geo:-74.6516839,45.520574
END:VEVENT
BEGIN:VEVENT
DTSTART;TZID=America/Toronto:20230922T000000
DTEND;TZID=America/Toronto:20230922T235959
DTSTAMP:20260424T105748
CREATED:20230823T183425Z
LAST-MODIFIED:20230823T183434Z
UID:10008603-1695340800-1695427199@thereview.ca
SUMMARY:Roast Beef Supper
DESCRIPTION:Save the date… details to follow! \n\n\n\n\n\n\n\n\n\n\n\n\n\n\n	Related
URL:https://thereview.ca/event/roast-beef-supper-2/
LOCATION:St. John’s Anglican Church Hall\, 5845 Church St.\, Vankleek Hill \, Vankleek Hill \, Ontario 
ATTACH;FMTTYPE=image/jpeg:https://thereview.ca/wp-content/uploads/2018/05/roast-beef.jpg
GEO:45.520574;-74.6516839
X-APPLE-STRUCTURED-LOCATION;VALUE=URI;X-ADDRESS=St. John’s Anglican Church Hall 5845 Church St. Vankleek Hill  Vankleek Hill  Ontario;X-APPLE-RADIUS=500;X-TITLE=5845 Church St.\, Vankleek Hill:geo:-74.6516839,45.520574
END:VEVENT
BEGIN:VEVENT
DTSTART;TZID=America/Toronto:20230524T190000
DTEND;TZID=America/Toronto:20230524T230000
DTSTAMP:20260424T105748
CREATED:20230517T173915Z
LAST-MODIFIED:20230517T173925Z
UID:10008442-1684954800-1684969200@thereview.ca
SUMMARY:It's time to play Euchre again!
DESCRIPTION:Are you ready to play Euchre again? \n\n\n\n$8 per person \n\n\n\nPlease join us for fun\, laughter\, prizes\, and a delicious lunch. \n\n\n\nWe look forward to seeing our card-playing friends again. Why not invite friends to join you? \n\n\n\nThanks for supporting our fundraiser. \n\n\n\n\n\n\n\n\n\n\n\n\n\n\n	Related
URL:https://thereview.ca/event/its-time-to-play-euchre-again/
LOCATION:St. John’s Anglican Church Hall\, 5845 Church St.\, Vankleek Hill \, Vankleek Hill \, Ontario 
CATEGORIES:Local
ATTACH;FMTTYPE=image/jpeg:https://thereview.ca/wp-content/uploads/2018/05/deck-of-cards-web.jpeg
GEO:45.520574;-74.6516839
X-APPLE-STRUCTURED-LOCATION;VALUE=URI;X-ADDRESS=St. John’s Anglican Church Hall 5845 Church St. Vankleek Hill  Vankleek Hill  Ontario;X-APPLE-RADIUS=500;X-TITLE=5845 Church St.\, Vankleek Hill:geo:-74.6516839,45.520574
END:VEVENT
BEGIN:VEVENT
DTSTART;TZID=America/Toronto:20230412T190000
DTEND;TZID=America/Toronto:20230412T230000
DTSTAMP:20260424T105748
CREATED:20230404T195426Z
LAST-MODIFIED:20230404T195434Z
UID:10008427-1681326000-1681340400@thereview.ca
SUMMARY:Euchre
DESCRIPTION:Are you ready to play Euchre again? \n\n\n\n$8 per person \n\n\n\nPlease join us for fun\, laughter\, prizes\, and a delicious lunch. \n\n\n\nWe look forward to seeing our card-playing friends again. Why not invite friends to join you? \n\n\n\n\n\n\n\n\n\n\n\n\n\n\n	Related
URL:https://thereview.ca/event/euchre/
LOCATION:St. John’s Anglican Church Hall\, 5845 Church St.\, Vankleek Hill \, Vankleek Hill \, Ontario 
CATEGORIES:Local
ATTACH;FMTTYPE=image/jpeg:https://thereview.ca/wp-content/uploads/2018/05/deck-of-cards-web.jpeg
GEO:45.520574;-74.6516839
X-APPLE-STRUCTURED-LOCATION;VALUE=URI;X-ADDRESS=St. John’s Anglican Church Hall 5845 Church St. Vankleek Hill  Vankleek Hill  Ontario;X-APPLE-RADIUS=500;X-TITLE=5845 Church St.\, Vankleek Hill:geo:-74.6516839,45.520574
END:VEVENT
BEGIN:VEVENT
DTSTART;TZID=UTC:20230221T170000
DTEND;TZID=UTC:20230221T190000
DTSTAMP:20260424T105748
CREATED:20230208T182301Z
LAST-MODIFIED:20230208T182311Z
UID:10008007-1676998800-1677006000@thereview.ca
SUMMARY:Pancake supper
DESCRIPTION:Menu:-ham-sausages-homemade baked beans-local maple syrup \n\n\n\nAdults: $12Kids 5-10: $7Kids under 5: free \n\n\n\n\n\n\n\n\n\n\n\n\n\n\n	Related
URL:https://thereview.ca/event/pancake-supper-2/
LOCATION:St. John’s Anglican Church Hall\, 5845 Church St.\, Vankleek Hill \, Vankleek Hill \, Ontario 
CATEGORIES:Local
ATTACH;FMTTYPE=image/jpeg:https://thereview.ca/wp-content/uploads/2018/01/pancakes_web.jpg
ORGANIZER;CN="St. John's Anglican Church":MAILTO:randal.storey@gmail.com
GEO:45.520574;-74.6516839
X-APPLE-STRUCTURED-LOCATION;VALUE=URI;X-ADDRESS=St. John’s Anglican Church Hall 5845 Church St. Vankleek Hill  Vankleek Hill  Ontario;X-APPLE-RADIUS=500;X-TITLE=5845 Church St.\, Vankleek Hill:geo:-74.6516839,45.520574
END:VEVENT
BEGIN:VEVENT
DTSTART;TZID=UTC:20230105T180000
DTEND;TZID=UTC:20230105T210000
DTSTAMP:20260424T105748
CREATED:20221214T200420Z
LAST-MODIFIED:20221214T200430Z
UID:10008371-1672941600-1672952400@thereview.ca
SUMMARY:Annual General Meeting
DESCRIPTION:Members of the Public are invited to participate between 6 & 7:30 pm. After 7:30 pm. the meeting is open to Board Members only. \n\n\n\n\n\n\n\n\n\n\n\n\n\n\n	Related
URL:https://thereview.ca/event/annual-general-meeting-10/
LOCATION:St. John’s Anglican Church Hall\, 5845 Church St.\, Vankleek Hill \, Vankleek Hill \, Ontario 
CATEGORIES:Local
GEO:45.520574;-74.6516839
X-APPLE-STRUCTURED-LOCATION;VALUE=URI;X-ADDRESS=St. John’s Anglican Church Hall 5845 Church St. Vankleek Hill  Vankleek Hill  Ontario;X-APPLE-RADIUS=500;X-TITLE=5845 Church St.\, Vankleek Hill:geo:-74.6516839,45.520574
END:VEVENT
BEGIN:VEVENT
DTSTART;TZID=UTC:20221116T190000
DTEND;TZID=UTC:20221116T230000
DTSTAMP:20260424T105748
CREATED:20221109T194658Z
LAST-MODIFIED:20221109T194659Z
UID:10007897-1668625200-1668639600@thereview.ca
SUMMARY:It's a Euchre Card Party
DESCRIPTION:Please join us for cards\, fun\, laughter\, prizes\, and a delicious lunch. \nBring a friend or 2 or 3 or more. \nThis event will help keep our church and hall warm this winter. Don’t miss it! \n\n\n	Related
URL:https://thereview.ca/event/its-a-euchre-card-party-2/
LOCATION:St. John’s Anglican Church Hall\, 5845 Church St.\, Vankleek Hill \, Vankleek Hill \, Ontario 
CATEGORIES:Local
ATTACH;FMTTYPE=image/jpeg:https://thereview.ca/wp-content/uploads/2018/05/deck-of-cards-web.jpeg
GEO:45.520574;-74.6516839
X-APPLE-STRUCTURED-LOCATION;VALUE=URI;X-ADDRESS=St. John’s Anglican Church Hall 5845 Church St. Vankleek Hill  Vankleek Hill  Ontario;X-APPLE-RADIUS=500;X-TITLE=5845 Church St.\, Vankleek Hill:geo:-74.6516839,45.520574
END:VEVENT
BEGIN:VEVENT
DTSTART;TZID=UTC:20220727T190000
DTEND;TZID=UTC:20220727T220000
DTSTAMP:20260424T105748
CREATED:20220712T164610Z
LAST-MODIFIED:20220721T210131Z
UID:10008295-1658948400-1658959200@thereview.ca
SUMMARY:Euchre Card Party
DESCRIPTION:3 \n\n\n	Related
URL:https://thereview.ca/event/euchre-card-party-3/
LOCATION:St. John’s Anglican Church Hall\, 5845 Church St.\, Vankleek Hill \, Vankleek Hill \, Ontario 
CATEGORIES:Local
ATTACH;FMTTYPE=image/jpeg:https://thereview.ca/wp-content/uploads/2022/07/CD350724-635D-4D02-8F9C-1E85FD09306A.jpeg
GEO:45.520574;-74.6516839
X-APPLE-STRUCTURED-LOCATION;VALUE=URI;X-ADDRESS=St. John’s Anglican Church Hall 5845 Church St. Vankleek Hill  Vankleek Hill  Ontario;X-APPLE-RADIUS=500;X-TITLE=5845 Church St.\, Vankleek Hill:geo:-74.6516839,45.520574
END:VEVENT
BEGIN:VEVENT
DTSTART;TZID=America/Toronto:20220518T190000
DTEND;TZID=America/Toronto:20220518T210000
DTSTAMP:20260424T105748
CREATED:20190417T145606Z
LAST-MODIFIED:20220504T184140Z
UID:10007096-1652900400-1652907600@thereview.ca
SUMMARY:It's a Euchre Card Party
DESCRIPTION:IT’S A EUCHRE CARD PARTY\nWednesday\, May 18 at 7 p.m. at the Anglican Parish Hall in Vankleek Hill (St. John’s)\nPlease join us for cards\, fun\, laughter\, prizes and a delicious lunch.\n$8 per person.\nBring a friend or 2 or 3 or more.\nThe admission proceeds will be donated to the United Church in Grenville for their work with the Ukrainian people who they are sponsoring to come  to Grenville. \n\n\n	Related
URL:https://thereview.ca/event/euchre-card-party/
LOCATION:St. John’s Anglican Church Hall\, 5845 Church St.\, Vankleek Hill \, Vankleek Hill \, Ontario 
CATEGORIES:Local
ATTACH;FMTTYPE=image/jpeg:https://thereview.ca/wp-content/uploads/2018/05/deck-of-cards-web.jpeg
GEO:45.520574;-74.6516839
X-APPLE-STRUCTURED-LOCATION;VALUE=URI;X-ADDRESS=St. John’s Anglican Church Hall 5845 Church St. Vankleek Hill  Vankleek Hill  Ontario;X-APPLE-RADIUS=500;X-TITLE=5845 Church St.\, Vankleek Hill:geo:-74.6516839,45.520574
END:VEVENT
BEGIN:VEVENT
DTSTART;TZID=America/Toronto:20220429T114500
DTEND;TZID=America/Toronto:20220429T150000
DTSTAMP:20260424T105748
CREATED:20220418T160334Z
LAST-MODIFIED:20220418T183350Z
UID:10007726-1651232700-1651244400@thereview.ca
SUMMARY:Do Drop In Luncheon
DESCRIPTION:St. John’s Anglican Church VKH ‘DO DROP IN’ will be held on Friday April 29th 2022 at 11:45 am at the Anglican Hall.  Baked ham\, beans\, scalloped potatoes\, coleslaw and homemade desserts will be served\, entertainment by the Vankleek Hill Fiddlers\, door prizes.  Cost: $8.00.  Proceeds will be donated to the Primate’s World Relief  (PWRDF) Ukraine Emergency Fund.  Please call 613-678-6244 to reserve your spot. \n\n\n	Related
URL:https://thereview.ca/event/do-drop-in-luncheon/
LOCATION:St. John’s Anglican Church Hall\, 5845 Church St.\, Vankleek Hill \, Vankleek Hill \, Ontario 
CATEGORIES:Local
ATTACH;FMTTYPE=image/jpeg:https://thereview.ca/wp-content/uploads/2022/04/St.-Johns-Anglican-Church-VKH.jpg
ORGANIZER;CN="Do Drop In%2C St. John's Anglican Church":MAILTO:dwmcmillan@xplornet.ca
GEO:45.520574;-74.6516839
X-APPLE-STRUCTURED-LOCATION;VALUE=URI;X-ADDRESS=St. John’s Anglican Church Hall 5845 Church St. Vankleek Hill  Vankleek Hill  Ontario;X-APPLE-RADIUS=500;X-TITLE=5845 Church St.\, Vankleek Hill:geo:-74.6516839,45.520574
END:VEVENT
END:VCALENDAR