BEGIN:VCALENDAR
VERSION:2.0
PRODID:-//The Review Newspaper - ECPv6.15.18//NONSGML v1.0//EN
CALSCALE:GREGORIAN
METHOD:PUBLISH
X-ORIGINAL-URL:https://thereview.ca
X-WR-CALDESC:Events for The Review Newspaper
REFRESH-INTERVAL;VALUE=DURATION:PT1H
X-Robots-Tag:noindex
X-PUBLISHED-TTL:PT1H
BEGIN:VTIMEZONE
TZID:America/Toronto
BEGIN:DAYLIGHT
TZOFFSETFROM:-0500
TZOFFSETTO:-0400
TZNAME:EDT
DTSTART:20180311T070000
END:DAYLIGHT
BEGIN:STANDARD
TZOFFSETFROM:-0400
TZOFFSETTO:-0500
TZNAME:EST
DTSTART:20181104T060000
END:STANDARD
BEGIN:DAYLIGHT
TZOFFSETFROM:-0500
TZOFFSETTO:-0400
TZNAME:EDT
DTSTART:20190310T070000
END:DAYLIGHT
BEGIN:STANDARD
TZOFFSETFROM:-0400
TZOFFSETTO:-0500
TZNAME:EST
DTSTART:20191103T060000
END:STANDARD
BEGIN:DAYLIGHT
TZOFFSETFROM:-0500
TZOFFSETTO:-0400
TZNAME:EDT
DTSTART:20200308T070000
END:DAYLIGHT
BEGIN:STANDARD
TZOFFSETFROM:-0400
TZOFFSETTO:-0500
TZNAME:EST
DTSTART:20201101T060000
END:STANDARD
END:VTIMEZONE
BEGIN:VEVENT
DTSTART;TZID=America/Toronto:20191024T193000
DTEND;TZID=America/Toronto:20191024T213000
DTSTAMP:20260422T214323
CREATED:20191007T125151Z
LAST-MODIFIED:20191007T125151Z
UID:10007717-1571945400-1571952600@thereview.ca
SUMMARY:Historian D’Arcy Jenish discusses the 1970 October Crisis at StoryFest 2019
DESCRIPTION:D’Arcy Jenish will join Greenwood’s StoryFest 2019 to discuss his book\, The Making of the October Crisis\, so that we can take a look back almost 50 years ago at the turmoil that gripped Quebec and shook the rest of the country. Jenish uses his superior interviewing\, research and writing skills to delve into the conflict in his page-turning account. A Q&A will follow his talk and reading. Copies of his book will be available for purchase and signing. \n\n\n	Related
URL:https://thereview.ca/event/historian-darcy-jenish-discusses-the-1970-october-crisis-at-storyfest-2019/
LOCATION:St. James Church Hall\, 642 Main Rd.\, Hudson\, Quebec
ATTACH;FMTTYPE=image/jpeg:https://thereview.ca/wp-content/uploads/2019/10/IMG_9582.jpg
ORGANIZER;CN="Greenwood Centre for Living History":MAILTO:history@greenwoodcentre.org
GEO:45.4674046;-74.1600285
X-APPLE-STRUCTURED-LOCATION;VALUE=URI;X-ADDRESS=St. James Church Hall 642 Main Rd. Hudson Quebec;X-APPLE-RADIUS=500;X-TITLE=642 Main Rd.:geo:-74.1600285,45.4674046
END:VEVENT
BEGIN:VEVENT
DTSTART;TZID=America/Toronto:20190622T190000
DTEND;TZID=America/Toronto:20190622T213000
DTSTAMP:20260422T214323
CREATED:20190610T133202Z
LAST-MODIFIED:20190610T133202Z
UID:10007901-1561230000-1561239000@thereview.ca
SUMMARY:Bridge Over Troubled Waters: a Call to Care Concert
DESCRIPTION:The Call to Care Concert returns – June 22nd for the CANADIAN RED CROSS in support of those affected by flooding in Vaudreuil-Soulanges.  As well as a great line-up of local musicians for this occasion\, we are also having a silent art auction! All proceeds will go to the CANADIAN RED CROSS.  The evening will take place at St. James’ Hall – 642 Main Road\, Hudson. Tickets:  $20.00. Donations over and above are welcome. Cash bar\, and alcohol-free refreshments. \nMusicians include: Vivianne LaRiviere\, Briana Tomkinson\, Ken Duff\, The Record Breakers\, Larry Cool\, Frank Everett\, the Greenwood Singers and St. James’ Choir. \nPlease join us for this concert!  Tickets are available from the Parish office at 450-458-5897 or email: rector@parishofvaudreuil.com; also\, Centre Decor and Pure Art Boutique\, both in Hudson.  More information at http://www.parishofvaudreuil.com/archives/11749 \n\n\n	Related
URL:https://thereview.ca/event/bridge-over-troubled-waters-a-call-to-care-concert/
LOCATION:St. James Church Hall\, 642 Main Rd.\, Hudson\, Quebec
ATTACH;FMTTYPE=image/png:https://thereview.ca/wp-content/uploads/2019/06/canadianredcross.png
ORGANIZER;CN="Parish of Vaudreuil%2C St. James":MAILTO:office@parishofvaudreuil.com
GEO:45.4674046;-74.1600285
X-APPLE-STRUCTURED-LOCATION;VALUE=URI;X-ADDRESS=St. James Church Hall 642 Main Rd. Hudson Quebec;X-APPLE-RADIUS=500;X-TITLE=642 Main Rd.:geo:-74.1600285,45.4674046
END:VEVENT
END:VCALENDAR