BEGIN:VCALENDAR
VERSION:2.0
PRODID:-//The Review Newspaper - ECPv6.15.18//NONSGML v1.0//EN
CALSCALE:GREGORIAN
METHOD:PUBLISH
X-ORIGINAL-URL:https://thereview.ca
X-WR-CALDESC:Events for The Review Newspaper
REFRESH-INTERVAL;VALUE=DURATION:PT1H
X-Robots-Tag:noindex
X-PUBLISHED-TTL:PT1H
BEGIN:VTIMEZONE
TZID:America/Toronto
BEGIN:DAYLIGHT
TZOFFSETFROM:-0500
TZOFFSETTO:-0400
TZNAME:EDT
DTSTART:20180311T070000
END:DAYLIGHT
BEGIN:STANDARD
TZOFFSETFROM:-0400
TZOFFSETTO:-0500
TZNAME:EST
DTSTART:20181104T060000
END:STANDARD
BEGIN:DAYLIGHT
TZOFFSETFROM:-0500
TZOFFSETTO:-0400
TZNAME:EDT
DTSTART:20190310T070000
END:DAYLIGHT
BEGIN:STANDARD
TZOFFSETFROM:-0400
TZOFFSETTO:-0500
TZNAME:EST
DTSTART:20191103T060000
END:STANDARD
BEGIN:DAYLIGHT
TZOFFSETFROM:-0500
TZOFFSETTO:-0400
TZNAME:EDT
DTSTART:20200308T070000
END:DAYLIGHT
BEGIN:STANDARD
TZOFFSETFROM:-0400
TZOFFSETTO:-0500
TZNAME:EST
DTSTART:20201101T060000
END:STANDARD
END:VTIMEZONE
BEGIN:VEVENT
DTSTART;TZID=America/Toronto:20191020T140000
DTEND;TZID=America/Toronto:20191020T170000
DTSTAMP:20260420T032649
CREATED:20191009T182624Z
LAST-MODIFIED:20191009T182624Z
UID:10007847-1571580000-1571590800@thereview.ca
SUMMARY:Café-rencontre des Ouimet
DESCRIPTION:Café-rencontre des Ouimet\navec les Filles du Roy\,\n20 octobre à 2h\nParoisse St-Grégoire\,\n137 rue Higginson\, Vankleek Hill\nVenez découvrir les ancêtres des\nOUIMET\, LALONDE\, BOYER\, SÉGUIN\, CADIEUX\, MARCIL. \n\n\n	Related
URL:https://thereview.ca/event/cafe-rencontre-des-ouimet/
LOCATION:St. Gregoire Church\, Higginson St.
CATEGORIES:Local,Meetings
ATTACH;FMTTYPE=image/jpeg:https://thereview.ca/wp-content/uploads/2019/10/coffee-meeting.jpg
GEO:35.2317414;-91.7272629
X-APPLE-STRUCTURED-LOCATION;VALUE=URI;X-ADDRESS=St. Gregoire Church Higginson St.;X-APPLE-RADIUS=500;X-TITLE=Higginson St.:geo:-91.7272629,35.2317414
END:VEVENT
BEGIN:VEVENT
DTSTART;TZID=America/Toronto:20190615T193000
DTEND;TZID=America/Toronto:20190615T210000
DTSTAMP:20260420T032649
CREATED:20190605T141106Z
LAST-MODIFIED:20190605T141106Z
UID:10007402-1560627000-1560632400@thereview.ca
SUMMARY:Voix La concert
DESCRIPTION:Voix La présente…\nL’ AMOUR EN CHANSONS!\nVoix La sings…Summer Love!\nSamedi 15 juin / Saturday\, June 15th\, 19h30 / 7:30 pm\nÉglise St-Grégoire de Nazianze\nRue Higginson Street\, Vankleek Hill\nBienvenue à tous! / Everyone welcome!\nEntrée gratuite/Free admission (Collecte/Collection) \n\n\n	Related
URL:https://thereview.ca/event/voix-la-concert/
LOCATION:St. Gregoire Church\, Higginson St.
CATEGORIES:Arts & Culture,Local,Music
ATTACH;FMTTYPE=image/jpeg:https://thereview.ca/wp-content/uploads/2019/05/Lost-love-spells-in-Johannesburg-18.jpeg
GEO:35.2317414;-91.7272629
X-APPLE-STRUCTURED-LOCATION;VALUE=URI;X-ADDRESS=St. Gregoire Church Higginson St.;X-APPLE-RADIUS=500;X-TITLE=Higginson St.:geo:-91.7272629,35.2317414
END:VEVENT
END:VCALENDAR