BEGIN:VCALENDAR
VERSION:2.0
PRODID:-//The Review Newspaper - ECPv6.15.18//NONSGML v1.0//EN
CALSCALE:GREGORIAN
METHOD:PUBLISH
X-ORIGINAL-URL:https://thereview.ca
X-WR-CALDESC:Events for The Review Newspaper
REFRESH-INTERVAL;VALUE=DURATION:PT1H
X-Robots-Tag:noindex
X-PUBLISHED-TTL:PT1H
BEGIN:VTIMEZONE
TZID:UTC
BEGIN:STANDARD
TZOFFSETFROM:+0000
TZOFFSETTO:+0000
TZNAME:UTC
DTSTART:20210101T000000
END:STANDARD
END:VTIMEZONE
BEGIN:VTIMEZONE
TZID:America/Toronto
BEGIN:DAYLIGHT
TZOFFSETFROM:-0500
TZOFFSETTO:-0400
TZNAME:EDT
DTSTART:20180311T070000
END:DAYLIGHT
BEGIN:STANDARD
TZOFFSETFROM:-0400
TZOFFSETTO:-0500
TZNAME:EST
DTSTART:20181104T060000
END:STANDARD
BEGIN:DAYLIGHT
TZOFFSETFROM:-0500
TZOFFSETTO:-0400
TZNAME:EDT
DTSTART:20190310T070000
END:DAYLIGHT
BEGIN:STANDARD
TZOFFSETFROM:-0400
TZOFFSETTO:-0500
TZNAME:EST
DTSTART:20191103T060000
END:STANDARD
BEGIN:DAYLIGHT
TZOFFSETFROM:-0500
TZOFFSETTO:-0400
TZNAME:EDT
DTSTART:20200308T070000
END:DAYLIGHT
BEGIN:STANDARD
TZOFFSETFROM:-0400
TZOFFSETTO:-0500
TZNAME:EST
DTSTART:20201101T060000
END:STANDARD
END:VTIMEZONE
BEGIN:VEVENT
DTSTART;TZID=UTC:20220821T140000
DTEND;TZID=UTC:20220821T160000
DTSTAMP:20260419T083530
CREATED:20220810T190608Z
LAST-MODIFIED:20220810T190609Z
UID:10008029-1661090400-1661097600@thereview.ca
SUMMARY:Annual Memorial Service
DESCRIPTION:Harrington Protestant Cemetery (Shaw’s)\nSunday\, August 21 at 2pm.\nEveryone Welcome\nPlease bring your mask\, a chair\n(and perhaps an umbrella). \n\n\n	Related
URL:https://thereview.ca/event/annual-memorial-service/
LOCATION:Shaws Cemetery\, Harrington\, Quebec\, Canada
CATEGORIES:Local
ATTACH;FMTTYPE=image/jpeg:https://thereview.ca/wp-content/uploads/2022/08/cene.jpg
END:VEVENT
BEGIN:VEVENT
DTSTART;TZID=America/Toronto:20190818T140000
DTEND;TZID=America/Toronto:20190818T170000
DTSTAMP:20260419T083530
CREATED:20190814T132550Z
LAST-MODIFIED:20190814T132550Z
UID:10007286-1566136800-1566147600@thereview.ca
SUMMARY:Annual Cemetery Service
DESCRIPTION:Annual Cemetery Service\nShaws Cemetery Harrington\nSunday\,\nAugust 18\, 2019\n2:00 p.m.\nEveryone Welcome \n\n\n	Related
URL:https://thereview.ca/event/annual-cemetery-service/
LOCATION:Shaws Cemetery\, Harrington\, Quebec\, Canada
CATEGORIES:Local,Meetings
ATTACH;FMTTYPE=image/jpeg:https://thereview.ca/wp-content/uploads/2016/11/meeting.jpg
END:VEVENT
END:VCALENDAR