BEGIN:VCALENDAR
VERSION:2.0
PRODID:-//The Review Newspaper - ECPv6.15.18//NONSGML v1.0//EN
CALSCALE:GREGORIAN
METHOD:PUBLISH
X-ORIGINAL-URL:https://thereview.ca
X-WR-CALDESC:Events for The Review Newspaper
REFRESH-INTERVAL;VALUE=DURATION:PT1H
X-Robots-Tag:noindex
X-PUBLISHED-TTL:PT1H
BEGIN:VTIMEZONE
TZID:America/Toronto
BEGIN:DAYLIGHT
TZOFFSETFROM:-0500
TZOFFSETTO:-0400
TZNAME:EDT
DTSTART:20180311T070000
END:DAYLIGHT
BEGIN:STANDARD
TZOFFSETFROM:-0400
TZOFFSETTO:-0500
TZNAME:EST
DTSTART:20181104T060000
END:STANDARD
BEGIN:DAYLIGHT
TZOFFSETFROM:-0500
TZOFFSETTO:-0400
TZNAME:EDT
DTSTART:20190310T070000
END:DAYLIGHT
BEGIN:STANDARD
TZOFFSETFROM:-0400
TZOFFSETTO:-0500
TZNAME:EST
DTSTART:20191103T060000
END:STANDARD
BEGIN:DAYLIGHT
TZOFFSETFROM:-0500
TZOFFSETTO:-0400
TZNAME:EDT
DTSTART:20200308T070000
END:DAYLIGHT
BEGIN:STANDARD
TZOFFSETFROM:-0400
TZOFFSETTO:-0500
TZNAME:EST
DTSTART:20201101T060000
END:STANDARD
END:VTIMEZONE
BEGIN:VEVENT
DTSTART;TZID=America/Toronto:20190628T183000
DTEND;TZID=America/Toronto:20190628T203000
DTSTAMP:20260420T024334
CREATED:20190619T123256Z
LAST-MODIFIED:20190619T212456Z
UID:10007452-1561746600-1561753800@thereview.ca
SUMMARY:Dorothy Dumbrille CD Launch
DESCRIPTION:Special guest speaker Allan Macdonald and historical perspective on the Lanthier Bakery since 1932. \nFor tickets: 613-525-0516 \n\n\n	Related
URL:https://thereview.ca/event/dorothy-dumbrille-cd-launch/
LOCATION:Salle Fraternite\, 49 St. Paul St.\, Alexandria
CATEGORIES:Arts & Culture,Local
ATTACH;FMTTYPE=image/jpeg:https://thereview.ca/wp-content/uploads/2019/06/DDCD-cover-v3.jpg
GEO:45.3104493;-74.6337795
X-APPLE-STRUCTURED-LOCATION;VALUE=URI;X-ADDRESS=Salle Fraternite 49 St. Paul St. Alexandria;X-APPLE-RADIUS=500;X-TITLE=49 St. Paul St.:geo:-74.6337795,45.3104493
END:VEVENT
END:VCALENDAR