BEGIN:VCALENDAR
VERSION:2.0
PRODID:-//The Review Newspaper - ECPv6.15.18//NONSGML v1.0//EN
CALSCALE:GREGORIAN
METHOD:PUBLISH
X-ORIGINAL-URL:https://thereview.ca
X-WR-CALDESC:Events for The Review Newspaper
REFRESH-INTERVAL;VALUE=DURATION:PT1H
X-Robots-Tag:noindex
X-PUBLISHED-TTL:PT1H
BEGIN:VTIMEZONE
TZID:America/Toronto
BEGIN:DAYLIGHT
TZOFFSETFROM:-0500
TZOFFSETTO:-0400
TZNAME:EDT
DTSTART:20180311T070000
END:DAYLIGHT
BEGIN:STANDARD
TZOFFSETFROM:-0400
TZOFFSETTO:-0500
TZNAME:EST
DTSTART:20181104T060000
END:STANDARD
BEGIN:DAYLIGHT
TZOFFSETFROM:-0500
TZOFFSETTO:-0400
TZNAME:EDT
DTSTART:20190310T070000
END:DAYLIGHT
BEGIN:STANDARD
TZOFFSETFROM:-0400
TZOFFSETTO:-0500
TZNAME:EST
DTSTART:20191103T060000
END:STANDARD
BEGIN:DAYLIGHT
TZOFFSETFROM:-0500
TZOFFSETTO:-0400
TZNAME:EDT
DTSTART:20200308T070000
END:DAYLIGHT
BEGIN:STANDARD
TZOFFSETFROM:-0400
TZOFFSETTO:-0500
TZNAME:EST
DTSTART:20201101T060000
END:STANDARD
END:VTIMEZONE
BEGIN:VEVENT
DTSTART;TZID=America/Toronto:20190907T140000
DTEND;TZID=America/Toronto:20190907T180000
DTSTAMP:20260420T105630
CREATED:20190904T132550Z
LAST-MODIFIED:20190904T132550Z
UID:10007293-1567864800-1567879200@thereview.ca
SUMMARY:Vernissage - The Future
DESCRIPTION:Vernissage Sept. 7th 2-6 pm\nRothwell Gallery\n1718 Montreal Road\nOttawa\, ON\n613-745-6410 \nHorizons Etc…Etc…\nThese paintings are a natural progression\nfrom my “Dream Blankets” and\n“Onà : Ke / Canoes\, etc.” series –\nfor we are at sea\, in unknown waters.\nWhat is on the horizon?\nThe canoe symbolizes us.\nAnd on the horizon is the future –\nsocially\, politically\, environmentally.\nI have always painted from the heart and\nfeel there is hope for us\, for Mother Earth –\nthe Earth that will continue to exist\neven after we have gone.\nShe is beautiful and strong.\nI hope you will feel her strength in these works.\nThank you for attending and\nmay you walk in Peace… \nExhibition continues ‘til September 29. \n\n\n	Related
URL:https://thereview.ca/event/vernissage-the-future/
LOCATION:Rothwell Gallery\, 1718 Montreal Rd\, Ottawa\, Ontario\, Canada
CATEGORIES:Arts & Culture,Local
ATTACH;FMTTYPE=image/jpeg:https://thereview.ca/wp-content/uploads/2019/09/susan-jephcott-2019-09-04.jpg
GEO:45.4458871;-75.6110604
X-APPLE-STRUCTURED-LOCATION;VALUE=URI;X-ADDRESS=Rothwell Gallery 1718 Montreal Rd Ottawa Ontario Canada;X-APPLE-RADIUS=500;X-TITLE=1718 Montreal Rd:geo:-75.6110604,45.4458871
END:VEVENT
END:VCALENDAR