BEGIN:VCALENDAR
VERSION:2.0
PRODID:-//The Review Newspaper - ECPv6.15.18//NONSGML v1.0//EN
CALSCALE:GREGORIAN
METHOD:PUBLISH
X-ORIGINAL-URL:https://thereview.ca
X-WR-CALDESC:Events for The Review Newspaper
REFRESH-INTERVAL;VALUE=DURATION:PT1H
X-Robots-Tag:noindex
X-PUBLISHED-TTL:PT1H
BEGIN:VTIMEZONE
TZID:America/Toronto
BEGIN:DAYLIGHT
TZOFFSETFROM:-0500
TZOFFSETTO:-0400
TZNAME:EDT
DTSTART:20180311T070000
END:DAYLIGHT
BEGIN:STANDARD
TZOFFSETFROM:-0400
TZOFFSETTO:-0500
TZNAME:EST
DTSTART:20181104T060000
END:STANDARD
BEGIN:DAYLIGHT
TZOFFSETFROM:-0500
TZOFFSETTO:-0400
TZNAME:EDT
DTSTART:20190310T070000
END:DAYLIGHT
BEGIN:STANDARD
TZOFFSETFROM:-0400
TZOFFSETTO:-0500
TZNAME:EST
DTSTART:20191103T060000
END:STANDARD
BEGIN:DAYLIGHT
TZOFFSETFROM:-0500
TZOFFSETTO:-0400
TZNAME:EDT
DTSTART:20200308T070000
END:DAYLIGHT
BEGIN:STANDARD
TZOFFSETFROM:-0400
TZOFFSETTO:-0500
TZNAME:EST
DTSTART:20201101T060000
END:STANDARD
BEGIN:DAYLIGHT
TZOFFSETFROM:-0500
TZOFFSETTO:-0400
TZNAME:EDT
DTSTART:20210314T070000
END:DAYLIGHT
BEGIN:STANDARD
TZOFFSETFROM:-0400
TZOFFSETTO:-0500
TZNAME:EST
DTSTART:20211107T060000
END:STANDARD
BEGIN:DAYLIGHT
TZOFFSETFROM:-0500
TZOFFSETTO:-0400
TZNAME:EDT
DTSTART:20220313T070000
END:DAYLIGHT
BEGIN:STANDARD
TZOFFSETFROM:-0400
TZOFFSETTO:-0500
TZNAME:EST
DTSTART:20221106T060000
END:STANDARD
BEGIN:DAYLIGHT
TZOFFSETFROM:-0500
TZOFFSETTO:-0400
TZNAME:EDT
DTSTART:20230312T070000
END:DAYLIGHT
BEGIN:STANDARD
TZOFFSETFROM:-0400
TZOFFSETTO:-0500
TZNAME:EST
DTSTART:20231105T060000
END:STANDARD
BEGIN:DAYLIGHT
TZOFFSETFROM:-0500
TZOFFSETTO:-0400
TZNAME:EDT
DTSTART:20240310T070000
END:DAYLIGHT
BEGIN:STANDARD
TZOFFSETFROM:-0400
TZOFFSETTO:-0500
TZNAME:EST
DTSTART:20241103T060000
END:STANDARD
END:VTIMEZONE
BEGIN:VEVENT
DTSTART;TZID=America/Toronto:20230729T140000
DTEND;TZID=America/Toronto:20230729T220000
DTSTAMP:20260421T173218
CREATED:20230726T153621Z
LAST-MODIFIED:20230726T153631Z
UID:10008580-1690639200-1690668000@thereview.ca
SUMMARY:Festival Western Hawkesbury
DESCRIPTION:Free admission. \n\n\n\n2 pm – Marven James \n\n\n\n3:30 pm – Normand Campeau \n\n\n\n5:30 pm – Railroad Sinners \n\n\n\n7 pm – Whiskey River Band \n\n\n\n8:30 pm – The Dark Horses \n\n\n\nINFO: Yves Paquette 613.677.0868 \n\n\n\nBring your own chair! \n\n\n\n\n\n\n\n\n\n\n\n\n\n\n	Related
URL:https://thereview.ca/event/festival-western-hawkesbury/
LOCATION:Place des Pionniers\, Richer St.\, Hawkesbury\, Ontario\, Canada
CATEGORIES:Fairs & Festivals
ATTACH;FMTTYPE=image/jpeg:https://thereview.ca/wp-content/uploads/2018/07/cowboy-boots-1.jpg
GEO:45.6111659;-74.6061621
X-APPLE-STRUCTURED-LOCATION;VALUE=URI;X-ADDRESS=Place des Pionniers Richer St. Hawkesbury Ontario Canada;X-APPLE-RADIUS=500;X-TITLE=Richer St.:geo:-74.6061621,45.6111659
END:VEVENT
BEGIN:VEVENT
DTSTART;TZID=America/Toronto:20190823T170000
DTEND;TZID=America/Toronto:20190823T190000
DTSTAMP:20260421T173218
CREATED:20190807T131237Z
LAST-MODIFIED:20190807T131237Z
UID:10007287-1566579600-1566586800@thereview.ca
SUMMARY:Live Bands
DESCRIPTION:Featuring 50 Proof. \n\n\n	Related
URL:https://thereview.ca/event/live-bands-3/
LOCATION:Place des Pionniers\, Richer St.\, Hawkesbury\, Ontario\, Canada
CATEGORIES:Local,Music
ATTACH;FMTTYPE=image/jpeg:https://thereview.ca/wp-content/uploads/2017/04/13483148_611073169060986_1916856809448130840_o.jpg
GEO:45.6111659;-74.6061621
X-APPLE-STRUCTURED-LOCATION;VALUE=URI;X-ADDRESS=Place des Pionniers Richer St. Hawkesbury Ontario Canada;X-APPLE-RADIUS=500;X-TITLE=Richer St.:geo:-74.6061621,45.6111659
END:VEVENT
BEGIN:VEVENT
DTSTART;TZID=America/Toronto:20190809T170000
DTEND;TZID=America/Toronto:20190809T190000
DTSTAMP:20260421T173218
CREATED:20190807T131052Z
LAST-MODIFIED:20190807T131052Z
UID:10007279-1565370000-1565377200@thereview.ca
SUMMARY:Live Bands
DESCRIPTION:Presenting Voix La. \n\n\n	Related
URL:https://thereview.ca/event/live-bands-2/
LOCATION:Place des Pionniers\, Richer St.\, Hawkesbury\, Ontario\, Canada
CATEGORIES:Local,Music
ATTACH;FMTTYPE=image/jpeg:https://thereview.ca/wp-content/uploads/2019/08/VoixLa-1280x720.jpg
GEO:45.6111659;-74.6061621
X-APPLE-STRUCTURED-LOCATION;VALUE=URI;X-ADDRESS=Place des Pionniers Richer St. Hawkesbury Ontario Canada;X-APPLE-RADIUS=500;X-TITLE=Richer St.:geo:-74.6061621,45.6111659
END:VEVENT
BEGIN:VEVENT
DTSTART;TZID=America/Toronto:20190722T190000
DTEND;TZID=America/Toronto:20190722T213000
DTSTAMP:20260421T173218
CREATED:20190610T134213Z
LAST-MODIFIED:20190610T134213Z
UID:10007928-1563822000-1563831000@thereview.ca
SUMMARY:Community Talent Show
DESCRIPTION:Share your talent with the community for a chance to win $100! We are putting on a talent show in the Hawesbury community and everyone is invited to participate or just enjoy. Participation and admission are free of charge. \nPerformers can sign-up at this link: https://forms.gle/XTcR8qYoeCZT7qJe9 \n\n\n	Related
URL:https://thereview.ca/event/community-talent-show/
LOCATION:Place des Pionniers\, Richer St.\, Hawkesbury\, Ontario\, Canada
CATEGORIES:Arts & Culture,Music
ATTACH;FMTTYPE=image/png:https://thereview.ca/wp-content/uploads/2019/06/Talent-Show-Instagram-Post.png
ORGANIZER;CN="Reach Out and Care Missionary Movement":MAILTO:kwsdayouth@gmail.com
GEO:45.6111659;-74.6061621
X-APPLE-STRUCTURED-LOCATION;VALUE=URI;X-ADDRESS=Place des Pionniers Richer St. Hawkesbury Ontario Canada;X-APPLE-RADIUS=500;X-TITLE=Richer St.:geo:-74.6061621,45.6111659
END:VEVENT
BEGIN:VEVENT
DTSTART;TZID=America/Toronto:20190722T150000
DTEND;TZID=America/Toronto:20190722T183000
DTSTAMP:20260421T173218
CREATED:20190610T134137Z
LAST-MODIFIED:20190610T134137Z
UID:10007910-1563807600-1563820200@thereview.ca
SUMMARY:Health Expo
DESCRIPTION:Learn to promote your physical\, mental and spiritual well-being through information booths\, activities and talks from health professionals! This event is completely free and will include a vegetarian BBQ as well as interactive activities for children. Speakers and workshop names will be announced on our social media platforms. \n\n\n	Related
URL:https://thereview.ca/event/health-expo/
LOCATION:Place des Pionniers\, Richer St.\, Hawkesbury\, Ontario\, Canada
CATEGORIES:Fairs & Festivals,Food & Beverage,Wellness
ATTACH;FMTTYPE=image/png:https://thereview.ca/wp-content/uploads/2019/06/Health-Expo-Instagram-Post.png
ORGANIZER;CN="Reach Out and Care Missionary Movement":MAILTO:kwsdayouth@gmail.com
GEO:45.6111659;-74.6061621
X-APPLE-STRUCTURED-LOCATION;VALUE=URI;X-ADDRESS=Place des Pionniers Richer St. Hawkesbury Ontario Canada;X-APPLE-RADIUS=500;X-TITLE=Richer St.:geo:-74.6061621,45.6111659
END:VEVENT
BEGIN:VEVENT
DTSTART;TZID=America/Toronto:20190705T170000
DTEND;TZID=America/Toronto:20190823T190000
DTSTAMP:20260421T173218
CREATED:20190703T135220Z
LAST-MODIFIED:20190703T135220Z
UID:10007583-1562346000-1566586800@thereview.ca
SUMMARY:Live Bands
DESCRIPTION:July 5 – John & Biz \nJuly 19 – Decibel & Friends \nAugust 9 – Voix La \nAugust 23 – 50 Proof \n\n\n	Related
URL:https://thereview.ca/event/live-bands/
LOCATION:Place des Pionniers\, Richer St.\, Hawkesbury\, Ontario\, Canada
CATEGORIES:Local,Music
ATTACH;FMTTYPE=image/jpeg:https://thereview.ca/wp-content/uploads/2017/09/guitar-445387_1920.jpg
GEO:45.6111659;-74.6061621
X-APPLE-STRUCTURED-LOCATION;VALUE=URI;X-ADDRESS=Place des Pionniers Richer St. Hawkesbury Ontario Canada;X-APPLE-RADIUS=500;X-TITLE=Richer St.:geo:-74.6061621,45.6111659
END:VEVENT
END:VCALENDAR