BEGIN:VCALENDAR
VERSION:2.0
PRODID:-//The Review Newspaper - ECPv6.15.18//NONSGML v1.0//EN
CALSCALE:GREGORIAN
METHOD:PUBLISH
X-ORIGINAL-URL:https://thereview.ca
X-WR-CALDESC:Events for The Review Newspaper
REFRESH-INTERVAL;VALUE=DURATION:PT1H
X-Robots-Tag:noindex
X-PUBLISHED-TTL:PT1H
BEGIN:VTIMEZONE
TZID:America/Toronto
BEGIN:DAYLIGHT
TZOFFSETFROM:-0500
TZOFFSETTO:-0400
TZNAME:EDT
DTSTART:20180311T070000
END:DAYLIGHT
BEGIN:STANDARD
TZOFFSETFROM:-0400
TZOFFSETTO:-0500
TZNAME:EST
DTSTART:20181104T060000
END:STANDARD
BEGIN:DAYLIGHT
TZOFFSETFROM:-0500
TZOFFSETTO:-0400
TZNAME:EDT
DTSTART:20190310T070000
END:DAYLIGHT
BEGIN:STANDARD
TZOFFSETFROM:-0400
TZOFFSETTO:-0500
TZNAME:EST
DTSTART:20191103T060000
END:STANDARD
BEGIN:DAYLIGHT
TZOFFSETFROM:-0500
TZOFFSETTO:-0400
TZNAME:EDT
DTSTART:20200308T070000
END:DAYLIGHT
BEGIN:STANDARD
TZOFFSETFROM:-0400
TZOFFSETTO:-0500
TZNAME:EST
DTSTART:20201101T060000
END:STANDARD
END:VTIMEZONE
BEGIN:VEVENT
DTSTART;TZID=America/Toronto:20190512T100000
DTEND;TZID=America/Toronto:20190512T130000
DTSTAMP:20260406T121545
CREATED:20190506T151458Z
LAST-MODIFIED:20190506T151458Z
UID:10007159-1557655200-1557666000@thereview.ca
SUMMARY:Déjà Vu eClean Cyr Park May 12th!
DESCRIPTION:You are invited to join eHawkesbury\, an eClean volunteer group in cleaning up Cyr Park May 12th at 10am. This eClean is sponsored by Deja Vu Restaurant & Bar at 882 Main St E in Hawkesbury who will be giving you a $10 gift certificate\, redeemable at Déjà vu\, in exchange for a few of your volunteer hours. Volunteering is one of the most rewarding and charitable acts one can perform. \nWe want to take a moment and thank Deja Vu Restaurant & Bar and all the staff that work there. Thank you for their support of local volunteer organizations and their support of beautifying Hawkesbury so we can all enjoy a cleaner environment. We’d also like to thank the 107.7 the Jewel for advertising these events on their radio station. \nIf you have had the chance of walking\, biking\, running or driving by Cyr Park and surrounding green spaces you may have noticed a huge amount of litter and other garbage. This litter has a negative impact on us. It causes bad feelings and a loss of pride. We can do so much in a short period of time and hopefully Hawkesbury can put its litter issues in the past and show our citizens and our visitors that we have great pride in our community\, town and environment. \nMeet up at Park Cyr parking lot 10am on the 12th of May. So come on out and meet your neighbours and be part of this positive change. If you have any questions\, comments or would simply like to join us and need more information please call 613-307-8988 or email us at ehawkesbury@gmail.com. \n\n\n	Related
URL:https://thereview.ca/event/deja-vu-eclean-cyr-park-may-12th/
LOCATION:Parc Cyr-de-Lasalle\, 741 Philippe St\,\, Hawkesbury\, ON\, K6A 1B3\, Canada
CATEGORIES:Environment,Local
ATTACH;FMTTYPE=image/jpeg:https://thereview.ca/wp-content/uploads/2019/05/eClean_Cyr-1.jpg
GEO:45.6106073;-74.5987121
X-APPLE-STRUCTURED-LOCATION;VALUE=URI;X-ADDRESS=Parc Cyr-de-Lasalle 741 Philippe St Hawkesbury ON K6A 1B3 Canada;X-APPLE-RADIUS=500;X-TITLE=741 Philippe St\,:geo:-74.5987121,45.6106073
END:VEVENT
END:VCALENDAR