BEGIN:VCALENDAR
VERSION:2.0
PRODID:-//The Review Newspaper - ECPv6.15.18//NONSGML v1.0//EN
CALSCALE:GREGORIAN
METHOD:PUBLISH
X-ORIGINAL-URL:https://thereview.ca
X-WR-CALDESC:Events for The Review Newspaper
REFRESH-INTERVAL;VALUE=DURATION:PT1H
X-Robots-Tag:noindex
X-PUBLISHED-TTL:PT1H
BEGIN:VTIMEZONE
TZID:America/Toronto
BEGIN:DAYLIGHT
TZOFFSETFROM:-0500
TZOFFSETTO:-0400
TZNAME:EDT
DTSTART:20220313T070000
END:DAYLIGHT
BEGIN:STANDARD
TZOFFSETFROM:-0400
TZOFFSETTO:-0500
TZNAME:EST
DTSTART:20221106T060000
END:STANDARD
BEGIN:DAYLIGHT
TZOFFSETFROM:-0500
TZOFFSETTO:-0400
TZNAME:EDT
DTSTART:20230312T070000
END:DAYLIGHT
BEGIN:STANDARD
TZOFFSETFROM:-0400
TZOFFSETTO:-0500
TZNAME:EST
DTSTART:20231105T060000
END:STANDARD
BEGIN:DAYLIGHT
TZOFFSETFROM:-0500
TZOFFSETTO:-0400
TZNAME:EDT
DTSTART:20240310T070000
END:DAYLIGHT
BEGIN:STANDARD
TZOFFSETFROM:-0400
TZOFFSETTO:-0500
TZNAME:EST
DTSTART:20241103T060000
END:STANDARD
END:VTIMEZONE
BEGIN:VTIMEZONE
TZID:UTC
BEGIN:STANDARD
TZOFFSETFROM:+0000
TZOFFSETTO:+0000
TZNAME:UTC
DTSTART:20210101T000000
END:STANDARD
END:VTIMEZONE
BEGIN:VEVENT
DTSTART;TZID=America/Toronto:20231119T100000
DTEND;TZID=America/Toronto:20231119T160000
DTSTAMP:20260419T083926
CREATED:20231108T174944Z
LAST-MODIFIED:20231108T175100Z
UID:10009266-1700388000-1700409600@thereview.ca
SUMMARY:Christmas Craft Show
DESCRIPTION:The 43rd (1978-2023) Navan Arts and Crafts Group Christmas Craft Show. Free admission and parking. Doro prizes. Canteen and bake sale operated by the ‘Vanier Optimist Club’. Donations accepted for the Orléans-Cumberland Community Resource Center Christmas Program. \n\n\n\nNavan Hall – Arena – 2nd floor \n\n\n\nFacebook.com/NavanArtsAndCraftsTiktok.com/@nacg2023NavanArtsAndCrafts2018@gmail.com \n\n\n\n\n\n\n\n\n\n\n\n\n\n\n	Related
URL:https://thereview.ca/event/christmas-craft-show-3/2023-11-19/
LOCATION:Navan Hall\, 1295 Colonial Road\, Navan\, Ontario
ATTACH;FMTTYPE=image/png:https://thereview.ca/wp-content/uploads/2023/11/PdfImage-6.png
GEO:56.130366;-106.346771
X-APPLE-STRUCTURED-LOCATION;VALUE=URI;X-ADDRESS=Navan Hall 1295 Colonial Road Navan Ontario;X-APPLE-RADIUS=500;X-TITLE=1295 Colonial Road:geo:-106.346771,56.130366
END:VEVENT
BEGIN:VEVENT
DTSTART;TZID=UTC:20221120T100000
DTEND;TZID=UTC:20221120T160000
DTSTAMP:20260419T083926
CREATED:20221109T202629Z
LAST-MODIFIED:20221109T202630Z
UID:10007926-1668938400-1668960000@thereview.ca
SUMMARY:42nd Christmas Craft Show
DESCRIPTION:Navan Hall (Arena – 2nd floor) \nFree admission and parking. Door prizes. \nCanteen and bake sale operated by the “Vanier Optimists Club” \nDonations accepted for the Orléans-Cumberland Community Resource Centre Christmas Program. \nFacebook.com/NavanArtsAndCrafts\nNavanArtsAndCrafts2018@gmail.com \n  \n  \n\n\n	Related
URL:https://thereview.ca/event/42nd-christmas-craft-show/2022-11-20/
LOCATION:Navan Hall\, 1295 Colonial Road\, Navan\, Ontario
CATEGORIES:Local
ATTACH;FMTTYPE=image/jpeg:https://thereview.ca/wp-content/uploads/2017/11/arts-and-crafts_web.jpg
GEO:56.130366;-106.346771
X-APPLE-STRUCTURED-LOCATION;VALUE=URI;X-ADDRESS=Navan Hall 1295 Colonial Road Navan Ontario;X-APPLE-RADIUS=500;X-TITLE=1295 Colonial Road:geo:-106.346771,56.130366
END:VEVENT
END:VCALENDAR