BEGIN:VCALENDAR
VERSION:2.0
PRODID:-//The Review Newspaper - ECPv6.15.18//NONSGML v1.0//EN
CALSCALE:GREGORIAN
METHOD:PUBLISH
X-WR-CALNAME:The Review Newspaper
X-ORIGINAL-URL:https://thereview.ca
X-WR-CALDESC:Events for The Review Newspaper
REFRESH-INTERVAL;VALUE=DURATION:PT1H
X-Robots-Tag:noindex
X-PUBLISHED-TTL:PT1H
BEGIN:VTIMEZONE
TZID:America/Toronto
BEGIN:DAYLIGHT
TZOFFSETFROM:-0500
TZOFFSETTO:-0400
TZNAME:EDT
DTSTART:20210314T070000
END:DAYLIGHT
BEGIN:STANDARD
TZOFFSETFROM:-0400
TZOFFSETTO:-0500
TZNAME:EST
DTSTART:20211107T060000
END:STANDARD
BEGIN:DAYLIGHT
TZOFFSETFROM:-0500
TZOFFSETTO:-0400
TZNAME:EDT
DTSTART:20220313T070000
END:DAYLIGHT
BEGIN:STANDARD
TZOFFSETFROM:-0400
TZOFFSETTO:-0500
TZNAME:EST
DTSTART:20221106T060000
END:STANDARD
BEGIN:DAYLIGHT
TZOFFSETFROM:-0500
TZOFFSETTO:-0400
TZNAME:EDT
DTSTART:20230312T070000
END:DAYLIGHT
BEGIN:STANDARD
TZOFFSETFROM:-0400
TZOFFSETTO:-0500
TZNAME:EST
DTSTART:20231105T060000
END:STANDARD
BEGIN:DAYLIGHT
TZOFFSETFROM:-0500
TZOFFSETTO:-0400
TZNAME:EDT
DTSTART:20240310T070000
END:DAYLIGHT
BEGIN:STANDARD
TZOFFSETFROM:-0400
TZOFFSETTO:-0500
TZNAME:EST
DTSTART:20241103T060000
END:STANDARD
END:VTIMEZONE
BEGIN:VTIMEZONE
TZID:UTC
BEGIN:STANDARD
TZOFFSETFROM:+0000
TZOFFSETTO:+0000
TZNAME:UTC
DTSTART:20210101T000000
END:STANDARD
END:VTIMEZONE
BEGIN:VEVENT
DTSTART;TZID=America/Toronto:20230702T080000
DTEND;TZID=America/Toronto:20230702T210000
DTSTAMP:20260420T021917
CREATED:20230621T184146Z
LAST-MODIFIED:20230621T184156Z
UID:10008552-1688284800-1688331600@thereview.ca
SUMMARY:Slo-pitch Tournament
DESCRIPTION:Fundraiser for the Alzheimer Society Cornwall and District  \n\n\n\nFree admission to the ball tournament! \n\n\n\n\n\n\n\n\n\n\n\n\n\n\n	Related
URL:https://thereview.ca/event/slo-pitch-tournament/
LOCATION:Mill Street Park\, 36 Mill Street\, Vankleek Hill\, Ontario\, Canada
CATEGORIES:Local
ATTACH;FMTTYPE=image/jpeg:https://thereview.ca/wp-content/uploads/2017/06/slo-pitch-softball-stock-2017-06-14-web.jpg
GEO:45.5169974;-74.6524697
X-APPLE-STRUCTURED-LOCATION;VALUE=URI;X-ADDRESS=Mill Street Park 36 Mill Street Vankleek Hill Ontario Canada;X-APPLE-RADIUS=500;X-TITLE=36 Mill Street:geo:-74.6524697,45.5169974
END:VEVENT
BEGIN:VEVENT
DTSTART;TZID=UTC:20220702T080000
DTEND;TZID=UTC:20220702T210000
DTSTAMP:20260420T021917
CREATED:20220622T185916Z
LAST-MODIFIED:20220622T185917Z
UID:10007755-1656748800-1656795600@thereview.ca
SUMMARY:5th Annual Vankleek Hill Slo-Pitch Tournament
DESCRIPTION:Free to attend the Ball Tournament. \n\n\n	Related
URL:https://thereview.ca/event/5th-annual-vankleek-hill-slo-pitch-tournament/
LOCATION:Mill Street Park\, 36 Mill Street\, Vankleek Hill\, Ontario\, Canada
CATEGORIES:Local
ATTACH;FMTTYPE=image/png:https://thereview.ca/wp-content/uploads/2022/06/13247884_496706850519524_2567582586553943108_o.png
ORGANIZER;CN="Alzheimer Society":MAILTO:alzheimerrdcoord@one-mail.on.ca
GEO:45.5169974;-74.6524697
X-APPLE-STRUCTURED-LOCATION;VALUE=URI;X-ADDRESS=Mill Street Park 36 Mill Street Vankleek Hill Ontario Canada;X-APPLE-RADIUS=500;X-TITLE=36 Mill Street:geo:-74.6524697,45.5169974
END:VEVENT
BEGIN:VEVENT
DTSTART;TZID=America/Toronto:20220301T183000
DTEND;TZID=America/Toronto:20220301T193000
DTSTAMP:20260420T021917
CREATED:20220216T211600Z
LAST-MODIFIED:20220222T142231Z
UID:10007616-1646159400-1646163000@thereview.ca
SUMMARY:Community Candlelight Memorial Ceremony
DESCRIPTION:“We will remember her” in honour of the late Danielle Jean-Louis \nNo RSVP – dress warmly – outdoor event \nAll are most welcome   \nAt the gazebo at Mill Street Park\, Vankleek Hill \n\n\n\n\n\n\n\n\n	Related
URL:https://thereview.ca/event/community-candlelight-memorial-ceremony/
LOCATION:Mill Street Park\, 36 Mill Street\, Vankleek Hill\, Ontario\, Canada
CATEGORIES:Local
ATTACH;FMTTYPE=image/jpeg:https://thereview.ca/wp-content/uploads/2019/11/candlelight-ceremony.jpg
GEO:45.5169974;-74.6524697
X-APPLE-STRUCTURED-LOCATION;VALUE=URI;X-ADDRESS=Mill Street Park 36 Mill Street Vankleek Hill Ontario Canada;X-APPLE-RADIUS=500;X-TITLE=36 Mill Street:geo:-74.6524697,45.5169974
END:VEVENT
END:VCALENDAR