BEGIN:VCALENDAR
VERSION:2.0
PRODID:-//The Review Newspaper - ECPv6.15.18//NONSGML v1.0//EN
CALSCALE:GREGORIAN
METHOD:PUBLISH
X-ORIGINAL-URL:https://thereview.ca
X-WR-CALDESC:Events for The Review Newspaper
REFRESH-INTERVAL;VALUE=DURATION:PT1H
X-Robots-Tag:noindex
X-PUBLISHED-TTL:PT1H
BEGIN:VTIMEZONE
TZID:UTC
BEGIN:STANDARD
TZOFFSETFROM:+0000
TZOFFSETTO:+0000
TZNAME:UTC
DTSTART:20210101T000000
END:STANDARD
END:VTIMEZONE
BEGIN:VEVENT
DTSTART;TZID=UTC:20221127T170000
DTEND;TZID=UTC:20221127T180000
DTSTAMP:20260420T095605
CREATED:20221123T151624Z
LAST-MODIFIED:20221123T151626Z
UID:10007909-1669568400-1669572000@thereview.ca
SUMMARY:Maxville's Santa Parade
DESCRIPTION:Departing Maxville Manor and travelling through Maxville to finish at the Maxville & District Sports Complex. \nFor more information please visit their website at: https://www.northglengarry.ca/en/things-to-do/christmas-parades-and-activities.aspx \n\n\n	Related
URL:https://thereview.ca/event/maxvilles-santa-parade/
LOCATION:Maxville Manor
CATEGORIES:Local
ATTACH;FMTTYPE=image/png:https://thereview.ca/wp-content/uploads/2022/11/card-g29b483344_640.png
END:VEVENT
END:VCALENDAR