BEGIN:VCALENDAR
VERSION:2.0
PRODID:-//The Review Newspaper - ECPv6.15.18//NONSGML v1.0//EN
CALSCALE:GREGORIAN
METHOD:PUBLISH
X-WR-CALNAME:The Review Newspaper
X-ORIGINAL-URL:https://thereview.ca
X-WR-CALDESC:Events for The Review Newspaper
REFRESH-INTERVAL;VALUE=DURATION:PT1H
X-Robots-Tag:noindex
X-PUBLISHED-TTL:PT1H
BEGIN:VTIMEZONE
TZID:America/Toronto
BEGIN:DAYLIGHT
TZOFFSETFROM:-0500
TZOFFSETTO:-0400
TZNAME:EDT
DTSTART:20180311T070000
END:DAYLIGHT
BEGIN:STANDARD
TZOFFSETFROM:-0400
TZOFFSETTO:-0500
TZNAME:EST
DTSTART:20181104T060000
END:STANDARD
BEGIN:DAYLIGHT
TZOFFSETFROM:-0500
TZOFFSETTO:-0400
TZNAME:EDT
DTSTART:20190310T070000
END:DAYLIGHT
BEGIN:STANDARD
TZOFFSETFROM:-0400
TZOFFSETTO:-0500
TZNAME:EST
DTSTART:20191103T060000
END:STANDARD
BEGIN:DAYLIGHT
TZOFFSETFROM:-0500
TZOFFSETTO:-0400
TZNAME:EDT
DTSTART:20200308T070000
END:DAYLIGHT
BEGIN:STANDARD
TZOFFSETFROM:-0400
TZOFFSETTO:-0500
TZNAME:EST
DTSTART:20201101T060000
END:STANDARD
END:VTIMEZONE
BEGIN:VEVENT
DTSTART;TZID=America/Toronto:20190510T193000
DTEND;TZID=America/Toronto:20190510T213000
DTSTAMP:20260421T030259
CREATED:20190501T141714Z
LAST-MODIFIED:20190501T141714Z
UID:10007307-1557516600-1557523800@thereview.ca
SUMMARY:Recital
DESCRIPTION:The MacLeod School of Fiddling\nRecital\nFriday\, May 10th\n@ 7:30pm\nLaggan Public School\nAll Welcome. \n\n\n	Related
URL:https://thereview.ca/event/recital/
LOCATION:Laggan Public Shcool\, 20345 County Rd 24\, Dalkeith\, Ontario\, Canada
CATEGORIES:Arts & Culture,Local,Music
ATTACH;FMTTYPE=image/jpeg:https://thereview.ca/wp-content/uploads/2018/11/fiddle-web.jpeg
GEO:45.3903478;-74.7025364
X-APPLE-STRUCTURED-LOCATION;VALUE=URI;X-ADDRESS=Laggan Public Shcool 20345 County Rd 24 Dalkeith Ontario Canada;X-APPLE-RADIUS=500;X-TITLE=20345 County Rd 24:geo:-74.7025364,45.3903478
END:VEVENT
END:VCALENDAR