BEGIN:VCALENDAR
VERSION:2.0
PRODID:-//The Review Newspaper - ECPv6.15.18//NONSGML v1.0//EN
CALSCALE:GREGORIAN
METHOD:PUBLISH
X-WR-CALNAME:The Review Newspaper
X-ORIGINAL-URL:https://thereview.ca
X-WR-CALDESC:Events for The Review Newspaper
REFRESH-INTERVAL;VALUE=DURATION:PT1H
X-Robots-Tag:noindex
X-PUBLISHED-TTL:PT1H
BEGIN:VTIMEZONE
TZID:America/Toronto
BEGIN:DAYLIGHT
TZOFFSETFROM:-0500
TZOFFSETTO:-0400
TZNAME:EDT
DTSTART:20180311T070000
END:DAYLIGHT
BEGIN:STANDARD
TZOFFSETFROM:-0400
TZOFFSETTO:-0500
TZNAME:EST
DTSTART:20181104T060000
END:STANDARD
BEGIN:DAYLIGHT
TZOFFSETFROM:-0500
TZOFFSETTO:-0400
TZNAME:EDT
DTSTART:20190310T070000
END:DAYLIGHT
BEGIN:STANDARD
TZOFFSETFROM:-0400
TZOFFSETTO:-0500
TZNAME:EST
DTSTART:20191103T060000
END:STANDARD
BEGIN:DAYLIGHT
TZOFFSETFROM:-0500
TZOFFSETTO:-0400
TZNAME:EDT
DTSTART:20200308T070000
END:DAYLIGHT
BEGIN:STANDARD
TZOFFSETFROM:-0400
TZOFFSETTO:-0500
TZNAME:EST
DTSTART:20201101T060000
END:STANDARD
BEGIN:DAYLIGHT
TZOFFSETFROM:-0500
TZOFFSETTO:-0400
TZNAME:EDT
DTSTART:20210314T070000
END:DAYLIGHT
BEGIN:STANDARD
TZOFFSETFROM:-0400
TZOFFSETTO:-0500
TZNAME:EST
DTSTART:20211107T060000
END:STANDARD
BEGIN:DAYLIGHT
TZOFFSETFROM:-0500
TZOFFSETTO:-0400
TZNAME:EDT
DTSTART:20220313T070000
END:DAYLIGHT
BEGIN:STANDARD
TZOFFSETFROM:-0400
TZOFFSETTO:-0500
TZNAME:EST
DTSTART:20221106T060000
END:STANDARD
BEGIN:DAYLIGHT
TZOFFSETFROM:-0500
TZOFFSETTO:-0400
TZNAME:EDT
DTSTART:20230312T070000
END:DAYLIGHT
BEGIN:STANDARD
TZOFFSETFROM:-0400
TZOFFSETTO:-0500
TZNAME:EST
DTSTART:20231105T060000
END:STANDARD
BEGIN:DAYLIGHT
TZOFFSETFROM:-0500
TZOFFSETTO:-0400
TZNAME:EDT
DTSTART:20240310T070000
END:DAYLIGHT
BEGIN:STANDARD
TZOFFSETFROM:-0400
TZOFFSETTO:-0500
TZNAME:EST
DTSTART:20241103T060000
END:STANDARD
BEGIN:DAYLIGHT
TZOFFSETFROM:-0500
TZOFFSETTO:-0400
TZNAME:EDT
DTSTART:20250309T070000
END:DAYLIGHT
BEGIN:STANDARD
TZOFFSETFROM:-0400
TZOFFSETTO:-0500
TZNAME:EST
DTSTART:20251102T060000
END:STANDARD
BEGIN:DAYLIGHT
TZOFFSETFROM:-0500
TZOFFSETTO:-0400
TZNAME:EDT
DTSTART:20260308T070000
END:DAYLIGHT
BEGIN:STANDARD
TZOFFSETFROM:-0400
TZOFFSETTO:-0500
TZNAME:EST
DTSTART:20261101T060000
END:STANDARD
END:VTIMEZONE
BEGIN:VTIMEZONE
TZID:UTC
BEGIN:STANDARD
TZOFFSETFROM:+0000
TZOFFSETTO:+0000
TZNAME:UTC
DTSTART:20210101T000000
END:STANDARD
END:VTIMEZONE
BEGIN:VEVENT
DTSTART;TZID=America/Toronto:20251129T120000
DTEND;TZID=America/Toronto:20251129T140000
DTSTAMP:20260419T214331
CREATED:20251124T170203Z
LAST-MODIFIED:20251124T170203Z
UID:10029279-1764417600-1764424800@thereview.ca
SUMMARY:Holy Trinity Annual Christmas Tea
DESCRIPTION:$15 admission\, Tombola and bake sale \nContact holytrinityhawkesbury@gmail.com for more details. \n\n\n	Related
URL:https://thereview.ca/event/holy-trinity-annual-christmas-tea/
LOCATION:Holy Trinity Anglican Church\, 440 Stanley Street\, Hawkesbury\, Ontario\, Canada
ATTACH;FMTTYPE=image/jpeg:https://s3.us-east-2.amazonaws.com/thereview.ca/wp-content/uploads/2025/11/24115947/anglican-event-and-fb.jpg
GEO:45.6058705;-74.6139945
X-APPLE-STRUCTURED-LOCATION;VALUE=URI;X-ADDRESS=Holy Trinity Anglican Church 440 Stanley Street Hawkesbury Ontario Canada;X-APPLE-RADIUS=500;X-TITLE=440 Stanley Street:geo:-74.6139945,45.6058705
END:VEVENT
BEGIN:VEVENT
DTSTART;TZID=America/Toronto:20241122T120000
DTEND;TZID=America/Toronto:20241122T140000
DTSTAMP:20260419T214331
CREATED:20241113T155300Z
LAST-MODIFIED:20241113T155300Z
UID:10010128-1732276800-1732284000@thereview.ca
SUMMARY:Christmas Tea
DESCRIPTION:Come join us for our Annual Christmas Tea with Bake Sale and TomBola! Tea: $15 per person \n\n\n	Related
URL:https://thereview.ca/event/christmas-tea/
LOCATION:Holy Trinity Anglican Church\, 440 Stanley Street\, Hawkesbury\, Ontario\, Canada
CATEGORIES:Craft & Bake Tables,Food & Beverage
ATTACH;FMTTYPE=image/jpeg:https://s3.us-east-2.amazonaws.com/thereview.ca/wp-content/uploads/2024/11/13105127/christmas-tea.jpg
GEO:45.6058705;-74.6139945
X-APPLE-STRUCTURED-LOCATION;VALUE=URI;X-ADDRESS=Holy Trinity Anglican Church 440 Stanley Street Hawkesbury Ontario Canada;X-APPLE-RADIUS=500;X-TITLE=440 Stanley Street:geo:-74.6139945,45.6058705
END:VEVENT
BEGIN:VEVENT
DTSTART;TZID=UTC:20221203T120000
DTEND;TZID=UTC:20221203T133000
DTSTAMP:20260419T214331
CREATED:20221202T155143Z
LAST-MODIFIED:20221202T155316Z
UID:10008350-1670068800-1670074200@thereview.ca
SUMMARY:Christmas Tea & Bake Sale
DESCRIPTION:More information: 613-675-2134 \n\n\n\n\n\n\n\n\n\n\n\n\n\n\n	Related
URL:https://thereview.ca/event/christmas-tea-bake-sale-2/
LOCATION:Holy Trinity Anglican Church\, 440 Stanley Street\, Hawkesbury\, Ontario\, Canada
GEO:45.6058705;-74.6139945
X-APPLE-STRUCTURED-LOCATION;VALUE=URI;X-ADDRESS=Holy Trinity Anglican Church 440 Stanley Street Hawkesbury Ontario Canada;X-APPLE-RADIUS=500;X-TITLE=440 Stanley Street:geo:-74.6139945,45.6058705
END:VEVENT
BEGIN:VEVENT
DTSTART;TZID=UTC:20221203T120000
DTEND;TZID=UTC:20221203T133000
DTSTAMP:20260419T214331
CREATED:20221123T155228Z
LAST-MODIFIED:20221123T155229Z
UID:10008003-1670068800-1670074200@thereview.ca
SUMMARY:Christmas Tea & Bake Sale
DESCRIPTION:Call 613-675-2134 for more information \n\n\n	Related
URL:https://thereview.ca/event/christmas-tea-bake-sale/
LOCATION:Holy Trinity Anglican Church\, 440 Stanley Street\, Hawkesbury\, Ontario\, Canada
CATEGORIES:Local
GEO:45.6058705;-74.6139945
X-APPLE-STRUCTURED-LOCATION;VALUE=URI;X-ADDRESS=Holy Trinity Anglican Church 440 Stanley Street Hawkesbury Ontario Canada;X-APPLE-RADIUS=500;X-TITLE=440 Stanley Street:geo:-74.6139945,45.6058705
END:VEVENT
BEGIN:VEVENT
DTSTART;TZID=UTC:20220924T090000
DTEND;TZID=UTC:20220924T120000
DTSTAMP:20260419T214331
CREATED:20220914T172732Z
LAST-MODIFIED:20220914T172733Z
UID:10007907-1664010000-1664020800@thereview.ca
SUMMARY:Indoor Garage Sale
DESCRIPTION:Donations welcome! (but no furniture) \nFor more information\, call Rita at613-675-2134 \n\n\n	Related
URL:https://thereview.ca/event/indoor-garage-sale/
LOCATION:Holy Trinity Anglican Church\, 440 Stanley Street\, Hawkesbury\, Ontario\, Canada
CATEGORIES:Local
ATTACH;FMTTYPE=image/jpeg:https://thereview.ca/wp-content/uploads/2021/08/TK_Hawkesbury-Anglican-Church-7_web.jpg
GEO:45.6058705;-74.6139945
X-APPLE-STRUCTURED-LOCATION;VALUE=URI;X-ADDRESS=Holy Trinity Anglican Church 440 Stanley Street Hawkesbury Ontario Canada;X-APPLE-RADIUS=500;X-TITLE=440 Stanley Street:geo:-74.6139945,45.6058705
END:VEVENT
BEGIN:VEVENT
DTSTART;TZID=America/Toronto:20190620T170000
DTEND;TZID=America/Toronto:20190620T190000
DTSTAMP:20260419T214331
CREATED:20190619T131045Z
LAST-MODIFIED:20190619T163007Z
UID:10007499-1561050000-1561057200@thereview.ca
SUMMARY:Roast Beef Dinner
DESCRIPTION:ROAST BEEF DINNER\nHawkesbury Anglican Church\nClub les Invincibles\nSponsored by Hawkesbury Rotary Club.\nHosted by Holy Trinity Anglican Church\,\n440 Stanley St.\, Hawkesbury\nThurs.\, June 20 from 5-7 pm\nTickets $18 adults; $10 children\nTickets on Sale at The Review. \n\n\n	Related
URL:https://thereview.ca/event/roast-beef-dinner-6/
LOCATION:Holy Trinity Anglican Church\, 440 Stanley Street\, Hawkesbury\, Ontario\, Canada
CATEGORIES:Food & Beverage,Local
GEO:45.6058705;-74.6139945
X-APPLE-STRUCTURED-LOCATION;VALUE=URI;X-ADDRESS=Holy Trinity Anglican Church 440 Stanley Street Hawkesbury Ontario Canada;X-APPLE-RADIUS=500;X-TITLE=440 Stanley Street:geo:-74.6139945,45.6058705
END:VEVENT
END:VCALENDAR