BEGIN:VCALENDAR
VERSION:2.0
PRODID:-//The Review Newspaper - ECPv6.15.18//NONSGML v1.0//EN
CALSCALE:GREGORIAN
METHOD:PUBLISH
X-WR-CALNAME:The Review Newspaper
X-ORIGINAL-URL:https://thereview.ca
X-WR-CALDESC:Events for The Review Newspaper
REFRESH-INTERVAL;VALUE=DURATION:PT1H
X-Robots-Tag:noindex
X-PUBLISHED-TTL:PT1H
BEGIN:VTIMEZONE
TZID:America/Toronto
BEGIN:DAYLIGHT
TZOFFSETFROM:-0500
TZOFFSETTO:-0400
TZNAME:EDT
DTSTART:20220313T070000
END:DAYLIGHT
BEGIN:STANDARD
TZOFFSETFROM:-0400
TZOFFSETTO:-0500
TZNAME:EST
DTSTART:20221106T060000
END:STANDARD
BEGIN:DAYLIGHT
TZOFFSETFROM:-0500
TZOFFSETTO:-0400
TZNAME:EDT
DTSTART:20230312T070000
END:DAYLIGHT
BEGIN:STANDARD
TZOFFSETFROM:-0400
TZOFFSETTO:-0500
TZNAME:EST
DTSTART:20231105T060000
END:STANDARD
BEGIN:DAYLIGHT
TZOFFSETFROM:-0500
TZOFFSETTO:-0400
TZNAME:EDT
DTSTART:20240310T070000
END:DAYLIGHT
BEGIN:STANDARD
TZOFFSETFROM:-0400
TZOFFSETTO:-0500
TZNAME:EST
DTSTART:20241103T060000
END:STANDARD
END:VTIMEZONE
BEGIN:VTIMEZONE
TZID:UTC
BEGIN:STANDARD
TZOFFSETFROM:+0000
TZOFFSETTO:+0000
TZNAME:UTC
DTSTART:20210101T000000
END:STANDARD
END:VTIMEZONE
BEGIN:VEVENT
DTSTART;TZID=America/Toronto:20230909T090000
DTEND;TZID=America/Toronto:20230909T153000
DTSTAMP:20260422T015041
CREATED:20230906T185135Z
LAST-MODIFIED:20230906T185250Z
UID:10008613-1694250000-1694273400@thereview.ca
SUMMARY:2023 Annual Prescott County Plowing Match
DESCRIPTION:FREE ADMISSION \n\n\n\nCompetition starts at 10 am \n\n\n\nFor Information:Glenn Conway 613.674.2808Richard Sauvé 613.551.5144Charly Leduc 613.880.9100 \n\n\n\nwww.prescottplowmenass.com \n\n\n\n\n\n\n\n\n\n\n\n\n\n\n	Related
URL:https://thereview.ca/event/2023-annual-prescott-county-plowing-match/
LOCATION:Ferme Agriber Inc.\, 251\, chemin Caledonia\, Canada
ATTACH;FMTTYPE=image/jpeg:https://thereview.ca/wp-content/uploads/2022/09/1-online-RM_14SEP22_Prescott-County-Plowing-Match-6-Pierre-Charlebois-on-his-Massey-Ferguson.jpg
GEO:43.0647528;-79.9550748
X-APPLE-STRUCTURED-LOCATION;VALUE=URI;X-ADDRESS=Ferme Agriber Inc. 251 chemin Caledonia Canada;X-APPLE-RADIUS=500;X-TITLE=251\, chemin Caledonia:geo:-79.9550748,43.0647528
END:VEVENT
BEGIN:VEVENT
DTSTART;TZID=UTC:20220910T090000
DTEND;TZID=UTC:20220910T153000
DTSTAMP:20260422T015041
CREATED:20220824T175942Z
LAST-MODIFIED:20220824T180621Z
UID:10008302-1662800400-1662823800@thereview.ca
SUMMARY:62nd Annual Prescott County Plowing Match
DESCRIPTION:For more information\, contact: \nGlen Conway 613.674.2808 \nRichard Sauvé 613.551.5144 \nCharly Leduc 613.880.9100 \nor visit the following website: http://www.prescottplowmenass.com \n\n\n	Related
URL:https://thereview.ca/event/concours-de-labour-plowing-match/
LOCATION:Ferme Agriber Inc.\, 251\, chemin Caledonia\, Canada
CATEGORIES:Local
ATTACH;FMTTYPE=image/jpeg:https://thereview.ca/wp-content/uploads/2022/08/prescott-plowing-match-2022-08-24.jpg
GEO:43.0647528;-79.9550748
X-APPLE-STRUCTURED-LOCATION;VALUE=URI;X-ADDRESS=Ferme Agriber Inc. 251 chemin Caledonia Canada;X-APPLE-RADIUS=500;X-TITLE=251\, chemin Caledonia:geo:-79.9550748,43.0647528
END:VEVENT
END:VCALENDAR