BEGIN:VCALENDAR
VERSION:2.0
PRODID:-//The Review Newspaper - ECPv6.15.18//NONSGML v1.0//EN
CALSCALE:GREGORIAN
METHOD:PUBLISH
X-ORIGINAL-URL:https://thereview.ca
X-WR-CALDESC:Events for The Review Newspaper
REFRESH-INTERVAL;VALUE=DURATION:PT1H
X-Robots-Tag:noindex
X-PUBLISHED-TTL:PT1H
BEGIN:VTIMEZONE
TZID:America/Toronto
BEGIN:DAYLIGHT
TZOFFSETFROM:-0500
TZOFFSETTO:-0400
TZNAME:EDT
DTSTART:20180311T070000
END:DAYLIGHT
BEGIN:STANDARD
TZOFFSETFROM:-0400
TZOFFSETTO:-0500
TZNAME:EST
DTSTART:20181104T060000
END:STANDARD
BEGIN:DAYLIGHT
TZOFFSETFROM:-0500
TZOFFSETTO:-0400
TZNAME:EDT
DTSTART:20190310T070000
END:DAYLIGHT
BEGIN:STANDARD
TZOFFSETFROM:-0400
TZOFFSETTO:-0500
TZNAME:EST
DTSTART:20191103T060000
END:STANDARD
BEGIN:DAYLIGHT
TZOFFSETFROM:-0500
TZOFFSETTO:-0400
TZNAME:EDT
DTSTART:20200308T070000
END:DAYLIGHT
BEGIN:STANDARD
TZOFFSETFROM:-0400
TZOFFSETTO:-0500
TZNAME:EST
DTSTART:20201101T060000
END:STANDARD
END:VTIMEZONE
BEGIN:VEVENT
DTSTART;TZID=America/Toronto:20190703T140000
DTEND;TZID=America/Toronto:20190703T190000
DTSTAMP:20260422T001753
CREATED:20190613T170029Z
LAST-MODIFIED:20190613T170029Z
UID:10008121-1562162400-1562180400@thereview.ca
SUMMARY:Canadian Blood Services
DESCRIPTION:Your donation matters: \nIt matters to every patient across Canada. Because it’s something we can do today to help others wake up healthier tomorrow. \n  \nDonate blood. \n120 donors needed in Embrun. \n\n\n	Related
URL:https://thereview.ca/event/canadian-blood-services/
LOCATION:Embrun Recreation Centre\, 6 Blais St.\, Embrun\, Ontario
CATEGORIES:Local,Wellness
ATTACH;FMTTYPE=image/jpeg:https://thereview.ca/wp-content/uploads/2019/06/Canadian-Blood-Services-2019-06-12.jpg
GEO:45.275833;-75.280949
X-APPLE-STRUCTURED-LOCATION;VALUE=URI;X-ADDRESS=Embrun Recreation Centre 6 Blais St. Embrun Ontario;X-APPLE-RADIUS=500;X-TITLE=6 Blais St.:geo:-75.280949,45.275833
END:VEVENT
BEGIN:VEVENT
DTSTART;VALUE=DATE:20190306
DTEND;VALUE=DATE:20190307
DTSTAMP:20260422T001753
CREATED:20190301T151856Z
LAST-MODIFIED:20190301T151856Z
UID:10007077-1551830400-1551916799@thereview.ca
SUMMARY:Blood Donor Clinic
DESCRIPTION:YOU HAVE THE POWER TO GIVE LIFE\nDonate blood and join the movement today. \nApproximately 1 in 2 Canadians\nare eligible to give blood. \nHowever\, last year only 1 in 60\neligible donors actually did. \n120 blood donors are needed\nin Embrun on Wednesday\, March 6 \nEmbrun Donor Centre Location:\nEmbrun Recreation Centre\, 6 Blais Street \nDonation Hours: 2 p.m. to 4 p.m. & 5 p.m. to 8 p.m. \nTo save your spot please visit\nblood.ca or call 1-888-2DONATE \nBook your appointment at blood.ca \n\n\n	Related
URL:https://thereview.ca/event/blood-donor-clinic-6/
LOCATION:Embrun Recreation Centre\, 6 Blais St.\, Embrun\, Ontario
CATEGORIES:Local,Wellness
GEO:45.275833;-75.280949
X-APPLE-STRUCTURED-LOCATION;VALUE=URI;X-ADDRESS=Embrun Recreation Centre 6 Blais St. Embrun Ontario;X-APPLE-RADIUS=500;X-TITLE=6 Blais St.:geo:-75.280949,45.275833
END:VEVENT
END:VCALENDAR