BEGIN:VCALENDAR
VERSION:2.0
PRODID:-//The Review Newspaper - ECPv6.15.18//NONSGML v1.0//EN
CALSCALE:GREGORIAN
METHOD:PUBLISH
X-ORIGINAL-URL:https://thereview.ca
X-WR-CALDESC:Events for The Review Newspaper
REFRESH-INTERVAL;VALUE=DURATION:PT1H
X-Robots-Tag:noindex
X-PUBLISHED-TTL:PT1H
BEGIN:VTIMEZONE
TZID:UTC
BEGIN:STANDARD
TZOFFSETFROM:+0000
TZOFFSETTO:+0000
TZNAME:UTC
DTSTART:20210101T000000
END:STANDARD
END:VTIMEZONE
BEGIN:VEVENT
DTSTART;TZID=UTC:20220925T130000
DTEND;TZID=UTC:20220925T160000
DTSTAMP:20260424T020436
CREATED:20220914T171800Z
LAST-MODIFIED:20220914T171802Z
UID:10007854-1664110800-1664121600@thereview.ca
SUMMARY:Brownsburg Mini Reunion
DESCRIPTION:Related
URL:https://thereview.ca/event/brownsburg-mini-reunion/
LOCATION:Brownsburg Legion Hall\, 210 Rue MacIvar\, Brownsburg\, Québec\, Canada
CATEGORIES:Local
ATTACH;FMTTYPE=image/jpeg:https://thereview.ca/wp-content/uploads/2022/09/oa-brownsburg-reunion-2022-09-14.jpg
GEO:45.6750331;-74.4045009
X-APPLE-STRUCTURED-LOCATION;VALUE=URI;X-ADDRESS=Brownsburg Legion Hall 210 Rue MacIvar Brownsburg Québec Canada;X-APPLE-RADIUS=500;X-TITLE=210 Rue MacIvar:geo:-74.4045009,45.6750331
END:VEVENT
END:VCALENDAR