BEGIN:VCALENDAR
VERSION:2.0
PRODID:-//The Review Newspaper - ECPv6.15.18//NONSGML v1.0//EN
CALSCALE:GREGORIAN
METHOD:PUBLISH
X-ORIGINAL-URL:https://thereview.ca
X-WR-CALDESC:Events for The Review Newspaper
REFRESH-INTERVAL;VALUE=DURATION:PT1H
X-Robots-Tag:noindex
X-PUBLISHED-TTL:PT1H
BEGIN:VTIMEZONE
TZID:UTC
BEGIN:STANDARD
TZOFFSETFROM:+0000
TZOFFSETTO:+0000
TZNAME:UTC
DTSTART:20210101T000000
END:STANDARD
END:VTIMEZONE
BEGIN:VTIMEZONE
TZID:America/Toronto
BEGIN:DAYLIGHT
TZOFFSETFROM:-0500
TZOFFSETTO:-0400
TZNAME:EDT
DTSTART:20180311T070000
END:DAYLIGHT
BEGIN:STANDARD
TZOFFSETFROM:-0400
TZOFFSETTO:-0500
TZNAME:EST
DTSTART:20181104T060000
END:STANDARD
BEGIN:DAYLIGHT
TZOFFSETFROM:-0500
TZOFFSETTO:-0400
TZNAME:EDT
DTSTART:20190310T070000
END:DAYLIGHT
BEGIN:STANDARD
TZOFFSETFROM:-0400
TZOFFSETTO:-0500
TZNAME:EST
DTSTART:20191103T060000
END:STANDARD
BEGIN:DAYLIGHT
TZOFFSETFROM:-0500
TZOFFSETTO:-0400
TZNAME:EDT
DTSTART:20200308T070000
END:DAYLIGHT
BEGIN:STANDARD
TZOFFSETFROM:-0400
TZOFFSETTO:-0500
TZNAME:EST
DTSTART:20201101T060000
END:STANDARD
END:VTIMEZONE
BEGIN:VEVENT
DTSTART;TZID=UTC:20230429T000000
DTEND;TZID=UTC:20230429T235959
DTSTAMP:20260423T220123
CREATED:20230216T200047Z
LAST-MODIFIED:20230216T200057Z
UID:10008420-1682726400-1682812799@thereview.ca
SUMMARY:Annual Square Dance Competition
DESCRIPTION:Related
URL:https://thereview.ca/event/annual-square-dance-competition/
LOCATION:Vankleek Hill Collegiate Institute\, 5814\, 34 Hwy\, Vankleek Hill\, Vankleek Hill\, K0B 1R0\, Canada
CATEGORIES:Local
ATTACH;FMTTYPE=image/jpeg:https://thereview.ca/wp-content/uploads/2017/01/Square-dancing.jpg
GEO:45.5225422;-74.652243
X-APPLE-STRUCTURED-LOCATION;VALUE=URI;X-ADDRESS=Vankleek Hill Collegiate Institute 5814 34 Hwy Vankleek Hill Vankleek Hill K0B 1R0 Canada;X-APPLE-RADIUS=500;X-TITLE=5814\, 34 Hwy:geo:-74.652243,45.5225422
END:VEVENT
BEGIN:VEVENT
DTSTART;TZID=UTC:20221128T203000
DTEND;TZID=UTC:20221128T220000
DTSTAMP:20260423T220123
CREATED:20221116T161314Z
LAST-MODIFIED:20221116T162505Z
UID:10007904-1669667400-1669672800@thereview.ca
SUMMARY:VKH Fiddle & Dance Annual General Meeting
DESCRIPTION:Everyone welcome! \n\n\n	Related
URL:https://thereview.ca/event/annual-general-meeting-8/
LOCATION:Vankleek Hill Fiddle and Dance\, 508 Fries Ave\, L'Orignal\, Ontario\, Canada
CATEGORIES:Local
GEO:45.6300073;-74.6749811
X-APPLE-STRUCTURED-LOCATION;VALUE=URI;X-ADDRESS=Vankleek Hill Fiddle and Dance 508 Fries Ave L'Orignal Ontario Canada;X-APPLE-RADIUS=500;X-TITLE=508 Fries Ave:geo:-74.6749811,45.6300073
END:VEVENT
BEGIN:VEVENT
DTSTART;TZID=America/Toronto:20191028T080000
DTEND;TZID=America/Toronto:20191028T170000
DTSTAMP:20260423T220123
CREATED:20191016T142658Z
LAST-MODIFIED:20191016T142658Z
UID:10007921-1572249600-1572282000@thereview.ca
SUMMARY:Annual meeting
DESCRIPTION:Vankeek Hill\nFiddle and Dance Association\nANNUAL MEETING\nMonday\,\nOctober 28\, 2019\n8:00 p.m.\n96 Grout Street\, Vankleek Hill\nEveryone Welcome. \n\n\n	Related
URL:https://thereview.ca/event/annual-meeting-3/
LOCATION:96 Grout\, Vankleek Hill\, ON
CATEGORIES:Local,Meetings
ATTACH;FMTTYPE=image/jpeg:https://thereview.ca/wp-content/uploads/2018/03/meeting.jpg
END:VEVENT
END:VCALENDAR