BEGIN:VCALENDAR
VERSION:2.0
PRODID:-//The Review Newspaper - ECPv6.15.18//NONSGML v1.0//EN
CALSCALE:GREGORIAN
METHOD:PUBLISH
X-WR-CALNAME:The Review Newspaper
X-ORIGINAL-URL:https://thereview.ca
X-WR-CALDESC:Events for The Review Newspaper
REFRESH-INTERVAL;VALUE=DURATION:PT1H
X-Robots-Tag:noindex
X-PUBLISHED-TTL:PT1H
BEGIN:VTIMEZONE
TZID:America/Toronto
BEGIN:DAYLIGHT
TZOFFSETFROM:-0500
TZOFFSETTO:-0400
TZNAME:EDT
DTSTART:20180311T070000
END:DAYLIGHT
BEGIN:STANDARD
TZOFFSETFROM:-0400
TZOFFSETTO:-0500
TZNAME:EST
DTSTART:20181104T060000
END:STANDARD
BEGIN:DAYLIGHT
TZOFFSETFROM:-0500
TZOFFSETTO:-0400
TZNAME:EDT
DTSTART:20190310T070000
END:DAYLIGHT
BEGIN:STANDARD
TZOFFSETFROM:-0400
TZOFFSETTO:-0500
TZNAME:EST
DTSTART:20191103T060000
END:STANDARD
BEGIN:DAYLIGHT
TZOFFSETFROM:-0500
TZOFFSETTO:-0400
TZNAME:EDT
DTSTART:20200308T070000
END:DAYLIGHT
BEGIN:STANDARD
TZOFFSETFROM:-0400
TZOFFSETTO:-0500
TZNAME:EST
DTSTART:20201101T060000
END:STANDARD
BEGIN:DAYLIGHT
TZOFFSETFROM:-0500
TZOFFSETTO:-0400
TZNAME:EDT
DTSTART:20210314T070000
END:DAYLIGHT
BEGIN:STANDARD
TZOFFSETFROM:-0400
TZOFFSETTO:-0500
TZNAME:EST
DTSTART:20211107T060000
END:STANDARD
BEGIN:DAYLIGHT
TZOFFSETFROM:-0500
TZOFFSETTO:-0400
TZNAME:EDT
DTSTART:20220313T070000
END:DAYLIGHT
BEGIN:STANDARD
TZOFFSETFROM:-0400
TZOFFSETTO:-0500
TZNAME:EST
DTSTART:20221106T060000
END:STANDARD
BEGIN:DAYLIGHT
TZOFFSETFROM:-0500
TZOFFSETTO:-0400
TZNAME:EDT
DTSTART:20230312T070000
END:DAYLIGHT
BEGIN:STANDARD
TZOFFSETFROM:-0400
TZOFFSETTO:-0500
TZNAME:EST
DTSTART:20231105T060000
END:STANDARD
BEGIN:DAYLIGHT
TZOFFSETFROM:-0500
TZOFFSETTO:-0400
TZNAME:EDT
DTSTART:20240310T070000
END:DAYLIGHT
BEGIN:STANDARD
TZOFFSETFROM:-0400
TZOFFSETTO:-0500
TZNAME:EST
DTSTART:20241103T060000
END:STANDARD
BEGIN:DAYLIGHT
TZOFFSETFROM:-0500
TZOFFSETTO:-0400
TZNAME:EDT
DTSTART:20250309T070000
END:DAYLIGHT
BEGIN:STANDARD
TZOFFSETFROM:-0400
TZOFFSETTO:-0500
TZNAME:EST
DTSTART:20251102T060000
END:STANDARD
END:VTIMEZONE
BEGIN:VEVENT
DTSTART;TZID=America/Toronto:20240518T090000
DTEND;TZID=America/Toronto:20240518T120000
DTSTAMP:20260420T230702
CREATED:20240506T182349Z
LAST-MODIFIED:20240506T182357Z
UID:10009935-1716022800-1716033600@thereview.ca
SUMMARY:Plant Sale
DESCRIPTION:Annuals\, perennials\, vegetable seedlings and more!  \n\n\n\n**new location** \n\n\n\n38 Main Street\, Vankleek Hill — Across from Canada Post \n\n\n\nRain or Shine \n\n\n\n\n\n\n\n\n\n\n\n\n\n\n	Related
URL:https://thereview.ca/event/plant-sale-5/
ATTACH;FMTTYPE=image/jpeg:https://thereview.ca/wp-content/uploads/2024/05/plant-sale-events.jpg
END:VEVENT
BEGIN:VEVENT
DTSTART;TZID=America/Toronto:20230817T183000
DTEND;TZID=America/Toronto:20230817T200000
DTSTAMP:20260420T230702
CREATED:20230816T174401Z
LAST-MODIFIED:20230816T174409Z
UID:10008596-1692297000-1692302400@thereview.ca
SUMMARY:Speaker: Tara McWhirter
DESCRIPTION:Tara will speak about her gardens and Monarch butterflies. \n\n\n\nPlease bring a lawn chair. The shop will be open. \n\n\n\ninfo@vkhhorticultural.ca or on Facebook. \n\n\n\n \n\n\n\n\n\n\n\n\n\n\n\n\n\n\n	Related
URL:https://thereview.ca/event/speaker-tara-mcwhirter/
LOCATION:Garden Path Homemade Soap\, 284 Pleasant Corners Road East\, Vankleek Hill\, Ontario\, K0B 1R0\, Canada
ATTACH;FMTTYPE=image/jpeg:https://thereview.ca/wp-content/uploads/2022/08/Submitted-Greg-Byers-Tara-MacWhirter-MonarchMotel.jpg
GEO:45.5424397;-74.6034931
X-APPLE-STRUCTURED-LOCATION;VALUE=URI;X-ADDRESS=Garden Path Homemade Soap 284 Pleasant Corners Road East Vankleek Hill Ontario K0B 1R0 Canada;X-APPLE-RADIUS=500;X-TITLE=284 Pleasant Corners Road East:geo:-74.6034931,45.5424397
END:VEVENT
BEGIN:VEVENT
DTSTART;TZID=America/Toronto:20230520T090000
DTEND;TZID=America/Toronto:20230520T120000
DTSTAMP:20260420T230702
CREATED:20230510T174150Z
LAST-MODIFIED:20230510T174200Z
UID:10008435-1684573200-1684584000@thereview.ca
SUMMARY:Plant Sale
DESCRIPTION:Annuals\, perennials\, vegetable\, seedlings & more \n\n\n\nRain or shine! \n\n\n\n\n\n\n\n\n\n \n\n\n\n\n\n\n\n\n	Related
URL:https://thereview.ca/event/plant-sale-4/
LOCATION:In front of Scotiabank<br>\, 55 Main Street\, Vankleek Hill\, Ontario
CATEGORIES:Local
ATTACH;FMTTYPE=image/jpeg:https://thereview.ca/wp-content/uploads/2019/05/plant-1.jpg
END:VEVENT
BEGIN:VEVENT
DTSTART;TZID=America/Toronto:20220421T184500
DTEND;TZID=America/Toronto:20220421T184500
DTSTAMP:20260420T230702
CREATED:20220418T172432Z
LAST-MODIFIED:20220419T153420Z
UID:10007798-1650566700-1650566700@thereview.ca
SUMMARY:Speaker Sandra Bebbington of VKH Tulip Fields
DESCRIPTION:Thursday\, April 21 at new time of 6:45 pm. \nIn person meeting with speaker Sandra Bebbington of Vankleek Hill Tulip Fields \nCommunity Centre\, 36 Mill St.\, Vankleek Hill \nAll covid protocols to be observed. \nBring your own beverage to enjoy with our wrapped snacks before speaker begins.\ninfo@vkhhorticultural.ca \n\n\n	Related
URL:https://thereview.ca/event/vankleek-hill-and-district-horticultural-society/
LOCATION:Vankleek Hill Community Centre\, 36 Mill St.\, Vankleek Hill\, Ontario\, K0B 1R0\, Canada
CATEGORIES:Local
ATTACH;FMTTYPE=image/jpeg:https://thereview.ca/wp-content/uploads/2021/10/RM_JN0221_Tulip-Farm-2-scaled.jpg
GEO:45.5169974;-74.6524697
X-APPLE-STRUCTURED-LOCATION;VALUE=URI;X-ADDRESS=Vankleek Hill Community Centre 36 Mill St. Vankleek Hill Ontario K0B 1R0 Canada;X-APPLE-RADIUS=500;X-TITLE=36 Mill St.:geo:-74.6524697,45.5169974
END:VEVENT
BEGIN:VEVENT
DTSTART;TZID=America/Toronto:20210520T190000
DTEND;TZID=America/Toronto:20210520T210000
DTSTAMP:20260420T230702
CREATED:20210511T164138Z
LAST-MODIFIED:20210511T164138Z
UID:10007617-1621537200-1621544400@thereview.ca
SUMMARY:Virtual Gardening presentation
DESCRIPTION:Vankleek Hill & District Horticultural Society \nRebecca Last will do a virtual presentation on Water-wise gardening. \nZoom code will be sent out by email or you may contact info@vkhhorticultural.ca \n\n\n	Related
URL:https://thereview.ca/event/virtual-gardening-presentation/
CATEGORIES:Meetings
ATTACH;FMTTYPE=image/jpeg:https://thereview.ca/wp-content/uploads/2020/09/K-Pedersen-Garden.jpg
END:VEVENT
BEGIN:VEVENT
DTSTART;TZID=America/Toronto:20210128T190000
DTEND;TZID=America/Toronto:20210128T200000
DTSTAMP:20260420T230702
CREATED:20210119T164452Z
LAST-MODIFIED:20210119T164452Z
UID:10007586-1611860400-1611864000@thereview.ca
SUMMARY:Annual General Meeting
DESCRIPTION:Will be held virtually via Zoom. Info: 613-678-2967 \n\n\n	Related
URL:https://thereview.ca/event/annual-general-meeting-4/
CATEGORIES:Meetings
ATTACH;FMTTYPE=image/jpeg:https://thereview.ca/wp-content/uploads/2020/07/ballpen-blur-close-up-computer-461077.jpg
END:VEVENT
BEGIN:VEVENT
DTSTART;TZID=America/Toronto:20191017T180000
DTEND;TZID=America/Toronto:20191017T200000
DTSTAMP:20260420T230702
CREATED:20191009T175700Z
LAST-MODIFIED:20191009T175700Z
UID:10007833-1571335200-1571342400@thereview.ca
SUMMARY:Fall Potluck Dinner
DESCRIPTION:Vankleek Hill and District\nHorticultural Society\nFALL POTLUCK DINNER\nYearbook cover photo competition.\nThursday\, October 17\, 2019 at 6 pm Vankleek Hill Community Centre\n36 Mill Street\, Vankleek Hill\nAll are welcome. Bring a dish\, bring a friend.\nvkhhorticultural.ca or find us on Facebook \n\n\n	Related
URL:https://thereview.ca/event/fall-potluck-dinner/
LOCATION:Vankleek Hill Community Centre\, 36 Mill St.\, Vankleek Hill\, Ontario\, K0B 1R0\, Canada
CATEGORIES:Food & Beverage,Local,Meetings
GEO:45.5169974;-74.6524697
X-APPLE-STRUCTURED-LOCATION;VALUE=URI;X-ADDRESS=Vankleek Hill Community Centre 36 Mill St. Vankleek Hill Ontario K0B 1R0 Canada;X-APPLE-RADIUS=500;X-TITLE=36 Mill St.:geo:-74.6524697,45.5169974
END:VEVENT
END:VCALENDAR