BEGIN:VCALENDAR
VERSION:2.0
PRODID:-//The Review Newspaper - ECPv6.15.18//NONSGML v1.0//EN
CALSCALE:GREGORIAN
METHOD:PUBLISH
X-ORIGINAL-URL:https://thereview.ca
X-WR-CALDESC:Events for The Review Newspaper
REFRESH-INTERVAL;VALUE=DURATION:PT1H
X-Robots-Tag:noindex
X-PUBLISHED-TTL:PT1H
BEGIN:VTIMEZONE
TZID:America/Toronto
BEGIN:DAYLIGHT
TZOFFSETFROM:-0500
TZOFFSETTO:-0400
TZNAME:EDT
DTSTART:20210314T070000
END:DAYLIGHT
BEGIN:STANDARD
TZOFFSETFROM:-0400
TZOFFSETTO:-0500
TZNAME:EST
DTSTART:20211107T060000
END:STANDARD
BEGIN:DAYLIGHT
TZOFFSETFROM:-0500
TZOFFSETTO:-0400
TZNAME:EDT
DTSTART:20220313T070000
END:DAYLIGHT
BEGIN:STANDARD
TZOFFSETFROM:-0400
TZOFFSETTO:-0500
TZNAME:EST
DTSTART:20221106T060000
END:STANDARD
BEGIN:DAYLIGHT
TZOFFSETFROM:-0500
TZOFFSETTO:-0400
TZNAME:EDT
DTSTART:20230312T070000
END:DAYLIGHT
BEGIN:STANDARD
TZOFFSETFROM:-0400
TZOFFSETTO:-0500
TZNAME:EST
DTSTART:20231105T060000
END:STANDARD
END:VTIMEZONE
BEGIN:VEVENT
DTSTART;VALUE=DATE:20220604
DTEND;VALUE=DATE:20220605
DTSTAMP:20260419T164041
CREATED:20180904T151632Z
LAST-MODIFIED:20220519T193942Z
UID:10007414-1654300800-1654387199@thereview.ca
SUMMARY:Vintage Jewelry Sale
DESCRIPTION:Vintage Jewelry Sale on Vankleek Hill Cottage verandah. \nProceeds to be donated to the Hawkesbury and District General Hospital for new mammography technology. \nDonate & help! \nBring your jewelry donations to The Review or The Vankleek Cottage before June 1\, 2022. \nThank you! \n  \n  \n\n\n	Related
URL:https://thereview.ca/event/vintage-jewellery/
LOCATION:Vankleek Hill Cottage\, 105 Main Street\, Vankleek Hill\, Ontario\, Canada
CATEGORIES:Local
GEO:45.5189615;-74.6491278
X-APPLE-STRUCTURED-LOCATION;VALUE=URI;X-ADDRESS=Vankleek Hill Cottage 105 Main Street Vankleek Hill Ontario Canada;X-APPLE-RADIUS=500;X-TITLE=105 Main Street:geo:-74.6491278,45.5189615
END:VEVENT
END:VCALENDAR