BEGIN:VCALENDAR
VERSION:2.0
PRODID:-//The Review Newspaper - ECPv6.15.18//NONSGML v1.0//EN
CALSCALE:GREGORIAN
METHOD:PUBLISH
X-WR-CALNAME:The Review Newspaper
X-ORIGINAL-URL:https://thereview.ca
X-WR-CALDESC:Events for The Review Newspaper
REFRESH-INTERVAL;VALUE=DURATION:PT1H
X-Robots-Tag:noindex
X-PUBLISHED-TTL:PT1H
BEGIN:VTIMEZONE
TZID:America/Toronto
BEGIN:DAYLIGHT
TZOFFSETFROM:-0500
TZOFFSETTO:-0400
TZNAME:EDT
DTSTART:20220313T070000
END:DAYLIGHT
BEGIN:STANDARD
TZOFFSETFROM:-0400
TZOFFSETTO:-0500
TZNAME:EST
DTSTART:20221106T060000
END:STANDARD
BEGIN:DAYLIGHT
TZOFFSETFROM:-0500
TZOFFSETTO:-0400
TZNAME:EDT
DTSTART:20230312T070000
END:DAYLIGHT
BEGIN:STANDARD
TZOFFSETFROM:-0400
TZOFFSETTO:-0500
TZNAME:EST
DTSTART:20231105T060000
END:STANDARD
BEGIN:DAYLIGHT
TZOFFSETFROM:-0500
TZOFFSETTO:-0400
TZNAME:EDT
DTSTART:20240310T070000
END:DAYLIGHT
BEGIN:STANDARD
TZOFFSETFROM:-0400
TZOFFSETTO:-0500
TZNAME:EST
DTSTART:20241103T060000
END:STANDARD
END:VTIMEZONE
BEGIN:VEVENT
DTSTART;TZID=America/Toronto:20230514T090000
DTEND;TZID=America/Toronto:20230514T150000
DTSTAMP:20260424T153602
CREATED:20230420T183515Z
LAST-MODIFIED:20230420T183854Z
UID:10008388-1684054800-1684076400@thereview.ca
SUMMARY:Fête des mères au refuge
DESCRIPTION:Activités: \n\n\n\n-BBQ\, popcorn\, boissons énergisantes Santés de Vhills Nutrition et Café \n\n\n\n-kiosque de commerçants locaux \n\n\n\n-musique country et feu de camp \n\n\n\n-sessions de brossage de chevaux (sous réservation) \n\n\n\nLes dons amassés iront au refuge. \n\n\n\n$5 entrée; gratuit 16 ans et moins \n\n\n\n\n\n\n\n\n\n\n\n\n\n\n	Related
URL:https://thereview.ca/event/fete-des-meres-au-refuge/
LOCATION:Refuge – Les Chevaux D’Espoir\, 270 Pattee Rd\, Hawkesbury\, K6A 2R2\, Canada
CATEGORIES:Local
ATTACH;FMTTYPE=image/gif:https://thereview.ca/wp-content/uploads/2016/08/web-Lucky.gif
ORGANIZER;CN="Les Chevaux d&#8217%3BEspoir":MAILTO:refugeleschevauxdespoir@gmail.com
END:VEVENT
BEGIN:VEVENT
DTSTART;TZID=America/Toronto:20230402T090000
DTEND;TZID=America/Toronto:20230402T150000
DTSTAMP:20260424T153602
CREATED:20230327T180026Z
LAST-MODIFIED:20230327T180254Z
UID:10008012-1680426000-1680447600@thereview.ca
SUMMARY:Le temps des sucres au refuge
DESCRIPTION:Activités \n\n\n\nSirop et tire sur la neigeKiosque de commerçants locauxSessions de brossage de chevaux (réservation requise) \n\n\n\n5$ – entrée (gratuit – 16 ans et moins) \n\n\n\nLes dons amassés iront au refuge. \n\n\n\n\n\n\n\n\n\n\n\n\n\n\n	Related
URL:https://thereview.ca/event/le-temps-des-sucres-au-refuge/
LOCATION:Refuge – Les Chevaux D’Espoir\, 270 Pattee Rd\, Hawkesbury\, K6A 2R2\, Canada
CATEGORIES:Local
ORGANIZER;CN="Les Chevaux d&#8217%3BEspoir":MAILTO:refugeleschevauxdespoir@gmail.com
END:VEVENT
END:VCALENDAR