BEGIN:VCALENDAR
VERSION:2.0
PRODID:-//The Review Newspaper - ECPv6.15.18//NONSGML v1.0//EN
CALSCALE:GREGORIAN
METHOD:PUBLISH
X-ORIGINAL-URL:https://thereview.ca
X-WR-CALDESC:Events for The Review Newspaper
REFRESH-INTERVAL;VALUE=DURATION:PT1H
X-Robots-Tag:noindex
X-PUBLISHED-TTL:PT1H
BEGIN:VTIMEZONE
TZID:UTC
BEGIN:STANDARD
TZOFFSETFROM:+0000
TZOFFSETTO:+0000
TZNAME:UTC
DTSTART:20210101T000000
END:STANDARD
END:VTIMEZONE
BEGIN:VEVENT
DTSTART;TZID=UTC:20221203T120000
DTEND;TZID=UTC:20221203T133000
DTSTAMP:20260425T062609
CREATED:20221202T155143Z
LAST-MODIFIED:20221202T155316Z
UID:10008350-1670068800-1670074200@thereview.ca
SUMMARY:Christmas Tea & Bake Sale
DESCRIPTION:More information: 613-675-2134 \n\n\n\n\n\n\n\n\n\n\n\n\n\n\n	Related
URL:https://thereview.ca/event/christmas-tea-bake-sale-2/
LOCATION:Holy Trinity Anglican Church\, 440 Stanley Street\, Hawkesbury\, Ontario\, Canada
GEO:45.6058705;-74.6139945
X-APPLE-STRUCTURED-LOCATION;VALUE=URI;X-ADDRESS=Holy Trinity Anglican Church 440 Stanley Street Hawkesbury Ontario Canada;X-APPLE-RADIUS=500;X-TITLE=440 Stanley Street:geo:-74.6139945,45.6058705
END:VEVENT
END:VCALENDAR