BEGIN:VCALENDAR
VERSION:2.0
PRODID:-//The Review Newspaper - ECPv6.15.18//NONSGML v1.0//EN
CALSCALE:GREGORIAN
METHOD:PUBLISH
X-ORIGINAL-URL:https://thereview.ca
X-WR-CALDESC:Events for The Review Newspaper
REFRESH-INTERVAL;VALUE=DURATION:PT1H
X-Robots-Tag:noindex
X-PUBLISHED-TTL:PT1H
BEGIN:VTIMEZONE
TZID:America/Toronto
BEGIN:DAYLIGHT
TZOFFSETFROM:-0500
TZOFFSETTO:-0400
TZNAME:EDT
DTSTART:20210314T070000
END:DAYLIGHT
BEGIN:STANDARD
TZOFFSETFROM:-0400
TZOFFSETTO:-0500
TZNAME:EST
DTSTART:20211107T060000
END:STANDARD
BEGIN:DAYLIGHT
TZOFFSETFROM:-0500
TZOFFSETTO:-0400
TZNAME:EDT
DTSTART:20220313T070000
END:DAYLIGHT
BEGIN:STANDARD
TZOFFSETFROM:-0400
TZOFFSETTO:-0500
TZNAME:EST
DTSTART:20221106T060000
END:STANDARD
BEGIN:DAYLIGHT
TZOFFSETFROM:-0500
TZOFFSETTO:-0400
TZNAME:EDT
DTSTART:20230312T070000
END:DAYLIGHT
BEGIN:STANDARD
TZOFFSETFROM:-0400
TZOFFSETTO:-0500
TZNAME:EST
DTSTART:20231105T060000
END:STANDARD
BEGIN:DAYLIGHT
TZOFFSETFROM:-0500
TZOFFSETTO:-0400
TZNAME:EDT
DTSTART:20240310T070000
END:DAYLIGHT
BEGIN:STANDARD
TZOFFSETFROM:-0400
TZOFFSETTO:-0500
TZNAME:EST
DTSTART:20241103T060000
END:STANDARD
END:VTIMEZONE
BEGIN:VEVENT
DTSTART;TZID=America/Toronto:20230604T130000
DTEND;TZID=America/Toronto:20230604T170000
DTSTAMP:20260422T132526
CREATED:20230418T160052Z
LAST-MODIFIED:20230418T160427Z
UID:10008227-1685883600-1685898000@thereview.ca
SUMMARY:Annual Garden Party
DESCRIPTION:Local artisansLive musicRefreshmentsVisit production roomTour gardens \n\n\n\n\n\n\n\n\n\n\n\n\n\n\n	Related
URL:https://thereview.ca/event/annual-garden-party-2/
LOCATION:Garden Path Homemade Soap\, 284 Pleasant Corners Road East\, Vankleek Hill\, Ontario\, K0B 1R0\, Canada
CATEGORIES:Local
ATTACH;FMTTYPE=image/jpeg:https://thereview.ca/wp-content/uploads/2021/01/garden-path-soap-2021-01-20.jpg
GEO:45.5424397;-74.6034931
X-APPLE-STRUCTURED-LOCATION;VALUE=URI;X-ADDRESS=Garden Path Homemade Soap 284 Pleasant Corners Road East Vankleek Hill Ontario K0B 1R0 Canada;X-APPLE-RADIUS=500;X-TITLE=284 Pleasant Corners Road East:geo:-74.6034931,45.5424397
END:VEVENT
BEGIN:VEVENT
DTSTART;TZID=America/Toronto:20220605T130000
DTEND;TZID=America/Toronto:20220605T170000
DTSTAMP:20260422T132526
CREATED:20220228T194336Z
LAST-MODIFIED:20220526T194455Z
UID:10007688-1654434000-1654448400@thereview.ca
SUMMARY:Annual Garden Party 2022
DESCRIPTION:Garden Path Homemade Soap It’s back! And this year’s Garden Party will be extra special as we will be celebrating our 10th year anniversary! Join us for an afternoon of entertainment\, refreshments & local artisans. \n284 Pleasant Corners Rd. E\, VKH \n14 local artisans – live music – refreshments- tour gardens… and much more! \n\n\n\n\n\n\n\n\n	Related
URL:https://thereview.ca/event/annual-garden-party-2022/
LOCATION:Garden Path Homemade Soap\, 284 Pleasant Corners Road East\, Vankleek Hill\, Ontario\, K0B 1R0\, Canada
CATEGORIES:Local,Music
GEO:45.5424397;-74.6034931
X-APPLE-STRUCTURED-LOCATION;VALUE=URI;X-ADDRESS=Garden Path Homemade Soap 284 Pleasant Corners Road East Vankleek Hill Ontario K0B 1R0 Canada;X-APPLE-RADIUS=500;X-TITLE=284 Pleasant Corners Road East:geo:-74.6034931,45.5424397
END:VEVENT
END:VCALENDAR