BEGIN:VCALENDAR
VERSION:2.0
PRODID:-//The Review Newspaper - ECPv6.15.18//NONSGML v1.0//EN
CALSCALE:GREGORIAN
METHOD:PUBLISH
X-ORIGINAL-URL:https://thereview.ca
X-WR-CALDESC:Events for The Review Newspaper
REFRESH-INTERVAL;VALUE=DURATION:PT1H
X-Robots-Tag:noindex
X-PUBLISHED-TTL:PT1H
BEGIN:VTIMEZONE
TZID:UTC
BEGIN:STANDARD
TZOFFSETFROM:+0000
TZOFFSETTO:+0000
TZNAME:UTC
DTSTART:20210101T000000
END:STANDARD
END:VTIMEZONE
BEGIN:VEVENT
DTSTART;TZID=UTC:20220605T140000
DTEND;TZID=UTC:20220605T160000
DTSTAMP:20260425T194018
CREATED:20220519T180812Z
LAST-MODIFIED:20220519T180813Z
UID:10008174-1654437600-1654444800@thereview.ca
SUMMARY:Memorial Service
DESCRIPTION:“MEMORIAL SERVICE” at Franklin Corner’s Cemetery on Sunday\, June 5\, 2022\, at 2 p.m. Please bring your lawn chairs. In case of rain the service will be held at the Fournier Community Centre\, 3210 County Road 9\, Fournier. Following the service there will be a light lunch at the Fournier Community Centre. Wearing masks is at your discretion – “Everyone Welcome.” \n\n\n	Related
URL:https://thereview.ca/event/memorial-service-2/
LOCATION:Franklin Corner’s Cemetery\, 3849 County Road 16\, Riceville\, Ontario
CATEGORIES:Local
ATTACH;FMTTYPE=image/jpeg:https://thereview.ca/wp-content/uploads/2022/05/aba87a2b-5b8b-42ff-a89d-940348258029.jpg
GEO:45.4348136;-74.9587277
X-APPLE-STRUCTURED-LOCATION;VALUE=URI;X-ADDRESS=Franklin Corner’s Cemetery 3849 County Road 16 Riceville Ontario;X-APPLE-RADIUS=500;X-TITLE=3849 County Road 16:geo:-74.9587277,45.4348136
END:VEVENT
END:VCALENDAR