BEGIN:VCALENDAR
VERSION:2.0
PRODID:-//The Review Newspaper - ECPv6.15.18//NONSGML v1.0//EN
CALSCALE:GREGORIAN
METHOD:PUBLISH
X-ORIGINAL-URL:https://thereview.ca
X-WR-CALDESC:Events for The Review Newspaper
REFRESH-INTERVAL;VALUE=DURATION:PT1H
X-Robots-Tag:noindex
X-PUBLISHED-TTL:PT1H
BEGIN:VTIMEZONE
TZID:UTC
BEGIN:STANDARD
TZOFFSETFROM:+0000
TZOFFSETTO:+0000
TZNAME:UTC
DTSTART:20210101T000000
END:STANDARD
END:VTIMEZONE
BEGIN:VEVENT
DTSTART;TZID=UTC:20230305T120000
DTEND;TZID=UTC:20230305T160000
DTSTAMP:20260420T185245
CREATED:20230227T153913Z
LAST-MODIFIED:20230227T153923Z
UID:10008173-1678017600-1678032000@thereview.ca
SUMMARY:Finissage
DESCRIPTION:Collective Emergence  \n\n\n\nWith the students of Art & Dream Studio & Matthew Steele \n\n\n\n\n\n\n\n\n\n\n\n\n\n\n	Related
URL:https://thereview.ca/event/finissage/
LOCATION:Arbor Gallery Cultural Centre\, 36 Home Ave\, Vankleek Hill\, Ontario\, K0B 1R0\, Canada
CATEGORIES:Local
ATTACH;FMTTYPE=image/png:https://thereview.ca/wp-content/uploads/2022/04/arbor.png
GEO:45.520225;-74.6495046
X-APPLE-STRUCTURED-LOCATION;VALUE=URI;X-ADDRESS=Arbor Gallery Cultural Centre 36 Home Ave Vankleek Hill Ontario K0B 1R0 Canada;X-APPLE-RADIUS=500;X-TITLE=36 Home Ave:geo:-74.6495046,45.520225
END:VEVENT
BEGIN:VEVENT
DTSTART;TZID=UTC:20230203T160000
DTEND;TZID=UTC:20230203T190000
DTSTAMP:20260420T185245
CREATED:20230201T205455Z
LAST-MODIFIED:20230201T205503Z
UID:10007976-1675440000-1675450800@thereview.ca
SUMMARY:Vernissage
DESCRIPTION:Collective Emergence  \n\n\n\nWith the students of Art & Dream Studio & Matthew Steele \n\n\n\n\n\n\n\n\n\n\n\n\n\n\n	Related
URL:https://thereview.ca/event/vernissage/
LOCATION:Arbor Gallery Cultural Centre\, 36 Home Ave\, Vankleek Hill\, Ontario\, K0B 1R0\, Canada
CATEGORIES:Local
ATTACH;FMTTYPE=image/png:https://thereview.ca/wp-content/uploads/2022/04/arbor.png
GEO:45.520225;-74.6495046
X-APPLE-STRUCTURED-LOCATION;VALUE=URI;X-ADDRESS=Arbor Gallery Cultural Centre 36 Home Ave Vankleek Hill Ontario K0B 1R0 Canada;X-APPLE-RADIUS=500;X-TITLE=36 Home Ave:geo:-74.6495046,45.520225
END:VEVENT
BEGIN:VEVENT
DTSTART;TZID=UTC:20220514T100000
DTEND;TZID=UTC:20220515T160000
DTSTAMP:20260420T185245
CREATED:20220509T172114Z
LAST-MODIFIED:20220509T172114Z
UID:10008164-1652522400-1652630400@thereview.ca
SUMMARY:2nd Annual Art and Music Fundraiser - Plant Sale
DESCRIPTION:The Phil Arbor Memorial Garden \n11 High Street\, VKH \nMay 14 & 15 – 10 am to 4 pm \n  \n  \n\n\n	Related
URL:https://thereview.ca/event/2nd-annual-art-and-music-fundraiser-plant-sale/
LOCATION:The Creating Centre\, 11 High Street\, Vankleek Hill\, ON\, Ontario\, K0B 1R0
CATEGORIES:Local
ATTACH;FMTTYPE=image/jpeg:https://thereview.ca/wp-content/uploads/2022/05/278438234_10166029180865567_8707346668399143536_n.jpg
GEO:45.5194042;-74.6520248
X-APPLE-STRUCTURED-LOCATION;VALUE=URI;X-ADDRESS=The Creating Centre 11 High Street Vankleek Hill ON Ontario K0B 1R0;X-APPLE-RADIUS=500;X-TITLE=11 High Street:geo:-74.6520248,45.5194042
END:VEVENT
END:VCALENDAR