BEGIN:VCALENDAR
VERSION:2.0
PRODID:-//The Review Newspaper - ECPv6.15.18//NONSGML v1.0//EN
CALSCALE:GREGORIAN
METHOD:PUBLISH
X-ORIGINAL-URL:https://thereview.ca
X-WR-CALDESC:Events for The Review Newspaper
REFRESH-INTERVAL;VALUE=DURATION:PT1H
X-Robots-Tag:noindex
X-PUBLISHED-TTL:PT1H
BEGIN:VTIMEZONE
TZID:America/Toronto
BEGIN:DAYLIGHT
TZOFFSETFROM:-0500
TZOFFSETTO:-0400
TZNAME:EDT
DTSTART:20180311T070000
END:DAYLIGHT
BEGIN:STANDARD
TZOFFSETFROM:-0400
TZOFFSETTO:-0500
TZNAME:EST
DTSTART:20181104T060000
END:STANDARD
BEGIN:DAYLIGHT
TZOFFSETFROM:-0500
TZOFFSETTO:-0400
TZNAME:EDT
DTSTART:20190310T070000
END:DAYLIGHT
BEGIN:STANDARD
TZOFFSETFROM:-0400
TZOFFSETTO:-0500
TZNAME:EST
DTSTART:20191103T060000
END:STANDARD
BEGIN:DAYLIGHT
TZOFFSETFROM:-0500
TZOFFSETTO:-0400
TZNAME:EDT
DTSTART:20200308T070000
END:DAYLIGHT
BEGIN:STANDARD
TZOFFSETFROM:-0400
TZOFFSETTO:-0500
TZNAME:EST
DTSTART:20201101T060000
END:STANDARD
END:VTIMEZONE
BEGIN:VEVENT
DTSTART;TZID=America/Toronto:20190923T103000
DTEND;TZID=America/Toronto:20190923T150000
DTSTAMP:20260416T042702
CREATED:20190919T135352Z
LAST-MODIFIED:20190919T135352Z
UID:10007331-1569234600-1569250800@thereview.ca
SUMMARY:Open Circle Anniversary event
DESCRIPTION:Join us to celebrate our 1st anniversary. \n10:30 am Presentation on Argenteuil’s History with Robert Simard 12:00 pm Lunch\n1:00 pm Introduction to Chair-Adapted Yoga \nOpen Circle is an opportunity for seniors to get together\, socialize\,\nlearn and share a nice meal together each week!\nTransportation is available.\nFor more information or to book transportation\, please call us at\n1-888-974-3940 or email us at melanie@4kornerscenter.org. \nMONDA VS FROM 10:30 AM TO 3:00 PM\nSt. Mungo’s United Church\n661\, route des Outaouais\, Brownsburg-Chatham \n  \nEveryone welcome! \n\n\n	Related
URL:https://thereview.ca/event/open-circle-anniversary-event/
LOCATION:St. Mungo’s United Church\, 661\, route des Outaouais\, Brownsburg-Chatham
CATEGORIES:Local,Meetings,Wellness
ATTACH;FMTTYPE=image/jpeg:https://thereview.ca/wp-content/uploads/2019/09/Seniors-dinner.jpg
ORGANIZER;CN="4 Korners Center":MAILTO:melanie@4kornerscenter.org
GEO:45.5973369;-74.4683327
X-APPLE-STRUCTURED-LOCATION;VALUE=URI;X-ADDRESS=St. Mungo’s United Church 661 route des Outaouais Brownsburg-Chatham;X-APPLE-RADIUS=500;X-TITLE=661\, route des Outaouais:geo:-74.4683327,45.5973369
END:VEVENT
END:VCALENDAR