BEGIN:VCALENDAR
VERSION:2.0
PRODID:-//The Review Newspaper - ECPv6.15.18//NONSGML v1.0//EN
CALSCALE:GREGORIAN
METHOD:PUBLISH
X-ORIGINAL-URL:https://thereview.ca
X-WR-CALDESC:Events for The Review Newspaper
REFRESH-INTERVAL;VALUE=DURATION:PT1H
X-Robots-Tag:noindex
X-PUBLISHED-TTL:PT1H
BEGIN:VTIMEZONE
TZID:America/Toronto
BEGIN:DAYLIGHT
TZOFFSETFROM:-0500
TZOFFSETTO:-0400
TZNAME:EDT
DTSTART:20180311T070000
END:DAYLIGHT
BEGIN:STANDARD
TZOFFSETFROM:-0400
TZOFFSETTO:-0500
TZNAME:EST
DTSTART:20181104T060000
END:STANDARD
BEGIN:DAYLIGHT
TZOFFSETFROM:-0500
TZOFFSETTO:-0400
TZNAME:EDT
DTSTART:20190310T070000
END:DAYLIGHT
BEGIN:STANDARD
TZOFFSETFROM:-0400
TZOFFSETTO:-0500
TZNAME:EST
DTSTART:20191103T060000
END:STANDARD
BEGIN:DAYLIGHT
TZOFFSETFROM:-0500
TZOFFSETTO:-0400
TZNAME:EDT
DTSTART:20200308T070000
END:DAYLIGHT
BEGIN:STANDARD
TZOFFSETFROM:-0400
TZOFFSETTO:-0500
TZNAME:EST
DTSTART:20201101T060000
END:STANDARD
END:VTIMEZONE
BEGIN:VEVENT
DTSTART;VALUE=DATE:20190702
DTEND;VALUE=DATE:20190713
DTSTAMP:20260423T163324
CREATED:20190320T164247Z
LAST-MODIFIED:20190320T164247Z
UID:10007094-1562025600-1562975999@thereview.ca
SUMMARY:Music and Arts Summer Camp
DESCRIPTION:Mark Your Calendars!\n20th ANNUAL MUSIC & ARTS SUMMER CAMP\nJuly 2 – 12\nfor Kids 6 – 13 yrs.\n“Carnival of the Animals”\nWatch for details.
URL:https://thereview.ca/event/music-and-arts-summer-camp/
LOCATION:Ontario
CATEGORIES:Arts & Culture,Local,Music
ATTACH;FMTTYPE=image/jpeg:https://thereview.ca/wp-content/uploads/2018/07/Submitted_11-07-18_vkh-music-and-arts-camp-1_web.jpg
END:VEVENT
BEGIN:VEVENT
DTSTART;TZID=America/Toronto:20190705T080000
DTEND;TZID=America/Toronto:20190720T170000
DTSTAMP:20260423T163324
CREATED:20190627T141933Z
LAST-MODIFIED:20190627T141933Z
UID:10007225-1562313600-1563642000@thereview.ca
SUMMARY:July events at Beau's
DESCRIPTION:
URL:https://thereview.ca/event/july-events-at-beaus/
LOCATION:Beau’s\, 10 Terry Fox Drive\, Vankleek Hill\, ON\, Ontario
CATEGORIES:Food & Beverage,Local,Music
ATTACH;FMTTYPE=image/jpeg:https://thereview.ca/wp-content/uploads/2019/06/beaus-2019-06-26.jpg
GEO:45.5168253;-74.6372325
X-APPLE-STRUCTURED-LOCATION;VALUE=URI;X-ADDRESS=Beau’s 10 Terry Fox Drive Vankleek Hill ON Ontario;X-APPLE-RADIUS=500;X-TITLE=10 Terry Fox Drive:geo:-74.6372325,45.5168253
END:VEVENT
BEGIN:VEVENT
DTSTART;TZID=America/Toronto:20190705T130000
DTEND;TZID=America/Toronto:20190705T170000
DTSTAMP:20260423T163324
CREATED:20190515T143410Z
LAST-MODIFIED:20190515T143410Z
UID:10007189-1562331600-1562346000@thereview.ca
SUMMARY:Steve Barton Golf Classic
DESCRIPTION:At the Hawkesbury Golf & Curling Club \nLes profits seront partagés par:\nAll proceeds shared by:\nEPR FUSION HOCKEY\nHIGGINSON TOWER\nVANKLEEK HILL HISTORICAL SOCIETY. \n  \nTo reserve a spot in this tournament\,\nplease drop by Scotiabank in Vankleek\nHill to complete your registration\nPour réserver votre place\, s.v.p. visitez\nScotiabank à Vankleek Hill pour\ncompleter votre inscription. \nFRIDAY – VENDREDI\nJULY 5 JUILLET 2019\n1 P.M. SHOTGUN START \nPROUDLY BROUGHT TO YOU BY:\nCOMMANDITÉ PAR: Hawkesbury Toyota
URL:https://thereview.ca/event/steve-barton-golf-classic/
LOCATION:Ontario
CATEGORIES:Local,Sports
ATTACH;FMTTYPE=image/jpeg:https://thereview.ca/wp-content/uploads/2019/05/stock-photo_golf-club-and-ball.jpg
END:VEVENT
BEGIN:VEVENT
DTSTART;TZID=America/Toronto:20190706T130000
DTEND;TZID=America/Toronto:20190706T230000
DTSTAMP:20260423T163324
CREATED:20180601T152553Z
LAST-MODIFIED:20190628T131754Z
UID:10006427-1562418000-1562454000@thereview.ca
SUMMARY:Vankleek Hill Food Bank Jamboree
DESCRIPTION:This event is proudly hosted by the Windsor Tavern and The Review. \nThe gates open at 1 p.m. at the Windsor Tavern.\nOur line-up includes:\n2 p.m. to 3 p.m.: Norm Campeau\n3 p.m. to 4 p.m.: The Lefties\n4 p.m. to 5 p.m.: Gary Carpenter\n5 p.m. to 6 p.m.: Celtic Flare\n6 p.m. to 7:30 p.m.: 50 Proof\n7:45 p.m. to 9 p.m.: The Alleykatts\n9:15 p.m. to 10:45 p.m.: Madhouse \nFood on-site! The outdoor BBQ will be staffed by volunteers from the not-for-profit Vankleek Hill Sports Club.\nAdmission: $12 per person (advance ticket). $15 per person at the door.\nTickets go on sale May 15\, 2019 at Scotiabank in Vankleek Hill\, at The Review\, at the Windsor Tavern and at Bobby Lalonde Music.\nThis event is a fundraiser for the Vankleek Hill Food Bank. Lots of door prizes!\nCome enjoy music and dance\, if you want! We’ll have a big white tent set up in the Windsor Tavern Parking lot. \nWith thanks to tremendous support from Scotiabank as we raise funds for the Vankleek Hill Food Bank and the milk and breakfast programs in local schools!\nThanks also to the major sponsors of this event:\nSarah Bigelow (Exit Realty)\nVankleek Hill Foodland\nTroy Carkner\, Champlain councillor\nAsselin Independent Grocery\, Hawkesbury\nVankleek Hill Volunteer Fire Department\nBeau’s All-Natural Brewing Company\nHawkesbury Toyota\nMacCormick Veterinary Services\nMolson Canada
URL:https://thereview.ca/event/vankleek-hill-food-bank-jamboree/
LOCATION:Ontario
CATEGORIES:Fairs & Festivals,Local,Music
ATTACH;FMTTYPE=image/jpeg:https://thereview.ca/wp-content/uploads/2018/06/jamboree-5.jpg
END:VEVENT
BEGIN:VEVENT
DTSTART;VALUE=DATE:20190707
DTEND;VALUE=DATE:20190708
DTSTAMP:20260423T163324
CREATED:20190702T122415Z
LAST-MODIFIED:20190702T122415Z
UID:10007567-1562457600-1562543999@thereview.ca
SUMMARY:Vankleek Hill Horse and Buggy Parade and Strawberry Social
DESCRIPTION:A day for everyone:   11 a.m. Ecumenical Outdoor Church Service and Lunch – Everyone Welcome. \n1 p.m. Horse and Buggy Parade leaves Vankleek Hill Fairgrounds to parade through Vankleek Hill Village. \n2 p.m. Strawberry Social presented by Excellent Events
URL:https://thereview.ca/event/vankleek-hill-horse-and-buggy-parade-and-strawberry-social/
LOCATION:Ontario
CATEGORIES:Fairs & Festivals
ATTACH;FMTTYPE=image/jpeg:https://thereview.ca/wp-content/uploads/2019/06/VKH-horseparade-2013-16.jpg
ORGANIZER;CN="Excellent Events":MAILTO:excellenteventsvkh@gmail.com
END:VEVENT
BEGIN:VEVENT
DTSTART;TZID=America/Toronto:20190707T110000
DTEND;TZID=America/Toronto:20190707T153000
DTSTAMP:20260423T163324
CREATED:20190703T140415Z
LAST-MODIFIED:20190703T140415Z
UID:10007593-1562497200-1562513400@thereview.ca
SUMMARY:Horse & Buggy Parade & Strawberry Social
DESCRIPTION:23rd Anniversary Village of Vankleek Hill\nHorse & Buggy Parade\n& Strawberry Social \nSunday\, July 7th\, 2019\nVankleek Hill Fairgrounds \nNo Floats – No Bands – Just Horses\nCome Celebrate With All Of Us \n  \nInfo: Samme 613-678-2873\nSuzanne 613-677-4722\nWWW.EXCELLENTEVENTS.CA \n11 am – Church Service\n1 pm sharp – Parade leaves Fairgrounds\n2 pm – Strawberry Social \nPresented by: \nExcellent events
URL:https://thereview.ca/event/horse-buggy-parade-strawberry-social/
LOCATION:Vankleek Hill Fairgrounds\, 92 Main Street West\, Vankleek Hill\, Ontario\, K0B 1R0\, Canada
CATEGORIES:Food & Beverage,Local
ATTACH;FMTTYPE=image/jpeg:https://thereview.ca/wp-content/uploads/2019/06/VKH-horseparade-2013-16.jpg
GEO:43.2562663;-79.8733037
X-APPLE-STRUCTURED-LOCATION;VALUE=URI;X-ADDRESS=Vankleek Hill Fairgrounds 92 Main Street West Vankleek Hill Ontario K0B 1R0 Canada;X-APPLE-RADIUS=500;X-TITLE=92 Main Street West:geo:-79.8733037,43.2562663
END:VEVENT
BEGIN:VEVENT
DTSTART;TZID=America/Toronto:20190720T120000
DTEND;TZID=America/Toronto:20190720T170000
DTSTAMP:20260423T163324
CREATED:20190417T142718Z
LAST-MODIFIED:20190711T165917Z
UID:10007080-1563624000-1563642000@thereview.ca
SUMMARY:Vankleek Hill Porchfest
DESCRIPTION:Vankleek Hill Porchfest\nRegistration closes May 31. Sign up now\nto reserve your spot in this year’s event\,\nwhich takes place on July 20. \nMusicians and other acts welcome.\nWe can still use more porches and other performers. \nThe event runs on Saturday\, July 20\nfrom Noon to 5 p.m.\nVisit porchfestvankleekhill.ca\nto register your porch or performer. \nPorchfest is presented by Low’s Realty Inc.\nThis event is being promoted courtesy of The Review\,\nbecause we love music and community! \nwww.porchfestvankleekhill.ca \n 
URL:https://thereview.ca/event/vankleek-hill-porchfest/
LOCATION:Ontario
CATEGORIES:Arts & Culture,Fairs & Festivals,Local,Music
ATTACH;FMTTYPE=image/jpeg:https://thereview.ca/wp-content/uploads/2018/03/Porchfest-Logo.jpg
END:VEVENT
BEGIN:VEVENT
DTSTART;TZID=America/Toronto:20190720T190000
DTEND;TZID=America/Toronto:20190720T210000
DTSTAMP:20260423T163324
CREATED:20190327T162954Z
LAST-MODIFIED:20190329T131827Z
UID:10007103-1563649200-1563656400@thereview.ca
SUMMARY:Zumba Master Class with Kass & Steve
DESCRIPTION:JULY 20 @ 7 P.M.\nZUMBA® MASTER CLASS\nWITH KASS & STEVE\nAll the way from Barcelona and Utah\,\nZumba superstars Steve Boedt and\nKass Martin come for a 2-hour master\nclass. THIS EVENT IS 50% SOLD!\nDon’t miss this once-in-a-lifetime visit!\nTICKETS AT www.zumba.com/en-US/\nevent/view/kass-and-steve-at-zudio
URL:https://thereview.ca/event/zumba-master-class-with-kass-steve/
LOCATION:Zudio\, 144 High Street\, Vankleek Hill\, Ontario\, K0B1R0\, Canada
CATEGORIES:Local,Music,Wellness
ATTACH;FMTTYPE=image/jpeg:https://thereview.ca/wp-content/uploads/2019/03/Zumba-steve-kass-cover-2b.jpg
GEO:45.5104335;-74.657981
X-APPLE-STRUCTURED-LOCATION;VALUE=URI;X-ADDRESS=Zudio 144 High Street Vankleek Hill Ontario K0B1R0 Canada;X-APPLE-RADIUS=500;X-TITLE=144 High Street:geo:-74.657981,45.5104335
END:VEVENT
BEGIN:VEVENT
DTSTART;TZID=America/Toronto:20190721T100000
DTEND;TZID=America/Toronto:20190721T170000
DTSTAMP:20260423T163324
CREATED:20190327T163805Z
LAST-MODIFIED:20190403T194726Z
UID:10007109-1563703200-1563728400@thereview.ca
SUMMARY:The Fun Road to Success seminar
DESCRIPTION:JULY 21 – 10 A.M. TO 5 P.M.\nTHE FUN ROAD TO SUCCESS\nA full-day seminar that will change\nyour life! This live event will teach\nyou step by step how to overcome\nwhat’s holding you back.\nTICKETS AT www.kassandsteve.\ncom/events-1/the-fun-road-tosuccess-\ncanada-2
URL:https://thereview.ca/event/the-fun-road-to-success-seminar/
LOCATION:Zudio\, 144 High Street\, Vankleek Hill\, Ontario\, K0B1R0\, Canada
CATEGORIES:Local,Music,Wellness
ATTACH;FMTTYPE=image/jpeg:https://thereview.ca/wp-content/uploads/2019/03/thefunroad.jpg
GEO:45.5104335;-74.657981
X-APPLE-STRUCTURED-LOCATION;VALUE=URI;X-ADDRESS=Zudio 144 High Street Vankleek Hill Ontario K0B1R0 Canada;X-APPLE-RADIUS=500;X-TITLE=144 High Street:geo:-74.657981,45.5104335
END:VEVENT
BEGIN:VEVENT
DTSTART;TZID=America/Toronto:20190722T093000
DTEND;TZID=America/Toronto:20190726T120000
DTSTAMP:20260423T163324
CREATED:20190529T143921Z
LAST-MODIFIED:20190529T143921Z
UID:10007198-1563787800-1564142400@thereview.ca
SUMMARY:Vacation Bible School
DESCRIPTION:Roar into the fun VBS!\nKnox Presbyterian Church\,\nVacation Bible School\n29 High Street\, Vankleek Hill \nTo register call Ruth before July 15th\n613 678-2826.\nJuly 22 – 26\n9:30 – 12:00
URL:https://thereview.ca/event/vacation-bible-school/
LOCATION:Knox Presbyterian Church\, 29 High Street\, Vankleek Hill
CATEGORIES:Local,Other
ATTACH;FMTTYPE=image/jpeg:https://thereview.ca/wp-content/uploads/2018/08/Knox-VBS.jpg
GEO:45.518918;-74.6528014
X-APPLE-STRUCTURED-LOCATION;VALUE=URI;X-ADDRESS=Knox Presbyterian Church 29 High Street Vankleek Hill;X-APPLE-RADIUS=500;X-TITLE=29 High Street:geo:-74.6528014,45.518918
END:VEVENT
END:VCALENDAR