BEGIN:VCALENDAR
VERSION:2.0
PRODID:-//The Review Newspaper - ECPv6.15.18//NONSGML v1.0//EN
CALSCALE:GREGORIAN
METHOD:PUBLISH
X-ORIGINAL-URL:https://thereview.ca
X-WR-CALDESC:Events for The Review Newspaper
REFRESH-INTERVAL;VALUE=DURATION:PT1H
X-Robots-Tag:noindex
X-PUBLISHED-TTL:PT1H
BEGIN:VTIMEZONE
TZID:America/Toronto
BEGIN:DAYLIGHT
TZOFFSETFROM:-0500
TZOFFSETTO:-0400
TZNAME:EDT
DTSTART:20250309T070000
END:DAYLIGHT
BEGIN:STANDARD
TZOFFSETFROM:-0400
TZOFFSETTO:-0500
TZNAME:EST
DTSTART:20251102T060000
END:STANDARD
BEGIN:DAYLIGHT
TZOFFSETFROM:-0500
TZOFFSETTO:-0400
TZNAME:EDT
DTSTART:20260308T070000
END:DAYLIGHT
BEGIN:STANDARD
TZOFFSETFROM:-0400
TZOFFSETTO:-0500
TZNAME:EST
DTSTART:20261101T060000
END:STANDARD
BEGIN:DAYLIGHT
TZOFFSETFROM:-0500
TZOFFSETTO:-0400
TZNAME:EDT
DTSTART:20270314T070000
END:DAYLIGHT
BEGIN:STANDARD
TZOFFSETFROM:-0400
TZOFFSETTO:-0500
TZNAME:EST
DTSTART:20271107T060000
END:STANDARD
END:VTIMEZONE
BEGIN:VEVENT
DTSTART;TZID=America/Toronto:20260212T183000
DTEND;TZID=America/Toronto:20260212T193000
DTSTAMP:20260421T203306
CREATED:20260120T184016Z
LAST-MODIFIED:20260120T184016Z
UID:10029295-1770921000-1770924600@thereview.ca
SUMMARY:Vankleek Hill Food Bank AGM
DESCRIPTION:Vankleek Hill Food Bank Annual General Meeting will be hosted at the Creative Centre. \nMembers of the public are welcome to attend
URL:https://thereview.ca/event/vankleek-hill-food-bank-agm/
LOCATION:Vankleek Hill Creating Centre\, 11 High Street\, Vankleek Hill\, Ontario\, K0B 1R0\, Canada
CATEGORIES:Local,Meetings
ATTACH;FMTTYPE=image/jpeg:https://s3.us-east-2.amazonaws.com/thereview.ca/wp-content/uploads/2026/01/20133939/VKH-Food-Bank-AGM-events.jpg
GEO:45.5194042;-74.6520248
X-APPLE-STRUCTURED-LOCATION;VALUE=URI;X-ADDRESS=Vankleek Hill Creating Centre 11 High Street Vankleek Hill Ontario K0B 1R0 Canada;X-APPLE-RADIUS=500;X-TITLE=11 High Street:geo:-74.6520248,45.5194042
END:VEVENT
BEGIN:VEVENT
DTSTART;TZID=America/Toronto:20260213T193000
DTEND;TZID=America/Toronto:20260213T213000
DTSTAMP:20260421T203306
CREATED:20260126T194502Z
LAST-MODIFIED:20260126T194502Z
UID:10029296-1771011000-1771018200@thereview.ca
SUMMARY:Rodgers & Hammerstein's Cinderella - Enchanted Edition
DESCRIPTION:SVTC 25/26 Season Winter Musical. \nReserved Seats: $28 and $40\nGet tickets online at svtc.theticketwicket.ca or by phone at 613-933-3998. \nFor additional information\, go to: www.svtv.ca
URL:https://thereview.ca/event/rodgers-hammersteins-cinderella-enchanted-edition/2026-02-13/
LOCATION:Aultsville Theatre\, 2 St. Lawrence Drive\, Cornwall\, Ontario\, K6H4Z1
CATEGORIES:Arts & Culture
ATTACH;FMTTYPE=image/jpeg:https://s3.us-east-2.amazonaws.com/thereview.ca/wp-content/uploads/2026/01/26144409/Seaway-Valley-Theatre-fb.jpg
GEO:45.0167048;-74.7016816
X-APPLE-STRUCTURED-LOCATION;VALUE=URI;X-ADDRESS=Aultsville Theatre 2 St. Lawrence Drive Cornwall Ontario K6H4Z1;X-APPLE-RADIUS=500;X-TITLE=2 St. Lawrence Drive:geo:-74.7016816,45.0167048
END:VEVENT
BEGIN:VEVENT
DTSTART;TZID=America/Toronto:20260214T093000
DTEND;TZID=America/Toronto:20260214T123000
DTSTAMP:20260421T203306
CREATED:20250626T175633Z
LAST-MODIFIED:20250626T175633Z
UID:10028869-1771061400-1771072200@thereview.ca
SUMMARY:Vankleek Hill Farmer's Market
DESCRIPTION:
URL:https://thereview.ca/event/vankleek-hill-farmers-market/2026-02-14/
LOCATION:Vankleek Hill
ATTACH;FMTTYPE=image/jpeg:https://s3.us-east-2.amazonaws.com/thereview.ca/wp-content/uploads/2025/06/26135529/farmers-market-1.jpg
END:VEVENT
BEGIN:VEVENT
DTSTART;TZID=America/Toronto:20260217T170000
DTEND;TZID=America/Toronto:20260217T190000
DTSTAMP:20260421T203306
CREATED:20260211T130032Z
LAST-MODIFIED:20260209T185819Z
UID:10029306-1771347600-1771354800@thereview.ca
SUMMARY:Pancake Supper
DESCRIPTION:Pancakes\, ham\, sausages\, coleslaw\, local maple syrup and  homemade baked beans.\nAdults $10\, Kids 6-10 $5\, Kids under 5 eat free. \nEveryone Welcome!
URL:https://thereview.ca/event/pancake-supper-4/
LOCATION:St. John’s Anglican Church Hall\, 5845 Church St.\, Vankleek Hill \, Vankleek Hill \, Ontario 
ATTACH;FMTTYPE=image/jpeg:https://s3.us-east-2.amazonaws.com/thereview.ca/wp-content/uploads/2026/02/09135739/st-johns-fb-event.jpg
GEO:45.520574;-74.6516839
X-APPLE-STRUCTURED-LOCATION;VALUE=URI;X-ADDRESS=St. John’s Anglican Church Hall 5845 Church St. Vankleek Hill  Vankleek Hill  Ontario;X-APPLE-RADIUS=500;X-TITLE=5845 Church St.\, Vankleek Hill:geo:-74.6516839,45.520574
END:VEVENT
BEGIN:VEVENT
DTSTART;TZID=America/Toronto:20260218T183000
DTEND;TZID=America/Toronto:20260218T203000
DTSTAMP:20260421T203306
CREATED:20260211T135046Z
LAST-MODIFIED:20260211T135046Z
UID:10029307-1771439400-1771446600@thereview.ca
SUMMARY:Dodgeball
DESCRIPTION:VKH Dodgeball is Vankleek Hill’s premier hub for high-energy dodgeball thrills! \nDrop in at PCPS Gym (Wednesdays 6:30-8:30pm – dates posted on the page\, just $20 for the full series). 🤾‍♂️ \nSolo players\, friend groups\, all skill levels welcome—bring gym shoes and let’s crush mini-tournaments or epic full-gym all-in team battles. \nShare our poster\, rally your crew\, and dodge like pros! \nMore questions? VKHdodgeball@gmail.com 🤾🏻🔴🤾🏻‍♀️
URL:https://thereview.ca/event/dodgeball/2026-02-18/
LOCATION:Vankleek Hill
ATTACH;FMTTYPE=image/jpeg:https://s3.us-east-2.amazonaws.com/thereview.ca/wp-content/uploads/2026/02/10194108/Image-2026-02-10-at-1.51-PM-1.jpeg
END:VEVENT
BEGIN:VEVENT
DTSTART;TZID=America/Toronto:20260219T183000
DTEND;TZID=America/Toronto:20260219T210000
DTSTAMP:20260421T203306
CREATED:20260211T130009Z
LAST-MODIFIED:20260209T184924Z
UID:10029304-1771525800-1771534800@thereview.ca
SUMMARY:Trivia Night
DESCRIPTION:Arrive at 6 pm\, Trivia starts at 6:30 pm\nCost: $10 per person (4 per team)\nCall ahead to reserve your team’s table.\n613.678.2122
URL:https://thereview.ca/event/trivia-night-2/
LOCATION:The Windsor Tavern\, 84 Main St. E.\, Vankleek Hill\, Ontario\, Canada
ATTACH;FMTTYPE=image/jpeg:https://s3.us-east-2.amazonaws.com/thereview.ca/wp-content/uploads/2026/02/09134819/Trivia-fb-event.jpg
GEO:45.5188593;-74.6501262
X-APPLE-STRUCTURED-LOCATION;VALUE=URI;X-ADDRESS=The Windsor Tavern 84 Main St. E. Vankleek Hill Ontario Canada;X-APPLE-RADIUS=500;X-TITLE=84 Main St. E.:geo:-74.6501262,45.5188593
END:VEVENT
BEGIN:VEVENT
DTSTART;TZID=America/Toronto:20260220T190000
DTEND;TZID=America/Toronto:20260220T210000
DTSTAMP:20260421T203306
CREATED:20260211T130049Z
LAST-MODIFIED:20260209T185313Z
UID:10029305-1771614000-1771621200@thereview.ca
SUMMARY:Another Swing Before Spring
DESCRIPTION:Music by Neil Emberg and Ashley MacLeod\nSnacks and drinks will be available.\nProceeds to Support the VCI Music Program\nADMISSION: ADULT – $15; STUDENT / YOUTH 13-18 – $10; 12 & UNDER – FREE\nIf you have any questions please contact kelleyallen@xplornet.ca
URL:https://thereview.ca/event/another-swing-before-spring/
LOCATION:VKH Community Centre\, 36 Mill Street\, Vankleek Hill\, Ontario\, K0B 1R0\, Canada
ATTACH;FMTTYPE=image/jpeg:https://s3.us-east-2.amazonaws.com/thereview.ca/wp-content/uploads/2026/02/09135235/FIddle-and-dance-fb-event.jpg
END:VEVENT
BEGIN:VEVENT
DTSTART;VALUE=DATE:20260221
DTEND;VALUE=DATE:20260222
DTSTAMP:20260421T203306
CREATED:20260114T155330Z
LAST-MODIFIED:20260114T155629Z
UID:10029291-1771632000-1771718399@thereview.ca
SUMMARY:Carnaval d’hiver des Loisirs de Grenville
DESCRIPTION:Carnival starts at 10am\, 20 rue Tri Jean\, Grenville \nHockey tournament: 5 vs 5\, with a maximum of 11 players per team.\n• Animation and games for the whole family\, all day (10 a.m. until 6 p.m.)\n• A disco skate\n• The day will finish off with a fireworks display \nVisit the town of Grenville’s website for more details: https://www.grenville.ca/evenement/carnaval-dhiver-des-loisirs-de-grenville-1
URL:https://thereview.ca/event/carnaval-dhiver-des-loisirs-de-grenville/
LOCATION:Vankleek Hill
ATTACH;FMTTYPE=image/png:https://s3.us-east-2.amazonaws.com/thereview.ca/wp-content/uploads/2026/01/14104457/winter.png
END:VEVENT
BEGIN:VEVENT
DTSTART;TZID=America/Toronto:20260306T133000
DTEND;TZID=America/Toronto:20260306T143000
DTSTAMP:20260421T203306
CREATED:20260223T183138Z
LAST-MODIFIED:20260223T183138Z
UID:10029312-1772803800-1772807400@thereview.ca
SUMMARY:World Day of Prayer 2026
DESCRIPTION:Please join us Friday\, March 6th\, 1:30 pm at Knox Church\, 29 High St. Vankleek Hill.\nThe Service was written by Nigerian WDP Committee.\nA time of fellowship to follow.
URL:https://thereview.ca/event/world-day-of-prayer-2026/
LOCATION:Knox Presbyterian Church\, 29 High Street\, Vankleek Hill
ATTACH;FMTTYPE=image/jpeg:https://s3.us-east-2.amazonaws.com/thereview.ca/wp-content/uploads/2026/02/23133048/Knox_world-day-of-prayer-event-fb.jpg
GEO:45.518918;-74.6528014
X-APPLE-STRUCTURED-LOCATION;VALUE=URI;X-ADDRESS=Knox Presbyterian Church 29 High Street Vankleek Hill;X-APPLE-RADIUS=500;X-TITLE=29 High Street:geo:-74.6528014,45.518918
END:VEVENT
BEGIN:VEVENT
DTSTART;TZID=America/Toronto:20260307T200000
DTEND;TZID=America/Toronto:20260307T200000
DTSTAMP:20260421T203306
CREATED:20260223T183851Z
LAST-MODIFIED:20260223T184421Z
UID:10029313-1772913600-1772913600@thereview.ca
SUMMARY:Provincial Rally Fundraising Dance
DESCRIPTION:Join the Lachute 4-H Club for a PROVINCIAL RALLY FUNDRAISER DANCE with The County Lads. \nScan the QR Code for more information & to book your tickets!\nTICKET PRICE: $20\, 5 & UNDER FREE
URL:https://thereview.ca/event/provincial-rally-fundraising-dance/
LOCATION:Grenville Community Centre\, 21 Tri-Jean\, Grenville
ATTACH;FMTTYPE=image/jpeg:https://s3.us-east-2.amazonaws.com/thereview.ca/wp-content/uploads/2026/02/23133814/Lachute-4H-fb-event.jpg
GEO:45.630169;-74.600487
X-APPLE-STRUCTURED-LOCATION;VALUE=URI;X-ADDRESS=Grenville Community Centre 21 Tri-Jean Grenville;X-APPLE-RADIUS=500;X-TITLE=21 Tri-Jean:geo:-74.600487,45.630169
END:VEVENT
BEGIN:VEVENT
DTSTART;TZID=America/Toronto:20260309T190000
DTEND;TZID=America/Toronto:20260309T200000
DTSTAMP:20260421T203306
CREATED:20260223T190826Z
LAST-MODIFIED:20260223T190826Z
UID:10029314-1773082800-1773086400@thereview.ca
SUMMARY:Vankleek Hill and District Nature Society Meeting
DESCRIPTION:Vankleek Hill and District Nature Society Meeting. Speaker: Elise Laferriere “Bird Migration” Le Nichoir\, Hudson\nAll Welcome. New Members Welcome.\nEntry $2\nInfo: 613-678-2967\nvkhnature.ca
URL:https://thereview.ca/event/vankleek-hill-and-district-nature-society-meeting-7/
LOCATION:Vankleek Hill Collegiate Institute\, 5814\, 34 Hwy\, Vankleek Hill\, Vankleek Hill\, K0B 1R0\, Canada
CATEGORIES:Meetings
ATTACH;FMTTYPE=image/jpeg:https://s3.us-east-2.amazonaws.com/thereview.ca/wp-content/uploads/2026/02/23140804/VKH-Nature-fb-event.jpg
GEO:45.5225422;-74.652243
X-APPLE-STRUCTURED-LOCATION;VALUE=URI;X-ADDRESS=Vankleek Hill Collegiate Institute 5814 34 Hwy Vankleek Hill Vankleek Hill K0B 1R0 Canada;X-APPLE-RADIUS=500;X-TITLE=5814\, 34 Hwy:geo:-74.652243,45.5225422
END:VEVENT
BEGIN:VEVENT
DTSTART;TZID=America/Toronto:20260313T173000
DTEND;TZID=America/Toronto:20260313T210000
DTSTAMP:20260421T203306
CREATED:20260223T145435Z
LAST-MODIFIED:20260223T145435Z
UID:10029311-1773423000-1773435600@thereview.ca
SUMMARY:Sugar Shack – Refuge Les Chevaux D’Espoir
DESCRIPTION:Les Chevaux d’Espoir Sugar Shack Fundraiser \nFriday\, March 13\, 2026\n5:30 PM – 9:00 PM\nKnights of Columbus – Hawkesbury\n393 William Street\, Hawkesbury\, Ontario \nSugar Shack Buffet:\n• Adult plate: $20 (refill: $10)\n• Child plate: $10 (refill: FREE)\n• Dessert included\n• Coffee or hot chocolate included.\nThe full menu will be posted online in the coming weeks. \nLive music with Good Time Band\nFrom 7:00 PM to 8:30 PM \nBar on site \nMultiple raffles\, draws\, and surprises throughout the evening!\nCome dance and enjoy a great meal — all for a wonderful cause supporting the rescue horses.\nWe look forward to seeing you there!
URL:https://thereview.ca/event/sugar-shack-refuge-les-chevaux-despoir/
LOCATION:Vankleek Hill
ATTACH;FMTTYPE=image/jpeg:https://s3.us-east-2.amazonaws.com/thereview.ca/wp-content/uploads/2026/02/20162916/628737549_911323774748512_1263995057986384559_n.jpg
END:VEVENT
BEGIN:VEVENT
DTSTART;TZID=America/Toronto:20260314T090000
DTEND;TZID=America/Toronto:20260314T170000
DTSTAMP:20260421T203306
CREATED:20260310T184251Z
LAST-MODIFIED:20260310T184251Z
UID:10029322-1773478800-1773507600@thereview.ca
SUMMARY:Lochiel Book Sale
DESCRIPTION:Beaucoup de livres Français.\nAccepting books Feb 16 to March 18 only.
URL:https://thereview.ca/event/lochiel-book-sale/2026-03-14/
LOCATION:Lochiel Centre\, 20863 Lochiel Road Cty Rd 21\, Alexandria\, Ontario
ATTACH;FMTTYPE=image/png:https://s3.us-east-2.amazonaws.com/thereview.ca/wp-content/uploads/2026/03/10144240/Lochiel.png
GEO:45.3739757;-74.6343978
X-APPLE-STRUCTURED-LOCATION;VALUE=URI;X-ADDRESS=Lochiel Centre 20863 Lochiel Road Cty Rd 21 Alexandria Ontario;X-APPLE-RADIUS=500;X-TITLE=20863 Lochiel Road Cty Rd 21:geo:-74.6343978,45.3739757
END:VEVENT
BEGIN:VEVENT
DTSTART;TZID=America/Toronto:20260314T110000
DTEND;TZID=America/Toronto:20260314T130000
DTSTAMP:20260421T203306
CREATED:20260309T160618Z
LAST-MODIFIED:20260309T160618Z
UID:10029318-1773486000-1773493200@thereview.ca
SUMMARY:St. Patrick’s Soup & Sandwich Luncheon
DESCRIPTION:Hosted by Holy Trinity Church Calumet. Located at the Paul Bougie Centre\, next door to Downing Drilling.\nAdults $15; Children 12 and under Free\nEverybody welcome.
URL:https://thereview.ca/event/st-patricks-soup-sandwich-luncheon-2/
LOCATION:Paul Bougie Centre\, 414 rue principale\, Calumet\, Canada
CATEGORIES:Food & Beverage
ATTACH;FMTTYPE=image/jpeg:https://s3.us-east-2.amazonaws.com/thereview.ca/wp-content/uploads/2026/03/09120458/Holy-Trinity-events-fb.jpg
GEO:45.6490289;-74.6355475
X-APPLE-STRUCTURED-LOCATION;VALUE=URI;X-ADDRESS=Paul Bougie Centre 414 rue principale Calumet Canada;X-APPLE-RADIUS=500;X-TITLE=414 rue principale:geo:-74.6355475,45.6490289
END:VEVENT
BEGIN:VEVENT
DTSTART;TZID=America/Toronto:20260319T080000
DTEND;TZID=America/Toronto:20260319T170000
DTSTAMP:20260421T203306
CREATED:20260309T163815Z
LAST-MODIFIED:20260317T144101Z
UID:10029319-1773907200-1773939600@thereview.ca
SUMMARY:Speaker Series - Engaging with Kenyan & Senegalese Culture & Lived Experiences
DESCRIPTION:Speaker Series – Engaging with Kenyan & Senegalese Culture & Lived Experience\, with guest speakers Brian Cornelius & Trudy Samuel\nGenesis Speaker Series #4\n5:30 pm – 6:30 pm: Presentation\n6:30 pm – 7:00 pm: Light African Meal\n7:00 pm – 8 pm: Question & Answers Period \nPLEASE REGISTER BY CONTACTING THE GENESIS OFFICE\n613-675-4487 | genesiscc@bellnet.ca\nFree will offering at the door \nAn outreach event by the Genesis Cooperative Community of the United Church of Canada
URL:https://thereview.ca/event/speaker-series-engaging-with-kenyan-senegalese-culture-lived-experiences/
LOCATION:Trinity United Church\, 50 High Street\, Vankleek Hill\, ON\, Canada
CATEGORIES:Food & Beverage,Meetings
ATTACH;FMTTYPE=image/jpeg:https://s3.us-east-2.amazonaws.com/thereview.ca/wp-content/uploads/2026/03/09123708/Genesis-events-fb.jpg
GEO:45.5181986;-74.6536609
X-APPLE-STRUCTURED-LOCATION;VALUE=URI;X-ADDRESS=Trinity United Church 50 High Street Vankleek Hill ON Canada;X-APPLE-RADIUS=500;X-TITLE=50 High Street:geo:-74.6536609,45.5181986
END:VEVENT
BEGIN:VEVENT
DTSTART;TZID=America/Toronto:20260326T180000
DTEND;TZID=America/Toronto:20260326T200000
DTSTAMP:20260421T203306
CREATED:20260309T164551Z
LAST-MODIFIED:20260309T164551Z
UID:10029320-1774548000-1774555200@thereview.ca
SUMMARY:Trivia Night
DESCRIPTION:Arrive at 6 pm\, Trivia starts at 6:30 pm\nCost: $10 per person (4 to 6 per team)\nCall ahead to reserve your team’s table.\n613.678.2122 \nPresented by the Vankleek Hill Business and Merchant Association
URL:https://thereview.ca/event/trivia-night-9/
LOCATION:The Windsor Tavern\, 84 Main St. E.\, Vankleek Hill\, Ontario\, Canada
CATEGORIES:Local
ATTACH;FMTTYPE=image/jpeg:https://s3.us-east-2.amazonaws.com/thereview.ca/wp-content/uploads/2026/03/09124309/trivia-events-fb.jpg
GEO:45.5188593;-74.6501262
X-APPLE-STRUCTURED-LOCATION;VALUE=URI;X-ADDRESS=The Windsor Tavern 84 Main St. E. Vankleek Hill Ontario Canada;X-APPLE-RADIUS=500;X-TITLE=84 Main St. E.:geo:-74.6501262,45.5188593
END:VEVENT
BEGIN:VEVENT
DTSTART;TZID=America/Toronto:20260402T080000
DTEND;TZID=America/Toronto:20260402T170000
DTSTAMP:20260421T203306
CREATED:20260402T151942Z
LAST-MODIFIED:20260402T151942Z
UID:10029344-1775116800-1775149200@thereview.ca
SUMMARY:The Big Show 2026
DESCRIPTION:Free admission! Door Prizes! \nFri 17 April\, 18:00 – 21:00\nWine & Cheese \nSat 18 April\, 10:00 – 14:00\nCoffee & cookies
URL:https://thereview.ca/event/the-big-show-2026/
LOCATION:Community Living Glengarry\, 332 MacDonald Blvd\, Alexandria\, Ontario\, K0C 1A0\, Canada
CATEGORIES:Arts & Culture
ATTACH;FMTTYPE=image/png:https://s3.us-east-2.amazonaws.com/thereview.ca/wp-content/uploads/2026/04/02111903/glengarry-artists-events-fb.png
END:VEVENT
BEGIN:VEVENT
DTSTART;TZID=America/Toronto:20260403T193000
DTEND;TZID=America/Toronto:20260403T203000
DTSTAMP:20260421T203306
CREATED:20260324T183059Z
LAST-MODIFIED:20260324T183059Z
UID:10029333-1775244600-1775248200@thereview.ca
SUMMARY:Psalm Sing
DESCRIPTION:Our 39th Good Friday Psalm Sing! Come & Raise our voices of our Risen Savior! \nContact: 613-874-2989\nuplook@xplornet.ca\nSee us on FB.
URL:https://thereview.ca/event/psalm-sing/
LOCATION:Glengarry Community Reformed Fellowship\, 21790 Brodie Rd East\, Dalkeith\, Ontario\, K0B 1E0\, Canada
CATEGORIES:Music
ATTACH;FMTTYPE=image/jpeg:https://s3.us-east-2.amazonaws.com/thereview.ca/wp-content/uploads/2026/03/24143037/psalm-sing-events.jpg
GEO:45.4136446;-74.5635426
X-APPLE-STRUCTURED-LOCATION;VALUE=URI;X-ADDRESS=Glengarry Community Reformed Fellowship 21790 Brodie Rd East Dalkeith Ontario K0B 1E0 Canada;X-APPLE-RADIUS=500;X-TITLE=21790 Brodie Rd East:geo:-74.5635426,45.4136446
END:VEVENT
BEGIN:VEVENT
DTSTART;TZID=America/Toronto:20260407T190000
DTEND;TZID=America/Toronto:20260407T200000
DTSTAMP:20260421T203306
CREATED:20260324T183329Z
LAST-MODIFIED:20260324T183329Z
UID:10029334-1775588400-1775592000@thereview.ca
SUMMARY:Quigley Cheese MFA Annual Meeting
DESCRIPTION:Gerard Kennedy 20565 Lochiel Road\, 7pm.
URL:https://thereview.ca/event/quigley-cheese-mfa-annual-meeting/
LOCATION:Vankleek Hill
CATEGORIES:Meetings
ATTACH;FMTTYPE=image/jpeg:https://s3.us-east-2.amazonaws.com/thereview.ca/wp-content/uploads/2026/03/24143307/quigley-cheese-fb-events.jpg
END:VEVENT
BEGIN:VEVENT
DTSTART;TZID=America/Toronto:20260410T163000
DTEND;TZID=America/Toronto:20260410T200000
DTSTAMP:20260421T203306
CREATED:20260324T183716Z
LAST-MODIFIED:20260324T183716Z
UID:10029335-1775838600-1775851200@thereview.ca
SUMMARY:Traditional Turkey Supper
DESCRIPTION:Join us at ST JOHN’S ANGLICAN CHURCH Vankleek Hill (BY THE HIGGINSON TOWER) Friday\, April 10th for a traditional TURKEY SUPPER\n2 sittings : 4:30pm and 6:00pm\nBOOK YOUR SITTING OR PLACE YOUR ORDER FOR TAKEOUT\nAdults $25\, Children 12 and over $12\, under 12 free\nBY CALLING:\nAlice: (613) 678-5405\nBetty: (613) 525-1186
URL:https://thereview.ca/event/traditional-turkey-supper/
LOCATION:St. John’s Anglican Church\, 5845 Hwy 34\, Vankleek Hill
CATEGORIES:Food & Beverage
ATTACH;FMTTYPE=image/jpeg:https://s3.us-east-2.amazonaws.com/thereview.ca/wp-content/uploads/2026/03/24143659/st-johnS-anglican-fb-events.jpg
GEO:45.5205069;-74.6517378
X-APPLE-STRUCTURED-LOCATION;VALUE=URI;X-ADDRESS=St. John’s Anglican Church 5845 Hwy 34 Vankleek Hill;X-APPLE-RADIUS=500;X-TITLE=5845 Hwy 34:geo:-74.6517378,45.5205069
END:VEVENT
BEGIN:VEVENT
DTSTART;TZID=America/Toronto:20260410T190000
DTEND;TZID=America/Toronto:20260410T220000
DTSTAMP:20260421T203306
CREATED:20260330T162810Z
LAST-MODIFIED:20260330T162810Z
UID:10029340-1775847600-1775858400@thereview.ca
SUMMARY:Swing into Spring!
DESCRIPTION:The Vankleek Hill Fiddle and Dance Association and the Genesis Cooperative invite you to: SWING INTO SPRING!\nMusic by Neil Emberg and Ashley MacLeod. Snacks and drinks will be available. Proceeds to Support the VCI Music Program\nADMISSION: ADULT – $15; STUDENT / YOUTH 13-18 – $10; 12 & UNDER – FREE\nIf you have any questions please contact kelleyallen@xplornet.ca
URL:https://thereview.ca/event/swing-into-spring-2/
LOCATION:VKH Community Centre\, 36 Mill Street\, Vankleek Hill\, Ontario\, K0B 1R0\, Canada
ATTACH;FMTTYPE=image/jpeg:https://s3.us-east-2.amazonaws.com/thereview.ca/wp-content/uploads/2026/03/30122740/fiddle-and-dance-events-fb.jpg
END:VEVENT
BEGIN:VEVENT
DTSTART;TZID=America/Toronto:20260411T100000
DTEND;TZID=America/Toronto:20260411T150000
DTSTAMP:20260421T203306
CREATED:20260402T145737Z
LAST-MODIFIED:20260402T145737Z
UID:10029341-1775901600-1775919600@thereview.ca
SUMMARY:Spring Craft Fair
DESCRIPTION:For Information contact Vera 819-242-7487 /vwyoung@sympatico.ca\nFundraiser for the Lachute Regional Residence Foundation
URL:https://thereview.ca/event/spring-craft-fair-3/
LOCATION:Grenville Community Centre\, 21 Tri-Jean\, Grenville
CATEGORIES:Craft & Bake Tables
ATTACH;FMTTYPE=image/jpeg:https://s3.us-east-2.amazonaws.com/thereview.ca/wp-content/uploads/2026/04/02105719/craft-fair-ver-young-fb-events.jpg
GEO:45.630169;-74.600487
X-APPLE-STRUCTURED-LOCATION;VALUE=URI;X-ADDRESS=Grenville Community Centre 21 Tri-Jean Grenville;X-APPLE-RADIUS=500;X-TITLE=21 Tri-Jean:geo:-74.600487,45.630169
END:VEVENT
BEGIN:VEVENT
DTSTART;TZID=America/Toronto:20260412T103000
DTEND;TZID=America/Toronto:20260412T123000
DTSTAMP:20260421T203306
CREATED:20260324T184626Z
LAST-MODIFIED:20260324T184626Z
UID:10029336-1775989800-1775997000@thereview.ca
SUMMARY:Show: Marcel Leboeuf
DESCRIPTION:Non Members: $50\nMembers: $42.50\n** ticket price includes brunch. \nTickets sold at: 613-525-3393 or centreculturelalexandria.com
URL:https://thereview.ca/event/show-marcel-leboeuf/
LOCATION:Bonnie Glen Pavilion\, 19596 County Rd 43\, Alexandria
ATTACH;FMTTYPE=image/jpeg:https://s3.us-east-2.amazonaws.com/thereview.ca/wp-content/uploads/2026/03/24144604/trois-ptits-points-fb-events.jpg
GEO:45.2802404;-74.6958966
X-APPLE-STRUCTURED-LOCATION;VALUE=URI;X-ADDRESS=Bonnie Glen Pavilion 19596 County Rd 43 Alexandria;X-APPLE-RADIUS=500;X-TITLE=19596 County Rd 43:geo:-74.6958966,45.2802404
END:VEVENT
BEGIN:VEVENT
DTSTART;TZID=America/Toronto:20260415T190000
DTEND;TZID=America/Toronto:20260415T200000
DTSTAMP:20260421T203306
CREATED:20260401T100023Z
LAST-MODIFIED:20260330T162458Z
UID:10029339-1776279600-1776283200@thereview.ca
SUMMARY:Vankleek Hill & District Historical Society Annual Meeting
DESCRIPTION:All welcome.
URL:https://thereview.ca/event/vankleek-hill-district-historical-society-annual-meeting-2/
LOCATION:Archie Hardy Hall\, 29 High Street\, Vankleek Hill
CATEGORIES:Meetings
ATTACH;FMTTYPE=image/jpeg:https://s3.us-east-2.amazonaws.com/thereview.ca/wp-content/uploads/2026/03/30122435/historical-society-event.jpg
GEO:45.518918;-74.6528014
X-APPLE-STRUCTURED-LOCATION;VALUE=URI;X-ADDRESS=Archie Hardy Hall 29 High Street Vankleek Hill;X-APPLE-RADIUS=500;X-TITLE=29 High Street:geo:-74.6528014,45.518918
END:VEVENT
BEGIN:VEVENT
DTSTART;TZID=America/Toronto:20260418T090000
DTEND;TZID=America/Toronto:20260418T120000
DTSTAMP:20260421T203306
CREATED:20260408T144454Z
LAST-MODIFIED:20260408T144454Z
UID:10029345-1776502800-1776513600@thereview.ca
SUMMARY:Spring Rummage Sale
DESCRIPTION:Gently used items (no furniture please) can be dropped off at the church\, including clothes\, household items\, dishes\, books and toys etc.\nfrom 9 am until 4 pm on Thursday\, April 16th and Friday\, April 17th \nInfo: Bren 613 677-9113
URL:https://thereview.ca/event/spring-rummage-sale/
LOCATION:St. Jude’s Catholic Church\, 372 Genevieve St.\, Hawkesbury
CATEGORIES:Rummage sale
ATTACH;FMTTYPE=image/jpeg:https://s3.us-east-2.amazonaws.com/thereview.ca/wp-content/uploads/2026/04/08104433/st-judes-ladies-fb-events.jpg
GEO:45.6077208;-74.6184352
X-APPLE-STRUCTURED-LOCATION;VALUE=URI;X-ADDRESS=St. Jude’s Catholic Church 372 Genevieve St. Hawkesbury;X-APPLE-RADIUS=500;X-TITLE=372 Genevieve St.:geo:-74.6184352,45.6077208
END:VEVENT
BEGIN:VEVENT
DTSTART;TZID=America/Toronto:20260419T140000
DTEND;TZID=America/Toronto:20260419T180000
DTSTAMP:20260421T203306
CREATED:20260414T164026Z
LAST-MODIFIED:20260414T164026Z
UID:10029348-1776607200-1776621600@thereview.ca
SUMMARY:Roger Hamelin at The Windsor
DESCRIPTION:GOOD WESTERN MUSIC WITH ROGER HAMELIN\nSUNDAY\, APRIL 19\, 2 -6 PM\nCOVER CHARGE $5
URL:https://thereview.ca/event/roger-hamelin-at-the-windsor/
LOCATION:The Windsor Tavern\, 84 Main St. E.\, Vankleek Hill\, Ontario\, Canada
ATTACH;FMTTYPE=image/jpeg:https://s3.us-east-2.amazonaws.com/thereview.ca/wp-content/uploads/2026/04/14123945/Windsor-fb-event.jpg
GEO:45.5188593;-74.6501262
X-APPLE-STRUCTURED-LOCATION;VALUE=URI;X-ADDRESS=The Windsor Tavern 84 Main St. E. Vankleek Hill Ontario Canada;X-APPLE-RADIUS=500;X-TITLE=84 Main St. E.:geo:-74.6501262,45.5188593
END:VEVENT
BEGIN:VEVENT
DTSTART;TZID=America/Toronto:20260420T190000
DTEND;TZID=America/Toronto:20260420T200000
DTSTAMP:20260421T203306
CREATED:20260414T131205Z
LAST-MODIFIED:20260414T131205Z
UID:10029346-1776711600-1776715200@thereview.ca
SUMMARY:Vankleek Hill and District Nature Society Meeting
DESCRIPTION:Speaker: Lynn Ovenden\, OFN\, Eco Est\n“Recycling and Waste Streams”\nAll Welcome. New Members Welcome.\nEntry $2 \nInfo: 613-678-2967\nvkhnature.ca
URL:https://thereview.ca/event/vankleek-hill-and-district-nature-society-meeting-8/
LOCATION:Vankleek Hill Collegiate Institute\, 5814\, 34 Hwy\, Vankleek Hill\, Vankleek Hill\, K0B 1R0\, Canada
CATEGORIES:Meetings
ATTACH;FMTTYPE=image/jpeg:https://s3.us-east-2.amazonaws.com/thereview.ca/wp-content/uploads/2026/04/14091114/Nature-Society-fb-events.jpg
GEO:45.5225422;-74.652243
X-APPLE-STRUCTURED-LOCATION;VALUE=URI;X-ADDRESS=Vankleek Hill Collegiate Institute 5814 34 Hwy Vankleek Hill Vankleek Hill K0B 1R0 Canada;X-APPLE-RADIUS=500;X-TITLE=5814\, 34 Hwy:geo:-74.652243,45.5225422
END:VEVENT
BEGIN:VEVENT
DTSTART;TZID=America/Toronto:20260424T110000
DTEND;TZID=America/Toronto:20260424T133000
DTSTAMP:20260421T203306
CREATED:20260402T150311Z
LAST-MODIFIED:20260402T150311Z
UID:10029342-1777028400-1777037400@thereview.ca
SUMMARY:Soup and Sandwich Lunch
DESCRIPTION:SOUP & SANDWICH LUNCH\nFriday\, April 24th\n11am to 1:30pm\nCost – $15
URL:https://thereview.ca/event/soup-and-sandwich-lunch/
LOCATION:Knox Presbyterian Church\, 29 High Street\, Vankleek Hill
CATEGORIES:Food & Beverage
ATTACH;FMTTYPE=image/png:https://s3.us-east-2.amazonaws.com/thereview.ca/wp-content/uploads/2026/04/02110226/soup-and-sandwich-fb-events.png
GEO:45.518918;-74.6528014
X-APPLE-STRUCTURED-LOCATION;VALUE=URI;X-ADDRESS=Knox Presbyterian Church 29 High Street Vankleek Hill;X-APPLE-RADIUS=500;X-TITLE=29 High Street:geo:-74.6528014,45.518918
END:VEVENT
BEGIN:VEVENT
DTSTART;TZID=America/Toronto:20260424T200000
DTEND;TZID=America/Toronto:20260424T220000
DTSTAMP:20260421T203306
CREATED:20260414T165103Z
LAST-MODIFIED:20260414T165103Z
UID:10029349-1777060800-1777068000@thereview.ca
SUMMARY:Annie Villeneuve
DESCRIPTION:General admission: $38\nMember Price: $32.30 \nTickets Solde Here: 613-525-3393\, centreculturelalexandria.com \nCentre Culturel Les Trois P’Tits Points
URL:https://thereview.ca/event/annie-villeneuve/
LOCATION:Bonnie Glen Pavilion\, 19596 County Rd 43\, Alexandria
CATEGORIES:Music
ATTACH;FMTTYPE=image/jpeg:https://s3.us-east-2.amazonaws.com/thereview.ca/wp-content/uploads/2026/04/14124918/trois-ptit-points-fb-events.jpg
GEO:45.2802404;-74.6958966
X-APPLE-STRUCTURED-LOCATION;VALUE=URI;X-ADDRESS=Bonnie Glen Pavilion 19596 County Rd 43 Alexandria;X-APPLE-RADIUS=500;X-TITLE=19596 County Rd 43:geo:-74.6958966,45.2802404
END:VEVENT
BEGIN:VEVENT
DTSTART;TZID=America/Toronto:20260425T090000
DTEND;TZID=America/Toronto:20260425T130000
DTSTAMP:20260421T203306
CREATED:20260421T183040Z
LAST-MODIFIED:20260421T183040Z
UID:10029354-1777107600-1777122000@thereview.ca
SUMMARY:Square Dance Competition
DESCRIPTION:Doors open at 9:00 am\nCompetition Starts at 10:30 am \nCoffee and Snacks will be available for purchase from The Broken Kettle. Pizza for Lunch will be available for purchase. Proceeds towards the VCI Music Club. Music by Sharon Silverson McOuat & fiddlers Glenn Silverson and Neil MacKay \nFor more information or to register please contact:\nkelleyallen@xplornet.ca
URL:https://thereview.ca/event/square-dance-competition-4/
LOCATION:Vankleek Hill Collegiate Institute\, 5814\, 34 Hwy\, Vankleek Hill\, Vankleek Hill\, K0B 1R0\, Canada
ATTACH;FMTTYPE=image/jpeg:https://s3.us-east-2.amazonaws.com/thereview.ca/wp-content/uploads/2026/04/21142945/fiddle-and-dance-events-fb.jpg
GEO:45.5225422;-74.652243
X-APPLE-STRUCTURED-LOCATION;VALUE=URI;X-ADDRESS=Vankleek Hill Collegiate Institute 5814 34 Hwy Vankleek Hill Vankleek Hill K0B 1R0 Canada;X-APPLE-RADIUS=500;X-TITLE=5814\, 34 Hwy:geo:-74.652243,45.5225422
END:VEVENT
END:VCALENDAR