BEGIN:VCALENDAR
VERSION:2.0
PRODID:-//The Review Newspaper - ECPv6.15.18//NONSGML v1.0//EN
CALSCALE:GREGORIAN
METHOD:PUBLISH
X-ORIGINAL-URL:https://thereview.ca
X-WR-CALDESC:Events for The Review Newspaper
REFRESH-INTERVAL;VALUE=DURATION:PT1H
X-Robots-Tag:noindex
X-PUBLISHED-TTL:PT1H
BEGIN:VTIMEZONE
TZID:America/Toronto
BEGIN:DAYLIGHT
TZOFFSETFROM:-0500
TZOFFSETTO:-0400
TZNAME:EDT
DTSTART:20230312T070000
END:DAYLIGHT
BEGIN:STANDARD
TZOFFSETFROM:-0400
TZOFFSETTO:-0500
TZNAME:EST
DTSTART:20231105T060000
END:STANDARD
BEGIN:DAYLIGHT
TZOFFSETFROM:-0500
TZOFFSETTO:-0400
TZNAME:EDT
DTSTART:20240310T070000
END:DAYLIGHT
BEGIN:STANDARD
TZOFFSETFROM:-0400
TZOFFSETTO:-0500
TZNAME:EST
DTSTART:20241103T060000
END:STANDARD
BEGIN:DAYLIGHT
TZOFFSETFROM:-0500
TZOFFSETTO:-0400
TZNAME:EDT
DTSTART:20250309T070000
END:DAYLIGHT
BEGIN:STANDARD
TZOFFSETFROM:-0400
TZOFFSETTO:-0500
TZNAME:EST
DTSTART:20251102T060000
END:STANDARD
END:VTIMEZONE
BEGIN:VEVENT
DTSTART;TZID=America/Toronto:20240413T090000
DTEND;TZID=America/Toronto:20240413T120000
DTSTAMP:20260425T150944
CREATED:20240327T170647Z
LAST-MODIFIED:20240327T170656Z
UID:10009885-1712998800-1713009600@thereview.ca
SUMMARY:Ladies Association Spring Rummage Sale
DESCRIPTION:Assorted items: Dishes\, books\, household items\, ect. \n\n\n\nInfo 613-678-3760
URL:https://thereview.ca/event/ladies-association-spring-rummage-sale/
LOCATION:St-Judes Parish\, 372 Geneviève Street\,\, Hawkesbury\, Ontario\, Canada
CATEGORIES:Rummage sale
ATTACH;FMTTYPE=image/jpeg:https://thereview.ca/wp-content/uploads/2024/03/St.-Judes-Church-Rummage-Sale.jpg
GEO:45.6079891;-74.6184158
X-APPLE-STRUCTURED-LOCATION;VALUE=URI;X-ADDRESS=St-Judes Parish 372 Geneviève Street Hawkesbury Ontario Canada;X-APPLE-RADIUS=500;X-TITLE=372 Geneviève Street\,:geo:-74.6184158,45.6079891
END:VEVENT
BEGIN:VEVENT
DTSTART;TZID=America/Toronto:20240428T090000
DTEND;TZID=America/Toronto:20240428T150000
DTSTAMP:20260425T150944
CREATED:20240424T141334Z
LAST-MODIFIED:20240424T141343Z
UID:10009925-1714294800-1714316400@thereview.ca
SUMMARY:Garage Sale
DESCRIPTION:Donations of clothing and garage sale
URL:https://thereview.ca/event/garage-sale-6/
LOCATION:Église Adventiste\, 5372 ON-34\, Vankleek Hill\, K0B 1R0
CATEGORIES:Rummage sale
ATTACH;FMTTYPE=image/jpeg:https://thereview.ca/wp-content/uploads/2024/04/Eglise-Adventiste.jpg
END:VEVENT
END:VCALENDAR