BEGIN:VCALENDAR
VERSION:2.0
PRODID:-//The Review Newspaper - ECPv6.15.18//NONSGML v1.0//EN
CALSCALE:GREGORIAN
METHOD:PUBLISH
X-ORIGINAL-URL:https://thereview.ca
X-WR-CALDESC:Events for The Review Newspaper
REFRESH-INTERVAL;VALUE=DURATION:PT1H
X-Robots-Tag:noindex
X-PUBLISHED-TTL:PT1H
BEGIN:VTIMEZONE
TZID:America/Toronto
BEGIN:DAYLIGHT
TZOFFSETFROM:-0500
TZOFFSETTO:-0400
TZNAME:EDT
DTSTART:20190310T070000
END:DAYLIGHT
BEGIN:STANDARD
TZOFFSETFROM:-0400
TZOFFSETTO:-0500
TZNAME:EST
DTSTART:20191103T060000
END:STANDARD
BEGIN:DAYLIGHT
TZOFFSETFROM:-0500
TZOFFSETTO:-0400
TZNAME:EDT
DTSTART:20200308T070000
END:DAYLIGHT
BEGIN:STANDARD
TZOFFSETFROM:-0400
TZOFFSETTO:-0500
TZNAME:EST
DTSTART:20201101T060000
END:STANDARD
BEGIN:DAYLIGHT
TZOFFSETFROM:-0500
TZOFFSETTO:-0400
TZNAME:EDT
DTSTART:20210314T070000
END:DAYLIGHT
BEGIN:STANDARD
TZOFFSETFROM:-0400
TZOFFSETTO:-0500
TZNAME:EST
DTSTART:20211107T060000
END:STANDARD
BEGIN:DAYLIGHT
TZOFFSETFROM:-0500
TZOFFSETTO:-0400
TZNAME:EDT
DTSTART:20220313T070000
END:DAYLIGHT
BEGIN:STANDARD
TZOFFSETFROM:-0400
TZOFFSETTO:-0500
TZNAME:EST
DTSTART:20221106T060000
END:STANDARD
BEGIN:DAYLIGHT
TZOFFSETFROM:-0500
TZOFFSETTO:-0400
TZNAME:EDT
DTSTART:20230312T070000
END:DAYLIGHT
BEGIN:STANDARD
TZOFFSETFROM:-0400
TZOFFSETTO:-0500
TZNAME:EST
DTSTART:20231105T060000
END:STANDARD
END:VTIMEZONE
BEGIN:VTIMEZONE
TZID:UTC
BEGIN:STANDARD
TZOFFSETFROM:+0000
TZOFFSETTO:+0000
TZNAME:UTC
DTSTART:20210101T000000
END:STANDARD
END:VTIMEZONE
BEGIN:VEVENT
DTSTART;VALUE=DATE:20200509
DTEND;VALUE=DATE:20200510
DTSTAMP:20260424T095852
CREATED:20200212T185530Z
LAST-MODIFIED:20200212T185530Z
UID:10008230-1588982400-1589068799@thereview.ca
SUMMARY:Square Dance Competition
DESCRIPTION:Info: 613-675-4955
URL:https://thereview.ca/event/square-dance-competition-2/
CATEGORIES:Local,Music
ATTACH;FMTTYPE=image/jpeg:https://thereview.ca/wp-content/uploads/2016/11/Tammy-Allen_WEB_Royal_4H-Prescott-County-Square-dancers.jpg
END:VEVENT
BEGIN:VEVENT
DTSTART;VALUE=DATE:20200517
DTEND;VALUE=DATE:20200518
DTSTAMP:20260424T095852
CREATED:20200212T185849Z
LAST-MODIFIED:20200212T185849Z
UID:10008232-1589673600-1589759999@thereview.ca
SUMMARY:Heritage May Show Festival
DESCRIPTION:
URL:https://thereview.ca/event/heritage-may-show-festival/
LOCATION:Vankleek Hill\, Main Street\, Vankleek Hill\, Ontario\, K0B1R0\, Canada
CATEGORIES:Arts & Culture,Fairs & Festivals,Food & Beverage,Local,Music
ATTACH;FMTTYPE=image/jpeg:https://thereview.ca/wp-content/uploads/2017/08/Submitted_GPM_Harvest-Fall-Festival-1-WEB.jpg
ORGANIZER;CN="Excellent Events":MAILTO:excellenteventsvkh@gmail.com
GEO:45.5178199;-74.6453317
X-APPLE-STRUCTURED-LOCATION;VALUE=URI;X-ADDRESS=Vankleek Hill Main Street Vankleek Hill Ontario K0B1R0 Canada;X-APPLE-RADIUS=500;X-TITLE=Main Street:geo:-74.6453317,45.5178199
END:VEVENT
BEGIN:VEVENT
DTSTART;VALUE=DATE:20200701
DTEND;VALUE=DATE:20200702
DTSTAMP:20260424T095852
CREATED:20200212T190709Z
LAST-MODIFIED:20200212T190709Z
UID:10008239-1593561600-1593647999@thereview.ca
SUMMARY:Canada Day Celebrations
DESCRIPTION:Info: 613-678-3601 \ninforecreation@champlain.ca
URL:https://thereview.ca/event/canada-day-celebrations/
CATEGORIES:Fairs & Festivals,Local,Music
ATTACH;FMTTYPE=image/jpeg:https://thereview.ca/wp-content/uploads/2018/06/Canada-Day.jpg
END:VEVENT
BEGIN:VEVENT
DTSTART;VALUE=DATE:20200704
DTEND;VALUE=DATE:20200705
DTSTAMP:20260424T095852
CREATED:20200212T190931Z
LAST-MODIFIED:20200212T190931Z
UID:10008242-1593820800-1593907199@thereview.ca
SUMMARY:Vankleek Hill Food Bank Jamboree
DESCRIPTION:Info: 613-678-2947
URL:https://thereview.ca/event/vankleek-hill-food-bank-jamboree-2/
LOCATION:Vankleek Hill\, Main Street\, Vankleek Hill\, Ontario\, K0B1R0\, Canada
CATEGORIES:Food & Beverage,Local,Music
ATTACH;FMTTYPE=image/jpeg:https://thereview.ca/wp-content/uploads/2017/11/Music.jpg
GEO:45.5178199;-74.6453317
X-APPLE-STRUCTURED-LOCATION;VALUE=URI;X-ADDRESS=Vankleek Hill Main Street Vankleek Hill Ontario K0B1R0 Canada;X-APPLE-RADIUS=500;X-TITLE=Main Street:geo:-74.6453317,45.5178199
END:VEVENT
BEGIN:VEVENT
DTSTART;VALUE=DATE:20200718
DTEND;VALUE=DATE:20200719
DTSTAMP:20260424T095852
CREATED:20200212T191412Z
LAST-MODIFIED:20200212T191412Z
UID:10008248-1595030400-1595116799@thereview.ca
SUMMARY:Porchfest
DESCRIPTION:Info: 613-852-7920
URL:https://thereview.ca/event/porchfest-2/
LOCATION:Vankleek Hill\, Main Street\, Vankleek Hill\, Ontario\, K0B1R0\, Canada
CATEGORIES:Local,Music
ATTACH;FMTTYPE=image/jpeg:https://thereview.ca/wp-content/uploads/2018/03/Porchfest-Logo.jpg
GEO:45.5178199;-74.6453317
X-APPLE-STRUCTURED-LOCATION;VALUE=URI;X-ADDRESS=Vankleek Hill Main Street Vankleek Hill Ontario K0B1R0 Canada;X-APPLE-RADIUS=500;X-TITLE=Main Street:geo:-74.6453317,45.5178199
END:VEVENT
BEGIN:VEVENT
DTSTART;VALUE=DATE:20200813
DTEND;VALUE=DATE:20200817
DTSTAMP:20260424T095852
CREATED:20200212T192349Z
LAST-MODIFIED:20200212T192349Z
UID:10007450-1597276800-1597622399@thereview.ca
SUMMARY:Vankleek Hill Agricultural Fair
DESCRIPTION:Info: 613-678-3760
URL:https://thereview.ca/event/vankleek-hill-agricultural-fair/
LOCATION:Vankleek Hill Fairgrounds\, 92 Main Street West\, Vankleek Hill\, Ontario\, K0B 1R0\, Canada
CATEGORIES:Fairs & Festivals,Food & Beverage,Local,Music
ATTACH;FMTTYPE=image/jpeg:https://thereview.ca/wp-content/uploads/2017/03/Tammy-Jackson-Allen-4-H-VKH-FAir-2016-4.jpg
GEO:43.2562663;-79.8733037
X-APPLE-STRUCTURED-LOCATION;VALUE=URI;X-ADDRESS=Vankleek Hill Fairgrounds 92 Main Street West Vankleek Hill Ontario K0B 1R0 Canada;X-APPLE-RADIUS=500;X-TITLE=92 Main Street West:geo:-79.8733037,43.2562663
END:VEVENT
BEGIN:VEVENT
DTSTART;TZID=America/Toronto:20200913T130000
DTEND;TZID=America/Toronto:20200913T133000
DTSTAMP:20260424T095852
CREATED:20200910T132120Z
LAST-MODIFIED:20200910T133319Z
UID:10008334-1600002000-1600003800@thereview.ca
SUMMARY:The Piano on the Street / le piano de la rue
DESCRIPTION:A series of mini-concerts\, outdoors\, taking place at the Vankleek Hill Creating Centre\, from 1 p.m. to 1:30 p.m. on Sundays from September 13 to October 11.
URL:https://thereview.ca/event/the-piano-on-the-street-le-piano-de-la-rue/
LOCATION:Vankleek Hill Creating Centre\, 11 High Street\, Vankleek Hill\, Ontario\, K0B 1R0\, Canada
CATEGORIES:Local,Music
ATTACH;FMTTYPE=image/jpeg:https://thereview.ca/wp-content/uploads/2020/09/JM_AU2620_CreatingPiano03.jpg
GEO:45.5194042;-74.6520248
X-APPLE-STRUCTURED-LOCATION;VALUE=URI;X-ADDRESS=Vankleek Hill Creating Centre 11 High Street Vankleek Hill Ontario K0B 1R0 Canada;X-APPLE-RADIUS=500;X-TITLE=11 High Street:geo:-74.6520248,45.5194042
END:VEVENT
BEGIN:VEVENT
DTSTART;VALUE=DATE:20200925
DTEND;VALUE=DATE:20200927
DTSTAMP:20260424T095852
CREATED:20200212T193201Z
LAST-MODIFIED:20200212T193849Z
UID:10007472-1600992000-1601164799@thereview.ca
SUMMARY:Oktoberfest
DESCRIPTION:Info: 613-678-2799
URL:https://thereview.ca/event/oktoberfest-2/
CATEGORIES:Food & Beverage,Local,Music
ATTACH;FMTTYPE=image/jpeg:https://thereview.ca/wp-content/uploads/2016/08/TK_Beaus-Oktoberfest_Sat-2015-202_colour.jpg
END:VEVENT
BEGIN:VEVENT
DTSTART;VALUE=DATE:20201030
DTEND;VALUE=DATE:20201031
DTSTAMP:20260424T095852
CREATED:20200212T194644Z
LAST-MODIFIED:20200212T194644Z
UID:10007487-1604016000-1604102399@thereview.ca
SUMMARY:Halloween Dance
DESCRIPTION:Info: 613-678-3601 \ninforecreation@champlain.ca
URL:https://thereview.ca/event/halloween-dance-2/
LOCATION:Vankleek Hill\, Main Street\, Vankleek Hill\, Ontario\, K0B1R0\, Canada
CATEGORIES:Local,Music
ATTACH;FMTTYPE=image/jpeg:https://thereview.ca/wp-content/uploads/2017/09/MM-Oct-4-2017-HalloweenHawkesbury.jpg
GEO:45.5178199;-74.6453317
X-APPLE-STRUCTURED-LOCATION;VALUE=URI;X-ADDRESS=Vankleek Hill Main Street Vankleek Hill Ontario K0B1R0 Canada;X-APPLE-RADIUS=500;X-TITLE=Main Street:geo:-74.6453317,45.5178199
END:VEVENT
BEGIN:VEVENT
DTSTART;TZID=America/Toronto:20201227T193000
DTEND;TZID=America/Toronto:20201227T210000
DTSTAMP:20260424T095852
CREATED:20201216T183459Z
LAST-MODIFIED:20201216T183459Z
UID:10008363-1609097400-1609102800@thereview.ca
SUMMARY:4Korners Holiday concert
DESCRIPTION:30 artists who have volunteered to perform over the last nine months have agreed to participate in an online Christmas concert which will be broadcast on Facebook. \nhttps://www.facebook.com/4KornersCenter.
URL:https://thereview.ca/event/4korners-holiday-concert/
CATEGORIES:Arts & Culture,Local,Music
ATTACH;FMTTYPE=image/png:https://thereview.ca/wp-content/uploads/2018/08/musical-notes-logo.jpg.png
END:VEVENT
BEGIN:VEVENT
DTSTART;TZID=America/Toronto:20210701T183000
DTEND;TZID=America/Toronto:20210701T203000
DTSTAMP:20260424T095852
CREATED:20210623T143032Z
LAST-MODIFIED:20210623T143032Z
UID:10007530-1625164200-1625171400@thereview.ca
SUMMARY:Canada Day concert
DESCRIPTION:A list of amazing talent will be performing at UCPR’s first ever Canada PR 2021 event. \nThe celebrations will begin at 6:30 p.m. on July 1 via Facebook Live on the Canada PR 2021 event page https://www.facebook.com/events/850103679251699 .
URL:https://thereview.ca/event/canada-day-concert/
CATEGORIES:Arts & Culture,Local,Music
ATTACH;FMTTYPE=image/jpeg:https://thereview.ca/wp-content/uploads/2018/06/Canada-Day-1.jpg
END:VEVENT
BEGIN:VEVENT
DTSTART;TZID=America/Toronto:20210717T120000
DTEND;TZID=America/Toronto:20210717T170000
DTSTAMP:20260424T095852
CREATED:20210623T141223Z
LAST-MODIFIED:20210623T141223Z
UID:10007515-1626523200-1626541200@thereview.ca
SUMMARY:Porchfest
DESCRIPTION:This year Porchfest is downsized with 12 different performers playing on 10 porches throughout Vankleek Hill. \nThe full schedule can be found here.  http://porchfestvankleekhill.ca/schedule-map/ .
URL:https://thereview.ca/event/porchfest-3/
CATEGORIES:Local,Music
ATTACH;FMTTYPE=image/jpeg:https://thereview.ca/wp-content/uploads/2018/03/Porchfest-Logo.jpg
END:VEVENT
BEGIN:VEVENT
DTSTART;VALUE=DATE:20210730
DTEND;VALUE=DATE:20210803
DTSTAMP:20260424T095852
CREATED:20210714T132816Z
LAST-MODIFIED:20210714T132816Z
UID:10007577-1627603200-1627948799@thereview.ca
SUMMARY:2021 Echo\, Hudson Music Festival
DESCRIPTION:Michel Pagliaro\, Karen Young and Marianne Trudel\, the music of James Taylor\, Musica West (classical). \n  \nwww.hudsonmusicfestival.ca \neventbrite tickets online \n450-807-1179
URL:https://thereview.ca/event/2021-echo-hudson-music-festival/
CATEGORIES:Music
ATTACH;FMTTYPE=image/png:https://thereview.ca/wp-content/uploads/2018/08/musical-notes-logo.jpg.png
END:VEVENT
BEGIN:VEVENT
DTSTART;VALUE=DATE:20210805
DTEND;VALUE=DATE:20210806
DTSTAMP:20260424T095852
CREATED:20210721T141559Z
LAST-MODIFIED:20210721T141559Z
UID:10007531-1628121600-1628207999@thereview.ca
SUMMARY:Classical Music Under the Stars
DESCRIPTION:The evening’s soloist performer will be Ottawa concert pianist Nicholas Deek. \nFor more info visit: GlengarryPioneerMuseum.ca \nor call Jennifer Black 613-527-5230
URL:https://thereview.ca/event/classical-music-under-the-stars/
LOCATION:Glengarry Pioneer Museum\, 1645 County Rd 30\, Dunvegan\, Ontario\, K0C 1J0\, Canada
CATEGORIES:Arts & Culture,Music
ATTACH;FMTTYPE=image/jpeg:https://thereview.ca/wp-content/uploads/2021/07/nicholas_deek.jpg
GEO:45.363552;-74.8200683
X-APPLE-STRUCTURED-LOCATION;VALUE=URI;X-ADDRESS=Glengarry Pioneer Museum 1645 County Rd 30 Dunvegan Ontario K0C 1J0 Canada;X-APPLE-RADIUS=500;X-TITLE=1645 County Rd 30:geo:-74.8200683,45.363552
END:VEVENT
BEGIN:VEVENT
DTSTART;VALUE=DATE:20210807
DTEND;VALUE=DATE:20210808
DTSTAMP:20260424T095852
CREATED:20210728T144725Z
LAST-MODIFIED:20210728T144725Z
UID:10007589-1628294400-1628380799@thereview.ca
SUMMARY:Benefit concert with 50 PROOF
DESCRIPTION:Tickets can be purchased at Arbor Gallery and at the Windsor Tavern. \nFundraiser for the Arbor Gallery Cultural Centre.
URL:https://thereview.ca/event/benefit-concert-with-50-proof/
LOCATION:The Windsor Tavern\, 84 Main St. E.\, Vankleek Hill\, Ontario\, Canada
CATEGORIES:Local,Music
ATTACH;FMTTYPE=image/jpeg:https://thereview.ca/wp-content/uploads/2021/07/50-PROOF.jpg
GEO:45.5188593;-74.6501262
X-APPLE-STRUCTURED-LOCATION;VALUE=URI;X-ADDRESS=The Windsor Tavern 84 Main St. E. Vankleek Hill Ontario Canada;X-APPLE-RADIUS=500;X-TITLE=84 Main St. E.:geo:-74.6501262,45.5188593
END:VEVENT
BEGIN:VEVENT
DTSTART;TZID=America/Toronto:20210827T170000
DTEND;TZID=America/Toronto:20210827T210000
DTSTAMP:20260424T095852
CREATED:20210825T144342Z
LAST-MODIFIED:20210825T144342Z
UID:10007602-1630083600-1630098000@thereview.ca
SUMMARY:Furr Get Me Not Cat Haven Fundraiser
DESCRIPTION:Steak Night Fundraiser with 50 Proof. \nSeatings at 5 and 7pm.
URL:https://thereview.ca/event/furr-get-me-not-cat-haven-fundraiser/
LOCATION:The Windsor Tavern\, 84 Main St. E.\, Vankleek Hill\, Ontario\, Canada
CATEGORIES:Local,Music
ATTACH;FMTTYPE=image/jpeg:https://thereview.ca/wp-content/uploads/2021/08/Submitted-Furr-Get-Me-Not-Cat-Haven.jpg
GEO:45.5188593;-74.6501262
X-APPLE-STRUCTURED-LOCATION;VALUE=URI;X-ADDRESS=The Windsor Tavern 84 Main St. E. Vankleek Hill Ontario Canada;X-APPLE-RADIUS=500;X-TITLE=84 Main St. E.:geo:-74.6501262,45.5188593
END:VEVENT
BEGIN:VEVENT
DTSTART;TZID=America/Toronto:20211024T150000
DTEND;TZID=America/Toronto:20211024T170000
DTSTAMP:20260424T095852
CREATED:20211006T150430Z
LAST-MODIFIED:20211006T150430Z
UID:10007623-1635087600-1635094800@thereview.ca
SUMMARY:CONCERT BÉNÉFICE 45e et 46e ANNIVERSAIRE / CLASSICAL CONCERT
DESCRIPTION:SINFONIA DE L’OUEST – 20 musiciens\nStewart Grant\, directeur artistique et chef d’orchestre\nAu programme / program :\nHandel-Grant-Elgar-Champagne-Mozart \n  \nle chenail Centre culturel • Cultural Centre \n2 John Street\, Hawkesbury\, Ontario\, Canada K6A 1X3 \n613-632-9555 info line www.lechenail1975.com \n  \n24 OCT 2021 / 3 PM / 30 $\n(50 $ VIP / cocktail & gâteau avec les artistes )\nÉglise ST-PÎERRE APÔTRE\n470 Main St. East\, Hawkesbury
URL:https://thereview.ca/event/concert-benefice-45e-et-46e-anniversaire-classical-concert/
LOCATION:Eglise St-Pierre Apotre\, 470 Main St. E.\, Hawkesbury
CATEGORIES:Arts & Culture,Music
ATTACH;FMTTYPE=image/jpeg:https://thereview.ca/wp-content/uploads/2021/10/le-chenail-2021-10-06.jpg
GEO:45.6099056;-74.604371
X-APPLE-STRUCTURED-LOCATION;VALUE=URI;X-ADDRESS=Eglise St-Pierre Apotre 470 Main St. E. Hawkesbury;X-APPLE-RADIUS=500;X-TITLE=470 Main St. E.:geo:-74.604371,45.6099056
END:VEVENT
BEGIN:VEVENT
DTSTART;TZID=America/Toronto:20211114T130000
DTEND;TZID=America/Toronto:20211114T170000
DTSTAMP:20260424T095852
CREATED:20211115T183016Z
LAST-MODIFIED:20211115T183016Z
UID:10007619-1636894800-1636909200@thereview.ca
SUMMARY:Jamming and Dance
DESCRIPTION:Masks and proof of vaccination mandatory. \nFor more info call: 613-538-2497 \nAdmission $8.
URL:https://thereview.ca/event/jamming-and-dance/
LOCATION:South Stormont Township Hall\, 2 Mille Roches Rd\, Long Sault\, Ontario
CATEGORIES:Local,Music
ATTACH;FMTTYPE=image/jpeg:https://thereview.ca/wp-content/uploads/2018/11/couple-dancing.jpg
GEO:45.0298079;-74.8905357
X-APPLE-STRUCTURED-LOCATION;VALUE=URI;X-ADDRESS=South Stormont Township Hall 2 Mille Roches Rd Long Sault Ontario;X-APPLE-RADIUS=500;X-TITLE=2 Mille Roches Rd:geo:-74.8905357,45.0298079
END:VEVENT
BEGIN:VEVENT
DTSTART;TZID=America/Toronto:20211204T190000
DTEND;TZID=America/Toronto:20211204T210000
DTSTAMP:20260424T095852
CREATED:20211122T142148Z
LAST-MODIFIED:20211122T142148Z
UID:10007629-1638644400-1638651600@thereview.ca
SUMMARY:Christmas concert
DESCRIPTION:Christmas Concert\, 7pm\, Ste-Anne-de-Prescott RC Church-Reservations required\, Info: (613) 674-2042 / https://www.ste-anne.ca/en
URL:https://thereview.ca/event/christmas-concert-4/
LOCATION:Église Ste-Anne-de-Prescott\, 719 County Road 18 (Main Street)\, Ste-Anne-de-Prescott\, Ontario\, K0B 1M0\, Canada
CATEGORIES:Local,Music
ATTACH;FMTTYPE=image/jpeg:https://thereview.ca/wp-content/uploads/2021/11/Christmas-4.jpg
GEO:45.4430815;-74.4723111
X-APPLE-STRUCTURED-LOCATION;VALUE=URI;X-ADDRESS=Église Ste-Anne-de-Prescott 719 County Road 18 (Main Street) Ste-Anne-de-Prescott Ontario K0B 1M0 Canada;X-APPLE-RADIUS=500;X-TITLE=719 County Road 18 (Main Street):geo:-74.4723111,45.4430815
END:VEVENT
BEGIN:VEVENT
DTSTART;TZID=America/Toronto:20211211T193000
DTEND;TZID=America/Toronto:20211211T210000
DTSTAMP:20260424T095852
CREATED:20211208T160832Z
LAST-MODIFIED:20211208T160958Z
UID:10007693-1639251000-1639256400@thereview.ca
SUMMARY:Christmas Show
DESCRIPTION:VOIX-LÀ Singers\nInvite you to their\nChristmas Show at the\nSaint-Grégoire de Nazianze Church\nHigginson Street\, Vankleek Hill\nSaturday\, December 11\,\n7:30 p.m.\nSuggested donation: $10\nVaccine Passport is required.
URL:https://thereview.ca/event/christmas-show/
LOCATION:St-Gregoire Church\, Higginson St\, Vankleek Hill\, ON
CATEGORIES:Arts & Culture,Music
ATTACH;FMTTYPE=image/jpeg:https://thereview.ca/wp-content/uploads/2021/11/Christmas-4.jpg
GEO:45.5207498;-74.6488072
X-APPLE-STRUCTURED-LOCATION;VALUE=URI;X-ADDRESS=St-Gregoire Church Higginson St Vankleek Hill ON;X-APPLE-RADIUS=500;X-TITLE=Higginson St:geo:-74.6488072,45.5207498
END:VEVENT
BEGIN:VEVENT
DTSTART;TZID=America/Toronto:20211218T190000
DTEND;TZID=America/Toronto:20211218T230000
DTSTAMP:20260424T095852
CREATED:20211215T192920Z
LAST-MODIFIED:20220126T013154Z
UID:10007702-1639854000-1639868400@thereview.ca
SUMMARY:Jamming & Dance
DESCRIPTION:Masks and proof of vaccination mandatory.\n\nInfo: 613-538-2497
URL:https://thereview.ca/event/jamming-dance/
LOCATION:South Stormont Township Hall\, 2 Mille Roches Rd\, Long Sault\, Ontario
CATEGORIES:Music
ATTACH;FMTTYPE=image/jpeg:https://thereview.ca/wp-content/uploads/2019/07/Barn-Dance-iStock-1011279850.jpg
GEO:45.0298079;-74.8905357
X-APPLE-STRUCTURED-LOCATION;VALUE=URI;X-ADDRESS=South Stormont Township Hall 2 Mille Roches Rd Long Sault Ontario;X-APPLE-RADIUS=500;X-TITLE=2 Mille Roches Rd:geo:-74.8905357,45.0298079
END:VEVENT
BEGIN:VEVENT
DTSTART;TZID=America/Toronto:20220216T190000
DTEND;TZID=America/Toronto:20220216T210000
DTSTAMP:20260424T095852
CREATED:20220202T203408Z
LAST-MODIFIED:20220202T203421Z
UID:10007590-1645038000-1645045200@thereview.ca
SUMMARY:Coffeehouse\, live music
DESCRIPTION:The Wineberries Duo from West Island\n\nFebruary 16\nDoors open at 7 pm\nMusic starts at 7:30 pm\nPresented by Saken Music\n\nShow schedule:\nsaken.ca/Events\n\nTickets: $15 in advance\nat saken.ca/tickets\nand $20 at the door.\n\nAll shows take place at the\nCreating Centre\,\n13 High Street\, Vankleek Hill\n\nLimited seating.\nVaccination proof required by law.
URL:https://thereview.ca/event/coffeehouse-live-music/
LOCATION:The Creating Centre\, 11 High Street\, Vankleek Hill\, ON\, Ontario\, K0B 1R0
CATEGORIES:Arts & Culture,Music
ATTACH;FMTTYPE=image/png:https://thereview.ca/wp-content/uploads/2018/08/musical-notes-logo.jpg.png
GEO:45.5194042;-74.6520248
X-APPLE-STRUCTURED-LOCATION;VALUE=URI;X-ADDRESS=The Creating Centre 11 High Street Vankleek Hill ON Ontario K0B 1R0;X-APPLE-RADIUS=500;X-TITLE=11 High Street:geo:-74.6520248,45.5194042
END:VEVENT
BEGIN:VEVENT
DTSTART;TZID=America/Toronto:20220304T173000
DTEND;TZID=America/Toronto:20220304T203000
DTSTAMP:20260424T095852
CREATED:20220223T163108Z
LAST-MODIFIED:20220223T163119Z
UID:10007673-1646415000-1646425800@thereview.ca
SUMMARY:Fundraising Steak Dinner
DESCRIPTION:Fundraiser for Full Bellies.\n\nwww.fullbellies.ca\n\nKids welcome until 9 pm\n\nTakeout available\n\nTwo sittings: 5:30 pm or 7 pm\n\n$20/plate\n\nReservations: 613-678-2122
URL:https://thereview.ca/event/fundraising-steak-dinner/
LOCATION:The Windsor Tavern\, 84 Main St. E.\, Vankleek Hill\, Ontario\, Canada
CATEGORIES:Food & Beverage,Music
ATTACH;FMTTYPE=image/jpeg:https://thereview.ca/wp-content/uploads/2017/02/steak.jpg
GEO:45.5188593;-74.6501262
X-APPLE-STRUCTURED-LOCATION;VALUE=URI;X-ADDRESS=The Windsor Tavern 84 Main St. E. Vankleek Hill Ontario Canada;X-APPLE-RADIUS=500;X-TITLE=84 Main St. E.:geo:-74.6501262,45.5188593
END:VEVENT
BEGIN:VEVENT
DTSTART;TZID=America/Toronto:20220305T190000
DTEND;TZID=America/Toronto:20220305T230000
DTSTAMP:20260424T095852
CREATED:20220202T202957Z
LAST-MODIFIED:20220302T165235Z
UID:10008123-1646506800-1646521200@thereview.ca
SUMMARY:Jamming\, Dance and Meal
DESCRIPTION:For more info call: 613-538-2497 \n5-7pm supper-tickets sold out \n7-11pm dancing
URL:https://thereview.ca/event/jamming-dance-and-meal/
LOCATION:South Stormont Township Hall\, 2 Mille Roches Rd\, Long Sault\, Ontario
CATEGORIES:Music
ATTACH;FMTTYPE=image/jpeg:https://thereview.ca/wp-content/uploads/2019/07/Barn-Dance-iStock-1011279850-1.jpg
GEO:45.0298079;-74.8905357
X-APPLE-STRUCTURED-LOCATION;VALUE=URI;X-ADDRESS=South Stormont Township Hall 2 Mille Roches Rd Long Sault Ontario;X-APPLE-RADIUS=500;X-TITLE=2 Mille Roches Rd:geo:-74.8905357,45.0298079
END:VEVENT
BEGIN:VEVENT
DTSTART;TZID=America/Toronto:20220316T193000
DTEND;TZID=America/Toronto:20220316T213000
DTSTAMP:20260424T095852
CREATED:20220222T210309Z
LAST-MODIFIED:20220222T210309Z
UID:10007627-1647459000-1647466200@thereview.ca
SUMMARY:Saken Music Coffee House Sessions
DESCRIPTION:Everett and Cool present an evening of popular music along with original compositions. This duo has been working together for many years and will certainly provide an enjoyable experience.
URL:https://thereview.ca/event/saken-music-coffee-house-sessions/
LOCATION:11 High St.\, 11 High Street\, Vankleek Hill\, ON
CATEGORIES:Music
ATTACH;FMTTYPE=image/jpeg:https://thereview.ca/wp-content/uploads/2022/02/inbound8204987261423455606.jpg
ORGANIZER;CN="Saken Music":MAILTO:music@saken.ca
GEO:45.5194042;-74.6520248
X-APPLE-STRUCTURED-LOCATION;VALUE=URI;X-ADDRESS=11 High St. 11 High Street Vankleek Hill ON;X-APPLE-RADIUS=500;X-TITLE=11 High Street:geo:-74.6520248,45.5194042
END:VEVENT
BEGIN:VEVENT
DTSTART;TZID=America/Toronto:20220329T193000
DTEND;TZID=America/Toronto:20220329T213000
DTSTAMP:20260424T095852
CREATED:20220309T180641Z
LAST-MODIFIED:20220309T180651Z
UID:10007682-1648582200-1648589400@thereview.ca
SUMMARY:Concert with Sussex
DESCRIPTION:Admission: $20 in advance\n\n$25 at the door\n\nLimited seating
URL:https://thereview.ca/event/concert-with-sussex/
LOCATION:Arbor Gallery Cultural Centre\, 36 Home Ave\, Vankleek Hill\, Ontario\, K0B 1R0\, Canada
CATEGORIES:Arts & Culture,Music
ATTACH;FMTTYPE=image/png:https://thereview.ca/wp-content/uploads/2018/08/musical-notes-logo.jpg.png
ORGANIZER;CN="Saken Music":MAILTO:music@saken.ca
GEO:45.520225;-74.6495046
X-APPLE-STRUCTURED-LOCATION;VALUE=URI;X-ADDRESS=Arbor Gallery Cultural Centre 36 Home Ave Vankleek Hill Ontario K0B 1R0 Canada;X-APPLE-RADIUS=500;X-TITLE=36 Home Ave:geo:-74.6495046,45.520225
END:VEVENT
BEGIN:VEVENT
DTSTART;TZID=America/Toronto:20220507T140000
DTEND;TZID=America/Toronto:20220507T203000
DTSTAMP:20260424T095852
CREATED:20200305T181350Z
LAST-MODIFIED:20220504T183513Z
UID:10007534-1651932000-1651955400@thereview.ca
SUMMARY:Tri-County Country Music Association Jamming & Dance
DESCRIPTION:TRI-COUNTY\nCOUNTRY MUSIC ASSOCIATION\nJamming & Dance\nSaturday May 7\, 2022 \n2-5 pm Dancing\n5-6:30 pm Supper\n6:30 – 8:30 pm Dancing \nAdmission $8\nSupper $10\nEvening Dance Only $4 \nSouth Stormont Township Hall 2\nMille Roches Rd.\, Long Sault\, ON \nFor more info call 613-538-2497 \nAll Welcome!
URL:https://thereview.ca/event/tri-country-music-association-jamming-and-dancing/
LOCATION:South Stormont Township Hall\, 2 Mille Roches Rd\, Long Sault\, Ontario
CATEGORIES:Local,Music
ATTACH;FMTTYPE=image/jpeg:https://thereview.ca/wp-content/uploads/2018/07/cowboy-boots-1.jpg
GEO:45.0298079;-74.8905357
X-APPLE-STRUCTURED-LOCATION;VALUE=URI;X-ADDRESS=South Stormont Township Hall 2 Mille Roches Rd Long Sault Ontario;X-APPLE-RADIUS=500;X-TITLE=2 Mille Roches Rd:geo:-74.8905357,45.0298079
END:VEVENT
BEGIN:VEVENT
DTSTART;TZID=America/Toronto:20220507T140000
DTEND;TZID=America/Toronto:20220507T220000
DTSTAMP:20260424T095852
CREATED:20220418T175723Z
LAST-MODIFIED:20220504T183639Z
UID:10007613-1651932000-1651960800@thereview.ca
SUMMARY:Spring Fiddle and Squaredance Showcase and Dance
DESCRIPTION:Two toe-tappin’ events! \nSaturday\, May 7\, 2022 \nPresented by: The Vankleek Hill Fiddle & Dance Association with The Vankleek Hill Agricultural Society\nAdmission $10 per person (from 2 p.m. to 4:30 p.m.) \nAFTERNOON SHOWCASE TALENT LINE-UP:\n2 p.m.: The Fiddlaires accompanied by Sharon McOuat \n2:30 p.m.: Ormstown/Vankleek Hill Squaredancers\,\naccompanied by Glenn Silverson & Sharon McOuat \n3 p.m.: Kayleigh Armstrong & the Macdonald Highland\nDancers\, with Bruce McCuaig\n– bagpipe accompaniment \n3:15 p.m.: Anna Ludlow Fiddle Show with\naccompanist Tyson Chen \n4:15 p.m.: Ormstown/Vankleek Hill Squaredancers\,\naccompanied by Glenn Silverson & Sharon McOuat \nAfternoon show ends at approx. 4:30 p.m. \nEVENING SPRING DANCE\nAdmission $10 per person (from 7:30 p.m. to 10 p.m.)\n*Admission is $5 with afternoon bracelet.\n7:30 p.m. to 10 p.m.:\nRoger Hamelin & Band\, along with the Vankleek Hill Old Time Fiddlers.
URL:https://thereview.ca/event/spring-music-show-and-dance/
LOCATION:Vankleek Hill Community Centre\, 36 Mill St.\, Vankleek Hill\, Ontario\, K0B 1R0\, Canada
CATEGORIES:Local,Music
ATTACH;FMTTYPE=image/jpeg:https://thereview.ca/wp-content/uploads/2017/11/Music.jpg
GEO:45.5169974;-74.6524697
X-APPLE-STRUCTURED-LOCATION;VALUE=URI;X-ADDRESS=Vankleek Hill Community Centre 36 Mill St. Vankleek Hill Ontario K0B 1R0 Canada;X-APPLE-RADIUS=500;X-TITLE=36 Mill St.:geo:-74.6524697,45.5169974
END:VEVENT
BEGIN:VEVENT
DTSTART;TZID=America/Toronto:20220519T193000
DTEND;TZID=America/Toronto:20220519T223000
DTSTAMP:20260424T095852
CREATED:20220424T152225Z
LAST-MODIFIED:20220513T170849Z
UID:10007676-1652988600-1652999400@thereview.ca
SUMMARY:Martin Gibson Duo
DESCRIPTION:Thursday May 19\, 7:30pm \n$20 in advance\n$25 at the door \nTickets: saken.ca/tickets \nPresented by Saken Music / Arbor Gallery Cultural Centre \n 
URL:https://thereview.ca/event/martin-gibson-duo/
LOCATION:Arbor Gallery Cultural Centre\, 36 Home Ave\, Vankleek Hill\, Ontario\, K0B 1R0\, Canada
CATEGORIES:Local,Music
ATTACH;FMTTYPE=image/jpeg:https://thereview.ca/wp-content/uploads/2022/05/Submitted-Arbor-Gallery-Martin-Gibson-1.jpg
ORGANIZER;CN="Saken Music":MAILTO:music@saken.ca
GEO:45.520225;-74.6495046
X-APPLE-STRUCTURED-LOCATION;VALUE=URI;X-ADDRESS=Arbor Gallery Cultural Centre 36 Home Ave Vankleek Hill Ontario K0B 1R0 Canada;X-APPLE-RADIUS=500;X-TITLE=36 Home Ave:geo:-74.6495046,45.520225
END:VEVENT
BEGIN:VEVENT
DTSTART;TZID=UTC:20220528T140000
DTEND;TZID=UTC:20220528T210000
DTSTAMP:20260424T095852
CREATED:20220526T150134Z
LAST-MODIFIED:20220526T150135Z
UID:10007727-1653746400-1653771600@thereview.ca
SUMMARY:Festival de musique de Vankleek Hill Music Festival
DESCRIPTION:Saturday\, May 28\, 2022\nKNOX PRESBYTERIAN CHURCH\,\n29 High Street\, Vankleek Hill\nADMISSION IS FREE – EVERYONE WELCOME\nTheReview is proud to sponsor the 32nd annual – la 32ième édition du Festival de musique de Vankleek Hill Music Festival\n7:00PM
URL:https://thereview.ca/event/festival-de-musique-de-vankleek-hill-music-festival/
LOCATION:Knox Presbyterian Church\, 29 High Street\, Vankleek Hill
CATEGORIES:Local,Music
GEO:45.518918;-74.6528014
X-APPLE-STRUCTURED-LOCATION;VALUE=URI;X-ADDRESS=Knox Presbyterian Church 29 High Street Vankleek Hill;X-APPLE-RADIUS=500;X-TITLE=29 High Street:geo:-74.6528014,45.518918
END:VEVENT
END:VCALENDAR