BEGIN:VCALENDAR
VERSION:2.0
PRODID:-//The Review Newspaper - ECPv6.15.18//NONSGML v1.0//EN
CALSCALE:GREGORIAN
METHOD:PUBLISH
X-ORIGINAL-URL:https://thereview.ca
X-WR-CALDESC:Events for The Review Newspaper
REFRESH-INTERVAL;VALUE=DURATION:PT1H
X-Robots-Tag:noindex
X-PUBLISHED-TTL:PT1H
BEGIN:VTIMEZONE
TZID:America/Toronto
BEGIN:DAYLIGHT
TZOFFSETFROM:-0500
TZOFFSETTO:-0400
TZNAME:EDT
DTSTART:20250309T070000
END:DAYLIGHT
BEGIN:STANDARD
TZOFFSETFROM:-0400
TZOFFSETTO:-0500
TZNAME:EST
DTSTART:20251102T060000
END:STANDARD
BEGIN:DAYLIGHT
TZOFFSETFROM:-0500
TZOFFSETTO:-0400
TZNAME:EDT
DTSTART:20260308T070000
END:DAYLIGHT
BEGIN:STANDARD
TZOFFSETFROM:-0400
TZOFFSETTO:-0500
TZNAME:EST
DTSTART:20261101T060000
END:STANDARD
BEGIN:DAYLIGHT
TZOFFSETFROM:-0500
TZOFFSETTO:-0400
TZNAME:EDT
DTSTART:20270314T070000
END:DAYLIGHT
BEGIN:STANDARD
TZOFFSETFROM:-0400
TZOFFSETTO:-0500
TZNAME:EST
DTSTART:20271107T060000
END:STANDARD
END:VTIMEZONE
BEGIN:VEVENT
DTSTART;TZID=America/Toronto:20260424T190000
DTEND;TZID=America/Toronto:20260424T210000
DTSTAMP:20260422T154424
CREATED:20260422T181029Z
LAST-MODIFIED:20260422T181029Z
UID:10029355-1777057200-1777064400@thereview.ca
SUMMARY:Festival de Musique de Vankleek Hill Music Festival
DESCRIPTION:Admission is free! Everyone Welcome! \nFor further information\, please call ian hepburn at 613-678-2286\nThis event is being promoted courtesy of The Review\, because we love kids\, parents and music!
URL:https://thereview.ca/event/festival-de-musique-de-vankleek-hill-music-festival-4/2026-04-24/
LOCATION:Knox Presbyterian Church\, 29 High Street\, Vankleek Hill
CATEGORIES:Music
ATTACH;FMTTYPE=image/jpeg:https://s3.us-east-2.amazonaws.com/thereview.ca/wp-content/uploads/2026/04/22141019/music-festival-events.jpg
GEO:45.518918;-74.6528014
X-APPLE-STRUCTURED-LOCATION;VALUE=URI;X-ADDRESS=Knox Presbyterian Church 29 High Street Vankleek Hill;X-APPLE-RADIUS=500;X-TITLE=29 High Street:geo:-74.6528014,45.518918
END:VEVENT
BEGIN:VEVENT
DTSTART;TZID=America/Toronto:20260424T200000
DTEND;TZID=America/Toronto:20260424T220000
DTSTAMP:20260422T154424
CREATED:20260414T165103Z
LAST-MODIFIED:20260414T165103Z
UID:10029349-1777060800-1777068000@thereview.ca
SUMMARY:Annie Villeneuve
DESCRIPTION:General admission: $38\nMember Price: $32.30 \nTickets Solde Here: 613-525-3393\, centreculturelalexandria.com \nCentre Culturel Les Trois P’Tits Points
URL:https://thereview.ca/event/annie-villeneuve/
LOCATION:Bonnie Glen Pavilion\, 19596 County Rd 43\, Alexandria
CATEGORIES:Music
ATTACH;FMTTYPE=image/jpeg:https://s3.us-east-2.amazonaws.com/thereview.ca/wp-content/uploads/2026/04/14124918/trois-ptit-points-fb-events.jpg
GEO:45.2802404;-74.6958966
X-APPLE-STRUCTURED-LOCATION;VALUE=URI;X-ADDRESS=Bonnie Glen Pavilion 19596 County Rd 43 Alexandria;X-APPLE-RADIUS=500;X-TITLE=19596 County Rd 43:geo:-74.6958966,45.2802404
END:VEVENT
END:VCALENDAR