BEGIN:VCALENDAR
VERSION:2.0
PRODID:-//The Review Newspaper - ECPv6.15.18//NONSGML v1.0//EN
CALSCALE:GREGORIAN
METHOD:PUBLISH
X-ORIGINAL-URL:https://thereview.ca
X-WR-CALDESC:Events for The Review Newspaper
REFRESH-INTERVAL;VALUE=DURATION:PT1H
X-Robots-Tag:noindex
X-PUBLISHED-TTL:PT1H
BEGIN:VTIMEZONE
TZID:America/Toronto
BEGIN:DAYLIGHT
TZOFFSETFROM:-0500
TZOFFSETTO:-0400
TZNAME:EDT
DTSTART:20230312T070000
END:DAYLIGHT
BEGIN:STANDARD
TZOFFSETFROM:-0400
TZOFFSETTO:-0500
TZNAME:EST
DTSTART:20231105T060000
END:STANDARD
BEGIN:DAYLIGHT
TZOFFSETFROM:-0500
TZOFFSETTO:-0400
TZNAME:EDT
DTSTART:20240310T070000
END:DAYLIGHT
BEGIN:STANDARD
TZOFFSETFROM:-0400
TZOFFSETTO:-0500
TZNAME:EST
DTSTART:20241103T060000
END:STANDARD
BEGIN:DAYLIGHT
TZOFFSETFROM:-0500
TZOFFSETTO:-0400
TZNAME:EDT
DTSTART:20250309T070000
END:DAYLIGHT
BEGIN:STANDARD
TZOFFSETFROM:-0400
TZOFFSETTO:-0500
TZNAME:EST
DTSTART:20251102T060000
END:STANDARD
END:VTIMEZONE
BEGIN:VEVENT
DTSTART;TZID=America/Toronto:20240607T000000
DTEND;TZID=America/Toronto:20240607T235959
DTSTAMP:20260419T131721
CREATED:20240522T162856Z
LAST-MODIFIED:20240522T162905Z
UID:10009953-1717718400-1717804799@thereview.ca
SUMMARY:Windsor Tavern Live Music
DESCRIPTION:SATURDAY\, MAY 25TERRY GILLESPIE \n\n\n\nSUNDAY\, MAY 26UNCLE GEORGE \n\n\n\nFRIDAY\, MAY 3150 PROOF \n\n\n\nFRIDAY\, JUNE 7STEVE GRAVEL \n\n\n\n1ST WEDNESDAY OF EVERY MONTHOpen mic night – 7 pm startEVERY WEDNESDAY – WING NIGHT \n\n\n\nEVERY FRIDAY! Steak Night $20 pp. tax incl.Reserve ahead: 613-678-2122
URL:https://thereview.ca/event/windsor-tavern-live-music/2024-06-07/
CATEGORIES:Food & Beverage,Music
ATTACH;FMTTYPE=image/jpeg:https://thereview.ca/wp-content/uploads/2024/05/windsor-1.jpg
END:VEVENT
BEGIN:VEVENT
DTSTART;TZID=America/Toronto:20240607T000000
DTEND;TZID=America/Toronto:20240607T235959
DTSTAMP:20260419T131721
CREATED:20240605T174855Z
LAST-MODIFIED:20240605T175250Z
UID:10009981-1717718400-1717804799@thereview.ca
SUMMARY:Music - Steve Gravel
DESCRIPTION:Live music. Steve Gravel. \n\n\n\n$20 Steak Night (per person\, tax included)
URL:https://thereview.ca/event/music-steve-gravel/
LOCATION:The Windsor Tavern\, 84 Main St. E.\, Vankleek Hill\, Ontario\, Canada
CATEGORIES:Food & Beverage,Music
ATTACH;FMTTYPE=image/jpeg:https://thereview.ca/wp-content/uploads/2024/06/Windsor.jpg
GEO:45.5188593;-74.6501262
X-APPLE-STRUCTURED-LOCATION;VALUE=URI;X-ADDRESS=The Windsor Tavern 84 Main St. E. Vankleek Hill Ontario Canada;X-APPLE-RADIUS=500;X-TITLE=84 Main St. E.:geo:-74.6501262,45.5188593
END:VEVENT
BEGIN:VEVENT
DTSTART;TZID=America/Toronto:20240614T000000
DTEND;TZID=America/Toronto:20240614T235959
DTSTAMP:20260419T131721
CREATED:20240605T175233Z
LAST-MODIFIED:20240605T175308Z
UID:10009982-1718323200-1718409599@thereview.ca
SUMMARY:Music - Tamalou
DESCRIPTION:Live Music – Tamalou. \n\n\n\n$20 Steak Night (per person\, tax included)
URL:https://thereview.ca/event/music-tamalou/
LOCATION:The Windsor Tavern\, 84 Main St. E.\, Vankleek Hill\, Ontario\, Canada
CATEGORIES:Food & Beverage,Music
ATTACH;FMTTYPE=image/jpeg:https://thereview.ca/wp-content/uploads/2024/06/Windsor.jpg
GEO:45.5188593;-74.6501262
X-APPLE-STRUCTURED-LOCATION;VALUE=URI;X-ADDRESS=The Windsor Tavern 84 Main St. E. Vankleek Hill Ontario Canada;X-APPLE-RADIUS=500;X-TITLE=84 Main St. E.:geo:-74.6501262,45.5188593
END:VEVENT
BEGIN:VEVENT
DTSTART;TZID=America/Toronto:20240621T000000
DTEND;TZID=America/Toronto:20240621T235959
DTSTAMP:20260419T131721
CREATED:20240605T175438Z
LAST-MODIFIED:20240605T175446Z
UID:10009983-1718928000-1719014399@thereview.ca
SUMMARY:Music - Slo Tom
DESCRIPTION:Live Music – Slo Tom. \n\n\n\n$20 Steak Night (per person\, tax included)
URL:https://thereview.ca/event/music-slo-tom/
LOCATION:The Windsor Tavern\, 84 Main St. E.\, Vankleek Hill\, Ontario\, Canada
CATEGORIES:Food & Beverage,Music
ATTACH;FMTTYPE=image/jpeg:https://thereview.ca/wp-content/uploads/2024/06/Windsor.jpg
GEO:45.5188593;-74.6501262
X-APPLE-STRUCTURED-LOCATION;VALUE=URI;X-ADDRESS=The Windsor Tavern 84 Main St. E. Vankleek Hill Ontario Canada;X-APPLE-RADIUS=500;X-TITLE=84 Main St. E.:geo:-74.6501262,45.5188593
END:VEVENT
BEGIN:VEVENT
DTSTART;TZID=America/Toronto:20240623T000000
DTEND;TZID=America/Toronto:20240623T235959
DTSTAMP:20260419T131721
CREATED:20240605T175638Z
LAST-MODIFIED:20240605T175746Z
UID:10009984-1719100800-1719187199@thereview.ca
SUMMARY:Uncle George & Roger
DESCRIPTION:Live Music – Uncle George & Roger
URL:https://thereview.ca/event/uncle-george-roger/
LOCATION:The Windsor Tavern\, 84 Main St. E.\, Vankleek Hill\, Ontario\, Canada
CATEGORIES:Food & Beverage,Music
ATTACH;FMTTYPE=image/jpeg:https://thereview.ca/wp-content/uploads/2024/06/Windsor.jpg
GEO:45.5188593;-74.6501262
X-APPLE-STRUCTURED-LOCATION;VALUE=URI;X-ADDRESS=The Windsor Tavern 84 Main St. E. Vankleek Hill Ontario Canada;X-APPLE-RADIUS=500;X-TITLE=84 Main St. E.:geo:-74.6501262,45.5188593
END:VEVENT
END:VCALENDAR