BEGIN:VCALENDAR
VERSION:2.0
PRODID:-//The Review Newspaper - ECPv6.15.18//NONSGML v1.0//EN
CALSCALE:GREGORIAN
METHOD:PUBLISH
X-WR-CALNAME:The Review Newspaper
X-ORIGINAL-URL:https://thereview.ca
X-WR-CALDESC:Events for The Review Newspaper
REFRESH-INTERVAL;VALUE=DURATION:PT1H
X-Robots-Tag:noindex
X-PUBLISHED-TTL:PT1H
BEGIN:VTIMEZONE
TZID:America/Toronto
BEGIN:DAYLIGHT
TZOFFSETFROM:-0500
TZOFFSETTO:-0400
TZNAME:EDT
DTSTART:20220313T070000
END:DAYLIGHT
BEGIN:STANDARD
TZOFFSETFROM:-0400
TZOFFSETTO:-0500
TZNAME:EST
DTSTART:20221106T060000
END:STANDARD
BEGIN:DAYLIGHT
TZOFFSETFROM:-0500
TZOFFSETTO:-0400
TZNAME:EDT
DTSTART:20230312T070000
END:DAYLIGHT
BEGIN:STANDARD
TZOFFSETFROM:-0400
TZOFFSETTO:-0500
TZNAME:EST
DTSTART:20231105T060000
END:STANDARD
BEGIN:DAYLIGHT
TZOFFSETFROM:-0500
TZOFFSETTO:-0400
TZNAME:EDT
DTSTART:20240310T070000
END:DAYLIGHT
BEGIN:STANDARD
TZOFFSETFROM:-0400
TZOFFSETTO:-0500
TZNAME:EST
DTSTART:20241103T060000
END:STANDARD
END:VTIMEZONE
BEGIN:VEVENT
DTSTART;TZID=America/Toronto:20230627T190000
DTEND;TZID=America/Toronto:20230627T210000
DTSTAMP:20260420T145406
CREATED:20230614T175830Z
LAST-MODIFIED:20230614T175839Z
UID:10008522-1687892400-1687899600@thereview.ca
SUMMARY:Annual Meeting of Shareholders
DESCRIPTION:This regular annual meeting will consider reports\, approve financial statements\, appoint auditors and elect Directors. \n\n\n\ninfo@hawkesburygolfandcurling.com \n\n\n\n613-632-8506
URL:https://thereview.ca/event/annual-meeting-of-shareholders/
LOCATION:Hawkesbury Golf & Curling Club\, 1150 Golf Club Rd.\, Hawkesbury\, Ontario\, K6A 2R2
CATEGORIES:Local,Meetings
GEO:42.135352;-86.461647
X-APPLE-STRUCTURED-LOCATION;VALUE=URI;X-ADDRESS=Hawkesbury Golf & Curling Club 1150 Golf Club Rd. Hawkesbury Ontario K6A 2R2;X-APPLE-RADIUS=500;X-TITLE=1150 Golf Club Rd.:geo:-86.461647,42.135352
END:VEVENT
END:VCALENDAR