BEGIN:VCALENDAR
VERSION:2.0
PRODID:-//The Review Newspaper - ECPv6.15.18//NONSGML v1.0//EN
CALSCALE:GREGORIAN
METHOD:PUBLISH
X-WR-CALNAME:The Review Newspaper
X-ORIGINAL-URL:https://thereview.ca
X-WR-CALDESC:Events for The Review Newspaper
REFRESH-INTERVAL;VALUE=DURATION:PT1H
X-Robots-Tag:noindex
X-PUBLISHED-TTL:PT1H
BEGIN:VTIMEZONE
TZID:America/Toronto
BEGIN:DAYLIGHT
TZOFFSETFROM:-0500
TZOFFSETTO:-0400
TZNAME:EDT
DTSTART:20180311T070000
END:DAYLIGHT
BEGIN:STANDARD
TZOFFSETFROM:-0400
TZOFFSETTO:-0500
TZNAME:EST
DTSTART:20181104T060000
END:STANDARD
BEGIN:DAYLIGHT
TZOFFSETFROM:-0500
TZOFFSETTO:-0400
TZNAME:EDT
DTSTART:20190310T070000
END:DAYLIGHT
BEGIN:STANDARD
TZOFFSETFROM:-0400
TZOFFSETTO:-0500
TZNAME:EST
DTSTART:20191103T060000
END:STANDARD
BEGIN:DAYLIGHT
TZOFFSETFROM:-0500
TZOFFSETTO:-0400
TZNAME:EDT
DTSTART:20200308T070000
END:DAYLIGHT
BEGIN:STANDARD
TZOFFSETFROM:-0400
TZOFFSETTO:-0500
TZNAME:EST
DTSTART:20201101T060000
END:STANDARD
END:VTIMEZONE
BEGIN:VEVENT
DTSTART;TZID=America/Toronto:20190408T193000
DTEND;TZID=America/Toronto:20190408T210000
DTSTAMP:20260423T125631
CREATED:20190327T140638Z
LAST-MODIFIED:20190327T155646Z
UID:10007091-1554751800-1554757200@thereview.ca
SUMMARY:Annual General Meeting
DESCRIPTION:Vankleek Hill & District Historical Society\nAnnual General Meeting \nMusée Vankleek Hill Museum\n95 Main Street East\nVankleek Hill ON K0B 1R0\ninfo@vankleek.ca 613-678-2323\nfb: Vankleek Hill Museum\nBoard: J. Denis Seguin Architect President; Harvey LeRoy Vice-President;\nNaomi Mahon\, Secretary\nDirectors: Gary Barton\, Mary Fraser\,\nDebbie Hall\, Norm MacCrimmon.\nAgenda includes\nelection of officers by members.\nMembership:\n$15 Individual $25 Family $50 Business
URL:https://thereview.ca/event/annual-general-meeting-2/
LOCATION:Vankleek Hill Museum\, 95 Main St. E.\, Vankleek Hill\, ON
CATEGORIES:Local,Meetings
ATTACH;FMTTYPE=image/jpeg:https://thereview.ca/wp-content/uploads/2018/03/meeting.jpg
GEO:45.5190272;-74.6492899
X-APPLE-STRUCTURED-LOCATION;VALUE=URI;X-ADDRESS=Vankleek Hill Museum 95 Main St. E. Vankleek Hill ON;X-APPLE-RADIUS=500;X-TITLE=95 Main St. E.:geo:-74.6492899,45.5190272
END:VEVENT
BEGIN:VEVENT
DTSTART;TZID=America/Toronto:20190412T180000
DTEND;TZID=America/Toronto:20190412T200000
DTSTAMP:20260423T125631
CREATED:20190403T142736Z
LAST-MODIFIED:20190403T142736Z
UID:10007758-1555092000-1555099200@thereview.ca
SUMMARY:Potluck
DESCRIPTION:The Glengarry Pioneer Museum is having its Annual General Meeting and Potluck this Friday at 6pm.
URL:https://thereview.ca/event/potluck/
LOCATION:Glengarry Pioneer Museum\, 1645 County Rd 30\, Dunvegan\, Ontario\, K0C 1J0\, Canada
CATEGORIES:Food & Beverage,Local,Meetings
ATTACH;FMTTYPE=image/jpeg:https://thereview.ca/wp-content/uploads/2018/10/buffet-1.jpg
GEO:45.363552;-74.8200683
X-APPLE-STRUCTURED-LOCATION;VALUE=URI;X-ADDRESS=Glengarry Pioneer Museum 1645 County Rd 30 Dunvegan Ontario K0C 1J0 Canada;X-APPLE-RADIUS=500;X-TITLE=1645 County Rd 30:geo:-74.8200683,45.363552
END:VEVENT
BEGIN:VEVENT
DTSTART;TZID=America/Toronto:20190415T190000
DTEND;TZID=America/Toronto:20190415T210000
DTSTAMP:20260423T125631
CREATED:20190410T145210Z
LAST-MODIFIED:20190410T145210Z
UID:10007195-1555354800-1555362000@thereview.ca
SUMMARY:Nature Talk
DESCRIPTION:Vankleek Hill and District Nature Society\nMonday\, April 15\, 2019 – 7 pm\n5814 Highway 34\,\nVankleek Hill Collegiate Library\nStephen Hazell\, Nature Canada\nDirector of Policy and General Counsel\nNature-Based Solutions to Climate Change:\nA Double Win-Win\n“Lean In and Lead the Way”\nAll welcome. $1\nwww.vankleekhillnaturesociety.org
URL:https://thereview.ca/event/nature-talk/
LOCATION:Vankleek Hill Collegiate Institute\, 5814\, 34 Hwy\, Vankleek Hill\, Vankleek Hill\, K0B 1R0\, Canada
CATEGORIES:Environment,Local,Meetings
ATTACH;FMTTYPE=image/jpeg:https://thereview.ca/wp-content/uploads/2017/05/vankleekhillnature.jpg
GEO:45.5225422;-74.652243
X-APPLE-STRUCTURED-LOCATION;VALUE=URI;X-ADDRESS=Vankleek Hill Collegiate Institute 5814 34 Hwy Vankleek Hill Vankleek Hill K0B 1R0 Canada;X-APPLE-RADIUS=500;X-TITLE=5814\, 34 Hwy:geo:-74.652243,45.5225422
END:VEVENT
BEGIN:VEVENT
DTSTART;TZID=America/Toronto:20190418T180000
DTEND;TZID=America/Toronto:20190418T200000
DTSTAMP:20260423T125631
CREATED:20190410T145735Z
LAST-MODIFIED:20190410T145735Z
UID:10007203-1555610400-1555617600@thereview.ca
SUMMARY:Potluck dinner
DESCRIPTION:Vankleek Hill & District\nHorticultural Society\nSpring potluck dinner on\nThursday April 18\,6:00 pm\nGuest speaker: Louise Sproule\n“Bring a dish and a friend”\nVankleek Hill Community Centre\,\nMill St. Vankleek Hill\nStudents wishing to fulfill their\nvolunteer hours with us may call\nMrs. Higginson at 613-678-2967\nVkhhorticultural.ca Or find us on Facebook
URL:https://thereview.ca/event/potluck-dinner-2/
LOCATION:Vankleek Hill Community Centre\, 36 Mill St.\, Vankleek Hill\, Ontario\, K0B 1R0\, Canada
CATEGORIES:Arts & Culture,Environment,Local,Meetings
ATTACH;FMTTYPE=image/jpeg:https://thereview.ca/wp-content/uploads/2018/10/potluck.jpg
GEO:45.5169974;-74.6524697
X-APPLE-STRUCTURED-LOCATION;VALUE=URI;X-ADDRESS=Vankleek Hill Community Centre 36 Mill St. Vankleek Hill Ontario K0B 1R0 Canada;X-APPLE-RADIUS=500;X-TITLE=36 Mill St.:geo:-74.6524697,45.5169974
END:VEVENT
END:VCALENDAR