BEGIN:VCALENDAR
VERSION:2.0
PRODID:-//The Review Newspaper - ECPv6.15.18//NONSGML v1.0//EN
CALSCALE:GREGORIAN
METHOD:PUBLISH
X-ORIGINAL-URL:https://thereview.ca
X-WR-CALDESC:Events for The Review Newspaper
REFRESH-INTERVAL;VALUE=DURATION:PT1H
X-Robots-Tag:noindex
X-PUBLISHED-TTL:PT1H
BEGIN:VTIMEZONE
TZID:America/Toronto
BEGIN:DAYLIGHT
TZOFFSETFROM:-0500
TZOFFSETTO:-0400
TZNAME:EDT
DTSTART:20180311T070000
END:DAYLIGHT
BEGIN:STANDARD
TZOFFSETFROM:-0400
TZOFFSETTO:-0500
TZNAME:EST
DTSTART:20181104T060000
END:STANDARD
BEGIN:DAYLIGHT
TZOFFSETFROM:-0500
TZOFFSETTO:-0400
TZNAME:EDT
DTSTART:20190310T070000
END:DAYLIGHT
BEGIN:STANDARD
TZOFFSETFROM:-0400
TZOFFSETTO:-0500
TZNAME:EST
DTSTART:20191103T060000
END:STANDARD
BEGIN:DAYLIGHT
TZOFFSETFROM:-0500
TZOFFSETTO:-0400
TZNAME:EDT
DTSTART:20200308T070000
END:DAYLIGHT
BEGIN:STANDARD
TZOFFSETFROM:-0400
TZOFFSETTO:-0500
TZNAME:EST
DTSTART:20201101T060000
END:STANDARD
END:VTIMEZONE
BEGIN:VEVENT
DTSTART;TZID=America/Toronto:20190318T190000
DTEND;TZID=America/Toronto:20190318T210000
DTSTAMP:20260422T111451
CREATED:20190313T142444Z
LAST-MODIFIED:20190313T142444Z
UID:10007033-1552935600-1552942800@thereview.ca
SUMMARY:Speaker: Elaine Kennedy
DESCRIPTION:Vankleek Hill and District Nature Society\nMonday\, March 18\, 2019 – 7 pm\n5814 Highway 34\, Vankleek Hill Collegiate\nJoin us for a visit to the Galapagos Islands\nplus Machu Picchu with\nan adventurer and naturalist.\nSpeaker: Elaine Kennedy of Cornwall\nLearn of our season plans for the environment.\nAll welcome. Social time – $1\nwww.vankleekhillnaturesociety.org
URL:https://thereview.ca/event/speaker-elaine-kennedy/
LOCATION:Vankleek Hill Collegiate Institute\, 5814\, 34 Hwy\, Vankleek Hill\, Vankleek Hill\, K0B 1R0\, Canada
CATEGORIES:Environment,Local,Meetings
ATTACH;FMTTYPE=image/jpeg:https://thereview.ca/wp-content/uploads/2019/03/beach.jpg
GEO:45.5225422;-74.652243
X-APPLE-STRUCTURED-LOCATION;VALUE=URI;X-ADDRESS=Vankleek Hill Collegiate Institute 5814 34 Hwy Vankleek Hill Vankleek Hill K0B 1R0 Canada;X-APPLE-RADIUS=500;X-TITLE=5814\, 34 Hwy:geo:-74.652243,45.5225422
END:VEVENT
BEGIN:VEVENT
DTSTART;TZID=America/Toronto:20190321T023000
DTEND;TZID=America/Toronto:20190321T190000
DTSTAMP:20260422T111451
CREATED:20190308T141220Z
LAST-MODIFIED:20190308T141220Z
UID:10007140-1553135400-1553194800@thereview.ca
SUMMARY:Parent/Teacher Night
DESCRIPTION:Upper Canada District School Board\nVANKLEEK HILL COLLEGIATE INSTITUTE\nPreliminary Progress Reports\ndistributed Thursday\, March 7th\, 2019\n~\nParent / Teacher Night\nThursday\, March 21\, 2019\n2:30 to 4:00 and 5:00 to 7:00 p.m.\nTeachers will be available in the Cafetorium.\nFirst Come Basis \nTrevor Wheeler\nPrincipal
URL:https://thereview.ca/event/parent-teacher-night/
LOCATION:Vankleek Hill Collegiate Institute\, 5814\, 34 Hwy\, Vankleek Hill\, Vankleek Hill\, K0B 1R0\, Canada
CATEGORIES:Local,Meetings
ATTACH;FMTTYPE=image/jpeg:https://thereview.ca/wp-content/uploads/2019/03/teacher.jpg
GEO:45.5225422;-74.652243
X-APPLE-STRUCTURED-LOCATION;VALUE=URI;X-ADDRESS=Vankleek Hill Collegiate Institute 5814 34 Hwy Vankleek Hill Vankleek Hill K0B 1R0 Canada;X-APPLE-RADIUS=500;X-TITLE=5814\, 34 Hwy:geo:-74.652243,45.5225422
END:VEVENT
BEGIN:VEVENT
DTSTART;TZID=America/Toronto:20190321T190000
DTEND;TZID=America/Toronto:20190321T210000
DTSTAMP:20260422T111451
CREATED:20190313T150527Z
LAST-MODIFIED:20190313T150527Z
UID:10007037-1553194800-1553202000@thereview.ca
SUMMARY:Meeting on making apple cider
DESCRIPTION:Vankleek Hill & District Horticultural Society \nJeff Turner will speak on making apple cider\nThursday March 21\, 7:00 pm \nVankleek Hill Community Centre\,\nMill St. Vankleek Hill \nYearbooks and memberships\nwill be available.\nAlso registration for April 13\nDistrict meeting is due for $25 \nwww.vkhhorticultural.ca
URL:https://thereview.ca/event/meeting-on-making-apple-cider/
LOCATION:Vankleek Hill Community Centre\, 36 Mill St.\, Vankleek Hill\, Ontario\, K0B 1R0\, Canada
CATEGORIES:Food & Beverage,Local,Meetings
ATTACH;FMTTYPE=image/jpeg:https://thereview.ca/wp-content/uploads/2019/03/apples.jpg
GEO:45.5169974;-74.6524697
X-APPLE-STRUCTURED-LOCATION;VALUE=URI;X-ADDRESS=Vankleek Hill Community Centre 36 Mill St. Vankleek Hill Ontario K0B 1R0 Canada;X-APPLE-RADIUS=500;X-TITLE=36 Mill St.:geo:-74.6524697,45.5169974
END:VEVENT
END:VCALENDAR