BEGIN:VCALENDAR
VERSION:2.0
PRODID:-//The Review Newspaper - ECPv6.15.18//NONSGML v1.0//EN
CALSCALE:GREGORIAN
METHOD:PUBLISH
X-WR-CALNAME:The Review Newspaper
X-ORIGINAL-URL:https://thereview.ca
X-WR-CALDESC:Events for The Review Newspaper
REFRESH-INTERVAL;VALUE=DURATION:PT1H
X-Robots-Tag:noindex
X-PUBLISHED-TTL:PT1H
BEGIN:VTIMEZONE
TZID:America/Toronto
BEGIN:DAYLIGHT
TZOFFSETFROM:-0500
TZOFFSETTO:-0400
TZNAME:EDT
DTSTART:20250309T070000
END:DAYLIGHT
BEGIN:STANDARD
TZOFFSETFROM:-0400
TZOFFSETTO:-0500
TZNAME:EST
DTSTART:20251102T060000
END:STANDARD
BEGIN:DAYLIGHT
TZOFFSETFROM:-0500
TZOFFSETTO:-0400
TZNAME:EDT
DTSTART:20260308T070000
END:DAYLIGHT
BEGIN:STANDARD
TZOFFSETFROM:-0400
TZOFFSETTO:-0500
TZNAME:EST
DTSTART:20261101T060000
END:STANDARD
BEGIN:DAYLIGHT
TZOFFSETFROM:-0500
TZOFFSETTO:-0400
TZNAME:EDT
DTSTART:20270314T070000
END:DAYLIGHT
BEGIN:STANDARD
TZOFFSETFROM:-0400
TZOFFSETTO:-0500
TZNAME:EST
DTSTART:20271107T060000
END:STANDARD
END:VTIMEZONE
BEGIN:VEVENT
DTSTART;TZID=America/Toronto:20260314T110000
DTEND;TZID=America/Toronto:20260314T130000
DTSTAMP:20260423T193116
CREATED:20260309T160618Z
LAST-MODIFIED:20260309T160618Z
UID:10029318-1773486000-1773493200@thereview.ca
SUMMARY:St. Patrick’s Soup & Sandwich Luncheon
DESCRIPTION:Hosted by Holy Trinity Church Calumet. Located at the Paul Bougie Centre\, next door to Downing Drilling.\nAdults $15; Children 12 and under Free\nEverybody welcome.
URL:https://thereview.ca/event/st-patricks-soup-sandwich-luncheon-2/
LOCATION:Paul Bougie Centre\, 414 rue principale\, Calumet\, Canada
CATEGORIES:Food & Beverage
ATTACH;FMTTYPE=image/jpeg:https://s3.us-east-2.amazonaws.com/thereview.ca/wp-content/uploads/2026/03/09120458/Holy-Trinity-events-fb.jpg
GEO:45.6490289;-74.6355475
X-APPLE-STRUCTURED-LOCATION;VALUE=URI;X-ADDRESS=Paul Bougie Centre 414 rue principale Calumet Canada;X-APPLE-RADIUS=500;X-TITLE=414 rue principale:geo:-74.6355475,45.6490289
END:VEVENT
BEGIN:VEVENT
DTSTART;TZID=America/Toronto:20260319T080000
DTEND;TZID=America/Toronto:20260319T170000
DTSTAMP:20260423T193116
CREATED:20260309T163815Z
LAST-MODIFIED:20260317T144101Z
UID:10029319-1773907200-1773939600@thereview.ca
SUMMARY:Speaker Series - Engaging with Kenyan & Senegalese Culture & Lived Experiences
DESCRIPTION:Speaker Series – Engaging with Kenyan & Senegalese Culture & Lived Experience\, with guest speakers Brian Cornelius & Trudy Samuel\nGenesis Speaker Series #4\n5:30 pm – 6:30 pm: Presentation\n6:30 pm – 7:00 pm: Light African Meal\n7:00 pm – 8 pm: Question & Answers Period \nPLEASE REGISTER BY CONTACTING THE GENESIS OFFICE\n613-675-4487 | genesiscc@bellnet.ca\nFree will offering at the door \nAn outreach event by the Genesis Cooperative Community of the United Church of Canada
URL:https://thereview.ca/event/speaker-series-engaging-with-kenyan-senegalese-culture-lived-experiences/
LOCATION:Trinity United Church\, 50 High Street\, Vankleek Hill\, ON\, Canada
CATEGORIES:Food & Beverage,Meetings
ATTACH;FMTTYPE=image/jpeg:https://s3.us-east-2.amazonaws.com/thereview.ca/wp-content/uploads/2026/03/09123708/Genesis-events-fb.jpg
GEO:45.5181986;-74.6536609
X-APPLE-STRUCTURED-LOCATION;VALUE=URI;X-ADDRESS=Trinity United Church 50 High Street Vankleek Hill ON Canada;X-APPLE-RADIUS=500;X-TITLE=50 High Street:geo:-74.6536609,45.5181986
END:VEVENT
END:VCALENDAR