BEGIN:VCALENDAR
VERSION:2.0
PRODID:-//The Review Newspaper - ECPv6.15.18//NONSGML v1.0//EN
CALSCALE:GREGORIAN
METHOD:PUBLISH
X-ORIGINAL-URL:https://thereview.ca
X-WR-CALDESC:Events for The Review Newspaper
REFRESH-INTERVAL;VALUE=DURATION:PT1H
X-Robots-Tag:noindex
X-PUBLISHED-TTL:PT1H
BEGIN:VTIMEZONE
TZID:UTC
BEGIN:STANDARD
TZOFFSETFROM:+0000
TZOFFSETTO:+0000
TZNAME:UTC
DTSTART:20210101T000000
END:STANDARD
END:VTIMEZONE
BEGIN:VEVENT
DTSTART;TZID=UTC:20220922T163000
DTEND;TZID=UTC:20220922T180000
DTSTAMP:20260425T215833
CREATED:20220916T170245Z
LAST-MODIFIED:20220916T170712Z
UID:10007828-1663864200-1663869600@thereview.ca
SUMMARY:Drive-Thru Fundraiser for Joey Desjardins
DESCRIPTION:Chicken\, potato wedges\, coleslaw\, BBQ sauce\, bun\, dessert. \n$20 per person. $60 per family. \n4:30 p.m. to 5 p.m.\, Saturday\, September 22\, 2022. \n 
URL:https://thereview.ca/event/drive-thru-fundraiser-for-joey-desjardins/
LOCATION:La Cite Golf Club\, 850 McGill Street\, Hawkesbury\, Ontario\, Canada
CATEGORIES:Food & Beverage
ATTACH;FMTTYPE=image/jpeg:https://thereview.ca/wp-content/uploads/2022/09/1-online-Joey-Desjardins-Jean-Baptiste-Benavent-1.jpg
GEO:45.6017771;-74.6235159
X-APPLE-STRUCTURED-LOCATION;VALUE=URI;X-ADDRESS=La Cite Golf Club 850 McGill Street Hawkesbury Ontario Canada;X-APPLE-RADIUS=500;X-TITLE=850 McGill Street:geo:-74.6235159,45.6017771
END:VEVENT
END:VCALENDAR