BEGIN:VCALENDAR
VERSION:2.0
PRODID:-//The Review Newspaper - ECPv6.15.18//NONSGML v1.0//EN
CALSCALE:GREGORIAN
METHOD:PUBLISH
X-WR-CALNAME:The Review Newspaper
X-ORIGINAL-URL:https://thereview.ca
X-WR-CALDESC:Events for The Review Newspaper
REFRESH-INTERVAL;VALUE=DURATION:PT1H
X-Robots-Tag:noindex
X-PUBLISHED-TTL:PT1H
BEGIN:VTIMEZONE
TZID:America/Toronto
BEGIN:DAYLIGHT
TZOFFSETFROM:-0500
TZOFFSETTO:-0400
TZNAME:EDT
DTSTART:20180311T070000
END:DAYLIGHT
BEGIN:STANDARD
TZOFFSETFROM:-0400
TZOFFSETTO:-0500
TZNAME:EST
DTSTART:20181104T060000
END:STANDARD
BEGIN:DAYLIGHT
TZOFFSETFROM:-0500
TZOFFSETTO:-0400
TZNAME:EDT
DTSTART:20190310T070000
END:DAYLIGHT
BEGIN:STANDARD
TZOFFSETFROM:-0400
TZOFFSETTO:-0500
TZNAME:EST
DTSTART:20191103T060000
END:STANDARD
BEGIN:DAYLIGHT
TZOFFSETFROM:-0500
TZOFFSETTO:-0400
TZNAME:EDT
DTSTART:20200308T070000
END:DAYLIGHT
BEGIN:STANDARD
TZOFFSETFROM:-0400
TZOFFSETTO:-0500
TZNAME:EST
DTSTART:20201101T060000
END:STANDARD
END:VTIMEZONE
BEGIN:VEVENT
DTSTART;TZID=America/Toronto:20191106T130000
DTEND;TZID=America/Toronto:20191215T160000
DTSTAMP:20260419T082642
CREATED:20191108T181917Z
LAST-MODIFIED:20191108T181917Z
UID:10008204-1573045200-1576425600@thereview.ca
SUMMARY:All Creatures Great and Small
DESCRIPTION:Arbor Gallery Cultural Centre\nJane Macmillan:\nAll Creatures Great and Small\nSolo exhibition featuring the works of Jane Macmillan. Jane is inspired by\, and greatly attracted to\, the natural creation around her and this inspiration moves her to create stunning works of art.\nExhibition:\nNovember 6th – December 15th. \nVernissage:\nNovember 17th from 1-3 pm.\nMore details can always be found at\nhttp://arborgallery.org or\nhttp://arborgallery.org/event/\njane-macmillan-all-creatures-great-and-small/\n36 Home Avenue\, Vankleek Hill
URL:https://thereview.ca/event/all-creatures-great-and-small/
LOCATION:Arbor Gallery Cultural Centre\, 36 Home Ave\, Vankleek Hill\, Ontario\, K0B 1R0\, Canada
CATEGORIES:Arts & Culture,Craft & Bake Tables,Food & Beverage,Local
ATTACH;FMTTYPE=image/jpeg:https://thereview.ca/wp-content/uploads/2019/11/BoureeReleveEchappeBrise.jpg
GEO:45.520225;-74.6495046
X-APPLE-STRUCTURED-LOCATION;VALUE=URI;X-ADDRESS=Arbor Gallery Cultural Centre 36 Home Ave Vankleek Hill Ontario K0B 1R0 Canada;X-APPLE-RADIUS=500;X-TITLE=36 Home Ave:geo:-74.6495046,45.520225
END:VEVENT
BEGIN:VEVENT
DTSTART;TZID=America/Toronto:20191207T133000
DTEND;TZID=America/Toronto:20191207T153000
DTSTAMP:20260419T082642
CREATED:20191127T153009Z
LAST-MODIFIED:20191127T153009Z
UID:10007491-1575725400-1575732600@thereview.ca
SUMMARY:Holly Tea
DESCRIPTION:Holy Trinity Church\, Calumet \nHOLLY TEA\nSat.\, December 7\n1:30 – 3:30 p.m.\nPaul Bougie Centre\n414 Principale\nAdults: $8\nBake table\, crafts\,\nused books.\nEveryone Welcome.
URL:https://thereview.ca/event/holly-tea-2/
LOCATION:Paul Bougie Centre\, 414 rue principale\, Calumet\, Canada
CATEGORIES:Food & Beverage,Local
ATTACH;FMTTYPE=image/jpeg:https://thereview.ca/wp-content/uploads/2018/07/Tea.jpg
GEO:45.6490289;-74.6355475
X-APPLE-STRUCTURED-LOCATION;VALUE=URI;X-ADDRESS=Paul Bougie Centre 414 rue principale Calumet Canada;X-APPLE-RADIUS=500;X-TITLE=414 rue principale:geo:-74.6355475,45.6490289
END:VEVENT
BEGIN:VEVENT
DTSTART;TZID=America/Toronto:20191212T180000
DTEND;TZID=America/Toronto:20191212T200000
DTSTAMP:20260419T082642
CREATED:20191204T145713Z
LAST-MODIFIED:20191204T145713Z
UID:10007439-1576173600-1576180800@thereview.ca
SUMMARY:Christmas Dinner
DESCRIPTION:CHRISTMAS DINNER\nCLUB DU REVEIL\n122\, Bond Street\, Vankleek Hill\nThursday\,\nDecember 12\, 2019\n6:00 p.m.\nMusic by Louis Seguin\nPlease reserve by Dec. 10:\nRita\, 613-678-3347
URL:https://thereview.ca/event/christmas-dinner/
LOCATION:Club du Reveil\, 122 Bond St.\, Vankleek Hill
CATEGORIES:Food & Beverage,Local,Music
GEO:45.519346;-74.647177
X-APPLE-STRUCTURED-LOCATION;VALUE=URI;X-ADDRESS=Club du Reveil 122 Bond St. Vankleek Hill;X-APPLE-RADIUS=500;X-TITLE=122 Bond St.:geo:-74.647177,45.519346
END:VEVENT
BEGIN:VEVENT
DTSTART;TZID=America/Toronto:20191228T120000
DTEND;TZID=America/Toronto:20191228T140000
DTSTAMP:20260419T082642
CREATED:20191218T154608Z
LAST-MODIFIED:20191218T154608Z
UID:10007482-1577534400-1577541600@thereview.ca
SUMMARY:Food and Fellowship
DESCRIPTION:Why be alone?\nYou are invited to come and\nenjoy good food and fellowship.\nKnox Church invites those who\nmay be alone at this time of year\,\nto come and enjoy a traditional\nChristmas dinner and fellowship.\nSaturday\,\nDecember 28\, 2019\n12 noon\nat the Archie Hardy Hall\,\nKnox Presbyterian Church.\nNote: There is no cost\, but please\nregister ahead of time by calling Robin at 613-676-0443.\nPeople of all ages are welcome.
URL:https://thereview.ca/event/food-and-fellowship-2/
LOCATION:Archie Hardy Hall\, 29 High Street\, Vankleek Hill
CATEGORIES:Food & Beverage,Local
ATTACH;FMTTYPE=image/jpeg:https://thereview.ca/wp-content/uploads/2018/11/Christmas-tea.jpg
GEO:45.518918;-74.6528014
X-APPLE-STRUCTURED-LOCATION;VALUE=URI;X-ADDRESS=Archie Hardy Hall 29 High Street Vankleek Hill;X-APPLE-RADIUS=500;X-TITLE=29 High Street:geo:-74.6528014,45.518918
END:VEVENT
BEGIN:VEVENT
DTSTART;TZID=America/Toronto:20191228T120000
DTEND;TZID=America/Toronto:20191228T143000
DTSTAMP:20260419T082642
CREATED:20191212T205439Z
LAST-MODIFIED:20191212T205439Z
UID:10007475-1577534400-1577543400@thereview.ca
SUMMARY:Food and Fellowship
DESCRIPTION:Why be alone?\nYou are invited to come and\nenjoy good food and fellowship.\nKnox Church invites those who\nmay be alone at this time of year\,\nto come and enjoy a traditional\nChristmas dinner and fellowship.\nSaturday\,\nDecember 28\, 2019\n12 noon\nat the Archie Hardy Hall\,\nKnox Presbyterian Church.\nNote: There is no cost\, but please\nregister ahead of time by calling Robin at 613-676-0443.\nPeople of all ages are welcome.
URL:https://thereview.ca/event/food-and-fellowship/
LOCATION:Archie Hardy Hall\, 29 High Street\, Vankleek Hill
CATEGORIES:Food & Beverage,Local,Wellness
ATTACH;FMTTYPE=image/jpeg:https://thereview.ca/wp-content/uploads/2018/11/Christmas-tea.jpg
GEO:45.518918;-74.6528014
X-APPLE-STRUCTURED-LOCATION;VALUE=URI;X-ADDRESS=Archie Hardy Hall 29 High Street Vankleek Hill;X-APPLE-RADIUS=500;X-TITLE=29 High Street:geo:-74.6528014,45.518918
END:VEVENT
END:VCALENDAR