BEGIN:VCALENDAR
VERSION:2.0
PRODID:-//The Review Newspaper - ECPv6.15.18//NONSGML v1.0//EN
CALSCALE:GREGORIAN
METHOD:PUBLISH
X-WR-CALNAME:The Review Newspaper
X-ORIGINAL-URL:https://thereview.ca
X-WR-CALDESC:Events for The Review Newspaper
REFRESH-INTERVAL;VALUE=DURATION:PT1H
X-Robots-Tag:noindex
X-PUBLISHED-TTL:PT1H
BEGIN:VTIMEZONE
TZID:UTC
BEGIN:STANDARD
TZOFFSETFROM:+0000
TZOFFSETTO:+0000
TZNAME:UTC
DTSTART:20220101T000000
END:STANDARD
END:VTIMEZONE
BEGIN:VEVENT
DTSTART;TZID=UTC:20230817T080000
DTEND;TZID=UTC:20230820T170000
DTSTAMP:20260419T181341
CREATED:20230126T184430Z
LAST-MODIFIED:20230126T184440Z
UID:10008105-1692259200-1692550800@thereview.ca
SUMMARY:The 179th Vankleek Hill Fair
DESCRIPTION:Details to follow soon!
URL:https://thereview.ca/event/the-179th-vankleek-hill-fair/
LOCATION:Vankleek Hill Fairgrounds\, Vankleek Hill\, Ontario
CATEGORIES:Fairs & Festivals,Local
ATTACH;FMTTYPE=image/jpeg:https://thereview.ca/wp-content/uploads/2022/08/JM_AU2422_VKHFair6HorseHitch03-online.jpg
GEO:43.2562663;-79.8733037
END:VEVENT
END:VCALENDAR