BEGIN:VCALENDAR
VERSION:2.0
PRODID:-//The Review Newspaper - ECPv6.15.18//NONSGML v1.0//EN
CALSCALE:GREGORIAN
METHOD:PUBLISH
X-WR-CALNAME:The Review Newspaper
X-ORIGINAL-URL:https://thereview.ca
X-WR-CALDESC:Events for The Review Newspaper
REFRESH-INTERVAL;VALUE=DURATION:PT1H
X-Robots-Tag:noindex
X-PUBLISHED-TTL:PT1H
BEGIN:VTIMEZONE
TZID:America/Toronto
BEGIN:DAYLIGHT
TZOFFSETFROM:-0500
TZOFFSETTO:-0400
TZNAME:EDT
DTSTART:20180311T070000
END:DAYLIGHT
BEGIN:STANDARD
TZOFFSETFROM:-0400
TZOFFSETTO:-0500
TZNAME:EST
DTSTART:20181104T060000
END:STANDARD
BEGIN:DAYLIGHT
TZOFFSETFROM:-0500
TZOFFSETTO:-0400
TZNAME:EDT
DTSTART:20190310T070000
END:DAYLIGHT
BEGIN:STANDARD
TZOFFSETFROM:-0400
TZOFFSETTO:-0500
TZNAME:EST
DTSTART:20191103T060000
END:STANDARD
BEGIN:DAYLIGHT
TZOFFSETFROM:-0500
TZOFFSETTO:-0400
TZNAME:EDT
DTSTART:20200308T070000
END:DAYLIGHT
BEGIN:STANDARD
TZOFFSETFROM:-0400
TZOFFSETTO:-0500
TZNAME:EST
DTSTART:20201101T060000
END:STANDARD
END:VTIMEZONE
BEGIN:VEVENT
DTSTART;VALUE=DATE:20190830
DTEND;VALUE=DATE:20190903
DTSTAMP:20260423T202249
CREATED:20190828T162345Z
LAST-MODIFIED:20190828T162345Z
UID:10007318-1567123200-1567468799@thereview.ca
SUMMARY:Stormont County Fair
DESCRIPTION:STORMONT COUNTY FAIR \nNEWINGTON\, ON \nCELEBRATING 152 YEARS \nTHURSDAY\, AUGUST 29\n7-9 pm: 4-H Entries\n7 pm: Modified / 3-Pitch Tournament (if needed)\nFRIDAY\, AUGUST 30\n8:30-11:30 am: Exhibit Hall Entries -Stormont Hall\n3 pm-Close: Midway by Family Time Amusements\n3-6 pm: Entertainment – Grandstand\n6 pm – Midnight: Dugout Open – Stormont Dome\n7 pm: Demolition Derby\n7 pm: Modified / 3Pitch Tournament (if needed)\n9 pm-Midnight: Entertainment by MDJ – Dugout \nSATURDAY\, AUGUST 31\nALL DAY Agricultural Machinery – East of Cattle Barn\n9 am-5 pm: Stormont Hall (Exhibits) Open\n9 am-12:30 pm\, 1:30-5 pm: Hospitality – Silver Peaks\n9 am-12:30 pm\, 1:30-5 pm: Ag. Display / Education\n– Silver Peaks\n9 am: Modified / 3 Pitch Tournament\n10 am-5 pm: Petting Zoo/Pony Rides – South of South Ring\n10 am-6 pm: Kinder Corner – Pavilion\n10:30 am: Heavy Horse Show – Horil Ring\nHolstein Show – Cattle Ring\n11 am-11 pm: Dugout -MDJ\n11 am-Close: Midway by Family Time Amusements\n11 am-4 pm: Face Painting/Hair/Tattoo – Pavilion\n11 am\, 2 and 4 pm: The Pizazz Magic Show – Pavilion\n11 am-4 pm: Classic Auto Show – South of Grandstand\n11:30 am: Children’s Cattle Class – Cattle Ring\n11:45 am: Parade Assembles at the east parking lot\nPARADE tours Newington “It’s a Family Tradition”\n12 -1 pm: Parade Pre-Show – Grandstand\n12:30 pm: Jersey/ Ayrshire Show – Cattle Ring\n1 pm: Parade viewing/ announcing – Grandstand\n1 pm: Opening Ceremonies – Grandstand\nGuy Lauzon – Retiring MP SD & South Glengarry\n1:30 pm: BINGO – Silver Peaks\n2 pm: SEAWAY Power Wheels Derby – South Ring\n2 pm: The Pizazz Magic Show – Pavilion\n2-5 pm: Spinning and Knitting Demo – Stormont Hall\n2-5 pm: Whiskey Shot – Grandstand\n3 pm: Krazy Dan’s Hot Pickled Weiner Eating Contest – Dugout\n3 pm: McElheran Remote Control Racing· Grandstand\n4 pm: Dog Mutt Show – South Ring\n4 pm: The Pizazz Magic Show – Pavilion\n4:30 pm: Seaway Power Wheels NASCAR Racing – South Ring\n6 pm: ATV Pull – Track Area \nSUNDAY\, SEPTEMBER 1\nAll Day: Agricultural Machinery – East of Cattle Barn\n8 am: Modified / 3-Pitch Tourney\n9 am: Western-English Horse Show – Horil Ring\n9 am-5 pm: Heritage Livestock Club EO Display – Ag Building\n9:30 am: Interdenominational Church Service –\nStormont Dome\n10 am-5 pm: Stormont Hall (Exhibits) Open\n10 am-5 pm: Petting Zoo/ Pony Rides – S. of South Ring\n11 am-4 pm: Face Painting/Hair/Tattoo – South Ring\n11 am-4 pm: Kidzown – Pavilion/South Ring\n11 am- 4 pm: Trapper Ron – South Ring\n11 am-5 pm: Spinning/Knitting Demo – Stormont Hall\n11 am-5 pm: Hospitality Open – Silver Peaks\n11 am-5 pm: Ag. Display /Education – Silver Peaks\n11 am-6 pm: Kinder Corner – Pavilion\n11 am-Close: Midway by Family Time Amusements Show\n11:30 am: The Pizazz Magic Show – Pavilion\n11:30 am-1:30 pm: Perkins RONA Children’s Workshop\nLimited to 50\, 1st come\, 1st served – South Ring\n11:30 am: 4-H Beef Achievement Day – Cattle Ring\nNoon: Baby Contest (Register 11 am) – Stormont Dome\nAntique Farm Machinery Display – South Ring\nNoon-6 pm: Broadaxe Demo – John Foreman – South Ring\n1-11 pm: Dugout Open with MDJ – Stormont Dome\n1 and 4 pm: Junkyard Symphony – Pavillion\n1 pm: Wrestling ”Big Time Pro Wrestling” – Grandstand\n1-2:30 pm: Crafts & Treasure Hunt\n(parent & child\, 6 yrs. and under) – South Ring\n1 pm: Hereford & Simmental\, Angus\, Other Breeds/\nCrossbreed Shows – Cattle Ring\n1:30 pm: BINGO – Silver Peaks\n2:30 pm: The Pizazz Magic Show – Pavilion\n4 pm: Poultry Club (4H) – South Ring\n5 pm: The Pizazz Magic Show – Pavilion\n5 pm: “Bring it On”\, Lip Sync Battle – Grandstand\n6:30 pm: Talent Search – Grandstand\n8 pm – Midnight: AMBUSH – Stormont Dome – Dugout \nMONDAY\, SEPTEMBER 2\nAll Day Agricultural Machinery – East of Cattle Barn\n9 am: Xtreme Cowboy Race – Horil Ring\n9 am-3:45 pm: Stormont Hall (Exhibits) Open\n9 am-3:45 pm: Hospitality Open – Silver Peaks\n9 am-3:45 pm: Ag. Display / Education – Silver Peaks\n10 am: Modified / 3-Pitch Tournament Finals\n10 am-4 pm: Kinder Corner – Pavilion\n10 am-4 pm: Broadaxe Demo – John Foreman – South Ring\n10 am-4 pm: Trapper Ron – South Ring\n10 am-5 pm: Petting Zoo/Pony Rides – S. of South Ring\n10:30 am – 4 pm: Kidzone – Pavilion/South Ring\n10:30 am: 4-H Dairy Achievement Day – Cattle Ring\n11 am-2 pm: Roving Recyclers – Roaming\n11 am-3 pm: Face Painting/ Hair /Tattoo – Silver Peak\n11 am-4:30 pm: Midway by Family Time Amusements\n11 am: Sheep Shearing – South Ring\n11 am- 4 pm: Spinning/Knitting Demo – South Ring\n11 am-6 pm: Dugout Open with MDJ\nNoon: Horse Drawing Competition – Grandstand\n1 and 3:15 pm: Sheep Shearing – South Ring \nFOR MORE INFORMATION\nBarbara-Ann Glaude (Sec.) 613-861-9080\nMorris Dusomos 613-551-3479\nFair Weekend 613-346-2079\nADMISSION\nFRIDAY NIGHT • $15 per person\n12 & under FREE when accompanied by an adult\nSATURDAY\, SUNDAY\, MONDAY • $10 per person\n12 & under FREE when accompanied by an adult\nWEEKEND PASS Available at office\nor gate Adult/Teen – $30\nPRESALE of Ride Bracelets – online or SAS office\nCars Park FREE for duration of Fair\nin East & West parking lot; onsite if available\nAlcohol only in designated areas. No fires.\nAll programming subject to change.\nAll dogs must be under control and on a leash.\nwwww.stormontfair.ca email: info@stormontfair.ca
URL:https://thereview.ca/event/stormont-county-fair/
LOCATION:Newington\, On
CATEGORIES:Fairs & Festivals,Local
ATTACH;FMTTYPE=image/jpeg:https://thereview.ca/wp-content/uploads/2018/08/Fair-1.jpg
END:VEVENT
BEGIN:VEVENT
DTSTART;VALUE=DATE:20190905
DTEND;VALUE=DATE:20190909
DTSTAMP:20260423T202249
CREATED:20190814T135349Z
LAST-MODIFIED:20190814T135349Z
UID:10007312-1567641600-1567987199@thereview.ca
SUMMARY:Annual Russell Fair
DESCRIPTION:Detailed schedule available: www.russellfair.com
URL:https://thereview.ca/event/annual-russell-fair/
CATEGORIES:Fairs & Festivals,Local
ATTACH;FMTTYPE=image/jpeg:https://thereview.ca/wp-content/uploads/2018/08/Fair-1.jpg
END:VEVENT
BEGIN:VEVENT
DTSTART;VALUE=DATE:20190907
DTEND;VALUE=DATE:20190909
DTSTAMP:20260423T202249
CREATED:20190904T151430Z
LAST-MODIFIED:20190904T151430Z
UID:10007323-1567814400-1567987199@thereview.ca
SUMMARY:Roundup 2019
DESCRIPTION:Fellowship of Christian Farmers – Canada\nOttawa Valley Chapter\nY’all come\nROUNDUP 2019\nSept 7 & 8\nFREE\nVankleek Hill Fairgrounds\nCORN & WEINER ROAST\nSOUTHERN GOSPEL\nCONCERT \n4:00 pm Petting Zoo & Booths\n5:30 pm Free Corn & Weiner Roast\n6:00 pm Concert \nPraises to HIM –\nSteve & Janis Miller\nJust As I Am Cowboy Church\nParis\, Missouri \nSunday:\n10:00 Praises to HIM\n10:45 Toe Blake Roy \nEVERYONE WELCOME!
URL:https://thereview.ca/event/roundup-2019/
LOCATION:Vankleek Hill Fairgrounds\, 92 Main Street West\, Vankleek Hill\, Ontario\, K0B 1R0\, Canada
CATEGORIES:Arts & Culture,Fairs & Festivals,Food & Beverage,Local,Music
ATTACH;FMTTYPE=image/jpeg:https://thereview.ca/wp-content/uploads/2019/09/gospel-music.jpg
GEO:43.2562663;-79.8733037
X-APPLE-STRUCTURED-LOCATION;VALUE=URI;X-ADDRESS=Vankleek Hill Fairgrounds 92 Main Street West Vankleek Hill Ontario K0B 1R0 Canada;X-APPLE-RADIUS=500;X-TITLE=92 Main Street West:geo:-79.8733037,43.2562663
END:VEVENT
BEGIN:VEVENT
DTSTART;TZID=America/Toronto:20190907T100000
DTEND;TZID=America/Toronto:20190908T210000
DTSTAMP:20260423T202249
CREATED:20190828T145135Z
LAST-MODIFIED:20190828T145135Z
UID:10007375-1567850400-1567976400@thereview.ca
SUMMARY:Akwesasne International Powwow
DESCRIPTION:Akwesasne International Powwow \nSeptember 7 & 8\, 2019\nSATURDAY & SUNDAY\nI O AM • GATES OPEN TO PUBLIC\nNOON – GRAND ENTRY\nDANCE & DRUM COMPETITIONS\nTHROUGHOUT THE DAY \nADMISSION:\nUnder 5 & 65+: FREE\nAges 6-12: $5\nGeneral Admission: $8\nWeekend Pass: $12 \nEmail for info: akwesasnepowwow@yahoo.com \nCheck website for more info.
URL:https://thereview.ca/event/akwesasne-international-powwow/
LOCATION:A’Nowara’ko:Wa Arena
CATEGORIES:Arts & Culture,Fairs & Festivals,Food & Beverage,Local,Music
ATTACH;FMTTYPE=image/jpeg:https://thereview.ca/wp-content/uploads/2019/08/Akwesasne-powwow-2019-08-28.jpg
END:VEVENT
BEGIN:VEVENT
DTSTART;TZID=America/Toronto:20190908T100000
DTEND;TZID=America/Toronto:20190908T160000
DTSTAMP:20260423T202249
CREATED:20190801T144548Z
LAST-MODIFIED:20190801T144548Z
UID:10007285-1567936800-1567958400@thereview.ca
SUMMARY:Festival of Flavours / Festival des saveurs
DESCRIPTION:Festival of Flavours / Festival des saveurs\nSunday\, September 8th\, 2019 10 a.m. to 4 p.m. \nMain Street in Vankleek Hill \n90 food booths\, artisans\, coffee and music. \nBrought to you by Excellent Events. \nCLICK HERE for the Facebook Event.
URL:https://thereview.ca/event/festival-of-flavours-festival-des-saveurs/
LOCATION:Main Street\, Vankleek Hill\, Main Street\, Vankleek Hill\, Ontario\, Canada
CATEGORIES:Fairs & Festivals,Food & Beverage,Local
ATTACH;FMTTYPE=image/jpeg:https://thereview.ca/wp-content/uploads/2019/08/LS_sep12_18_Festival-of-Flavours-43.jpg
ORGANIZER;CN="Excellent Events":MAILTO:excellenteventsvkh@gmail.com
GEO:45.5175925;-74.6444795
X-APPLE-STRUCTURED-LOCATION;VALUE=URI;X-ADDRESS=Main Street Vankleek Hill Main Street Vankleek Hill Ontario Canada;X-APPLE-RADIUS=500;X-TITLE=Main Street:geo:-74.6444795,45.5175925
END:VEVENT
BEGIN:VEVENT
DTSTART;TZID=America/Toronto:20190908T100000
DTEND;TZID=America/Toronto:20190908T160000
DTSTAMP:20260423T202249
CREATED:20190904T133240Z
LAST-MODIFIED:20190904T133240Z
UID:10007302-1567936800-1567958400@thereview.ca
SUMMARY:Garlic Festival
DESCRIPTION:SECOND ANNUAL Garlic Festival 2019 \nFor more information visit: VKHLionsClub.ca \n• Regional Vendors\n• Organic Garlic\n• Taste Samplers\n• Speakers Paul Pospisil & Dorothy Oogarah\n• Music by Highway 34 \nAdmission by donation and will be used to help support various local non-profit organizations.
URL:https://thereview.ca/event/garlic-festival/
LOCATION:Vankleek Hill Community Centre\, 36 Mill St.\, Vankleek Hill\, Ontario\, K0B 1R0\, Canada
CATEGORIES:Fairs & Festivals,Food & Beverage,Local
ATTACH;FMTTYPE=image/jpeg:https://thereview.ca/wp-content/uploads/2018/07/SHUTTERSTOCK_2018-07-27_garlic_WEB.jpg
GEO:45.5169974;-74.6524697
X-APPLE-STRUCTURED-LOCATION;VALUE=URI;X-ADDRESS=Vankleek Hill Community Centre 36 Mill St. Vankleek Hill Ontario K0B 1R0 Canada;X-APPLE-RADIUS=500;X-TITLE=36 Mill St.:geo:-74.6524697,45.5169974
END:VEVENT
BEGIN:VEVENT
DTSTART;TZID=America/Toronto:20190908T100000
DTEND;TZID=America/Toronto:20190908T170000
DTSTAMP:20260423T202249
CREATED:20190807T152758Z
LAST-MODIFIED:20190807T152758Z
UID:10007334-1567936800-1567962000@thereview.ca
SUMMARY:Riceville Wood & Forest Exhibition
DESCRIPTION:Riceville Wood & Forest Exhibition will be held on Sunday\, September 8th\, 2019. \n4029 County Road 16\, Riceville\, ON \n10 a.m. until 5 p.m. \nOver 50 artisans\, companies\, artists and organizations\, generally local\, whose business involves a connection to wood or other forest-based assets. \nDisplays & Demonstrations. \nMusical show – Children’s Program. \nWood Auction at 3 p.m. \nAdmission is $10 (or $25 for a family of 4). \ninfo@boisesest.ca \nwww.boisesest.ca/woodforest/ \n 
URL:https://thereview.ca/event/riceville-wood-forest-exhibition/
LOCATION:Riceville Fairgrounds\, 4029 County Road 16\, Riceville\, Ontario\, Canada
CATEGORIES:Environment,Fairs & Festivals,Local
ATTACH;FMTTYPE=image/jpeg:https://thereview.ca/wp-content/uploads/2019/08/KM_20180909_RicevilleWoodFair_HorsePowerSaw-1.jpg
ORGANIZER;CN="Boises Est":MAILTO:info@boisesest.ca
GEO:45.4369446;-74.950811
X-APPLE-STRUCTURED-LOCATION;VALUE=URI;X-ADDRESS=Riceville Fairgrounds 4029 County Road 16 Riceville Ontario Canada;X-APPLE-RADIUS=500;X-TITLE=4029 County Road 16:geo:-74.950811,45.4369446
END:VEVENT
BEGIN:VEVENT
DTSTART;TZID=America/Toronto:20190908T110000
DTEND;TZID=America/Toronto:20190908T160000
DTSTAMP:20260423T202249
CREATED:20190826T171051Z
LAST-MODIFIED:20190826T171051Z
UID:10007356-1567940400-1567958400@thereview.ca
SUMMARY:Harvest Fall Festival
DESCRIPTION:Celebrate the 20th anniversary of the Harvest Fall Festival at Glengarry Pioneer Museum with a wonderful day of Fall festivities including pioneer harvest demonstrations\, crafts\, local produce and baking\, as well as a petting zoo and threshing demonstration!
URL:https://thereview.ca/event/harvest-fall-festival/
LOCATION:Glengarry Pioneer Museum\, 1645 County Rd 30\, Dunvegan\, Ontario\, K0C 1J0\, Canada
CATEGORIES:Fairs & Festivals
ATTACH;FMTTYPE=image/jpeg:https://thereview.ca/wp-content/uploads/2019/07/Fall-festival-harvest-tent-web-300x200-1.jpg
GEO:45.363552;-74.8200683
X-APPLE-STRUCTURED-LOCATION;VALUE=URI;X-ADDRESS=Glengarry Pioneer Museum 1645 County Rd 30 Dunvegan Ontario K0C 1J0 Canada;X-APPLE-RADIUS=500;X-TITLE=1645 County Rd 30:geo:-74.8200683,45.363552
END:VEVENT
BEGIN:VEVENT
DTSTART;VALUE=DATE:20190920
DTEND;VALUE=DATE:20190922
DTSTAMP:20260423T202249
CREATED:20180725T182847Z
LAST-MODIFIED:20190801T150012Z
UID:10007370-1568937600-1569110399@thereview.ca
SUMMARY:Beau's Oktoberfest 2019
DESCRIPTION:September 20 + September 21\, 2019 \nTICKETS ARE ON SALE NOW! Available at the brewery or online at beausoktoberfest.ca \nFEATURING…Live music from The New Pornographers\, Shad*\, Neon Dreams*\, Jenn Grant*\, Caravane\, Birds of Bellwoods\, John Jacob Magistery\, What if Elephants\, and Walter Ostanek!\nHosted by: Taggart & Torrens\n*with full band \nHeld in Vankleek Hill\, Ontario\, Beau’s Oktoberfest features live music on two stages\, 10 Beau’s beers and more than 50 guest taps\, delicious cuisine from local restaurants\, activities\, and so much more! Beau’s Oktoberfest was named “Ontario Culinary Tourism Event of the Year” in 2016 by the Ontario Tourism Awards of Excellence. \nOktoberfest doesn’t just cater to the big kids (this means you\, grown-ups). The little ones will love our Kinderfest\, a non-licensed family area chock full of awesome activities and entertainment. \nOktoberfest is Wunderbar!
URL:https://thereview.ca/event/oktoberfest/
LOCATION:Vankleek Hill\, Main Street\, Vankleek Hill\, Ontario\, K0B1R0\, Canada
CATEGORIES:Fairs & Festivals,Food & Beverage,Music
ATTACH;FMTTYPE=image/jpeg:https://thereview.ca/wp-content/uploads/2016/08/TK_Beaus-Oktoberfest_Sat-2015-202_colour.jpg
GEO:45.5178199;-74.6453317
X-APPLE-STRUCTURED-LOCATION;VALUE=URI;X-ADDRESS=Vankleek Hill Main Street Vankleek Hill Ontario K0B1R0 Canada;X-APPLE-RADIUS=500;X-TITLE=Main Street:geo:-74.6453317,45.5178199
END:VEVENT
END:VCALENDAR