BEGIN:VCALENDAR
VERSION:2.0
PRODID:-//The Review Newspaper - ECPv6.15.18//NONSGML v1.0//EN
CALSCALE:GREGORIAN
METHOD:PUBLISH
X-ORIGINAL-URL:https://thereview.ca
X-WR-CALDESC:Events for The Review Newspaper
REFRESH-INTERVAL;VALUE=DURATION:PT1H
X-Robots-Tag:noindex
X-PUBLISHED-TTL:PT1H
BEGIN:VTIMEZONE
TZID:America/Toronto
BEGIN:DAYLIGHT
TZOFFSETFROM:-0500
TZOFFSETTO:-0400
TZNAME:EDT
DTSTART:20180311T070000
END:DAYLIGHT
BEGIN:STANDARD
TZOFFSETFROM:-0400
TZOFFSETTO:-0500
TZNAME:EST
DTSTART:20181104T060000
END:STANDARD
BEGIN:DAYLIGHT
TZOFFSETFROM:-0500
TZOFFSETTO:-0400
TZNAME:EDT
DTSTART:20190310T070000
END:DAYLIGHT
BEGIN:STANDARD
TZOFFSETFROM:-0400
TZOFFSETTO:-0500
TZNAME:EST
DTSTART:20191103T060000
END:STANDARD
BEGIN:DAYLIGHT
TZOFFSETFROM:-0500
TZOFFSETTO:-0400
TZNAME:EDT
DTSTART:20200308T070000
END:DAYLIGHT
BEGIN:STANDARD
TZOFFSETFROM:-0400
TZOFFSETTO:-0500
TZNAME:EST
DTSTART:20201101T060000
END:STANDARD
END:VTIMEZONE
BEGIN:VEVENT
DTSTART;TZID=America/Toronto:20190413T100000
DTEND;TZID=America/Toronto:20190413T150000
DTSTAMP:20260419T193347
CREATED:20190401T185113Z
LAST-MODIFIED:20190401T185113Z
UID:10007729-1555149600-1555167600@thereview.ca
SUMMARY:Swing into Spring
DESCRIPTION:Come on down to Main Street in Vankleek Hill on Saturday\, April 13th! Your Business and Merchant Association is organizing a day of fun to get everyone out of hibernation! There will be face painting and a petting farm for the kids and tons of specials from 11am – 3pm! \nThere will be a sale on VKH bucks at The Review office from 10am – 11am\, get your bucks at 10% off! \nThe Windsor Tavern will be serving Tandoori Chicken Bowls and will have live music. \nThe Broken Kettle Bakery & Barkery will be hosting a “Find the Flamingo” contest and serving up fresh waffles with ice cream and local maple syrup. \nJan Amell Photography will have a photo booth. \nApex Escape Rooms will have a special 10 minute escape\, FREE! \nQuilt Bees will have a 40% off special on select items. \nVillage Trading Co. will be having a moving sale. \nTrillium Tea Room will be serving all of your favourites from the regular menu 11am – 4pm.
URL:https://thereview.ca/event/swing-into-spring/
LOCATION:Main Street\, Vankleek Hill\, Main Street\, Vankleek Hill\, Ontario\, Canada
CATEGORIES:Fairs & Festivals,Local
ORGANIZER;CN="VKH Business & Merchant Association":MAILTO:vkhbma@gmail.com
GEO:45.5175925;-74.6444795
X-APPLE-STRUCTURED-LOCATION;VALUE=URI;X-ADDRESS=Main Street Vankleek Hill Main Street Vankleek Hill Ontario Canada;X-APPLE-RADIUS=500;X-TITLE=Main Street:geo:-74.6444795,45.5175925
END:VEVENT
BEGIN:VEVENT
DTSTART;TZID=America/Toronto:20190427T120000
DTEND;TZID=America/Toronto:20190427T170000
DTSTAMP:20260419T193347
CREATED:20190326T175249Z
LAST-MODIFIED:20190326T175249Z
UID:10007076-1556366400-1556384400@thereview.ca
SUMMARY:Glengarry Earth Day
DESCRIPTION:The Glengarry Earth Day event is an opportunity to learn more about what local people are doing to reduce waste\, protect the natural environment\, improve energy efficiency and promote regional food sources. Including speakers\, kiosks\, locally-owned electric vehicles\, rain barrels for sale\, a pop-up library with a craft for young people and more.  Preceding the event at 11 am Friends of Glengarry Trails will host a trail walk.
URL:https://thereview.ca/event/glengarry-earth-day/
LOCATION:Alexandria Island Park\, Canada
CATEGORIES:Environment,Fairs & Festivals,Local
ATTACH;FMTTYPE=image/jpeg:https://thereview.ca/wp-content/uploads/2019/03/glengarry-earth-day-1.jpg
ORGANIZER;CN="Glengarry Earth Day Committee":MAILTO:sustainableglengarry@gmail.com
GEO:56.130366;-106.346771
END:VEVENT
END:VCALENDAR