BEGIN:VCALENDAR
VERSION:2.0
PRODID:-//The Review Newspaper - ECPv6.15.18//NONSGML v1.0//EN
CALSCALE:GREGORIAN
METHOD:PUBLISH
X-ORIGINAL-URL:https://thereview.ca
X-WR-CALDESC:Events for The Review Newspaper
REFRESH-INTERVAL;VALUE=DURATION:PT1H
X-Robots-Tag:noindex
X-PUBLISHED-TTL:PT1H
BEGIN:VTIMEZONE
TZID:America/Toronto
BEGIN:DAYLIGHT
TZOFFSETFROM:-0500
TZOFFSETTO:-0400
TZNAME:EDT
DTSTART:20220313T070000
END:DAYLIGHT
BEGIN:STANDARD
TZOFFSETFROM:-0400
TZOFFSETTO:-0500
TZNAME:EST
DTSTART:20221106T060000
END:STANDARD
BEGIN:DAYLIGHT
TZOFFSETFROM:-0500
TZOFFSETTO:-0400
TZNAME:EDT
DTSTART:20230312T070000
END:DAYLIGHT
BEGIN:STANDARD
TZOFFSETFROM:-0400
TZOFFSETTO:-0500
TZNAME:EST
DTSTART:20231105T060000
END:STANDARD
BEGIN:DAYLIGHT
TZOFFSETFROM:-0500
TZOFFSETTO:-0400
TZNAME:EDT
DTSTART:20240310T070000
END:DAYLIGHT
BEGIN:STANDARD
TZOFFSETFROM:-0400
TZOFFSETTO:-0500
TZNAME:EST
DTSTART:20241103T060000
END:STANDARD
BEGIN:DAYLIGHT
TZOFFSETFROM:-0500
TZOFFSETTO:-0400
TZNAME:EDT
DTSTART:20250309T070000
END:DAYLIGHT
BEGIN:STANDARD
TZOFFSETFROM:-0400
TZOFFSETTO:-0500
TZNAME:EST
DTSTART:20251102T060000
END:STANDARD
BEGIN:DAYLIGHT
TZOFFSETFROM:-0500
TZOFFSETTO:-0400
TZNAME:EDT
DTSTART:20260308T070000
END:DAYLIGHT
BEGIN:STANDARD
TZOFFSETFROM:-0400
TZOFFSETTO:-0500
TZNAME:EST
DTSTART:20261101T060000
END:STANDARD
END:VTIMEZONE
BEGIN:VEVENT
DTSTART;TZID=America/Toronto:20230708T110000
DTEND;TZID=America/Toronto:20230708T140000
DTSTAMP:20260419T233146
CREATED:20230628T174912Z
LAST-MODIFIED:20230628T174920Z
UID:10008560-1688814000-1688824800@thereview.ca
SUMMARY:Sandwich Lunch
DESCRIPTION:Adults: $12 \n\n\n\nChildren 6-12: $6 \n\n\n\nAssorted sandwiches\, veggies & dip\, cheese & pickles\, coffee\, tea & homemade desserts.
URL:https://thereview.ca/event/sandwich-lunch/
LOCATION:Trinity United Church\, 50 High Street\, Vankleek Hill\, ON\, Canada
CATEGORIES:Environment,Food & Beverage
ATTACH;FMTTYPE=image/jpeg:https://thereview.ca/wp-content/uploads/2017/02/sandwich.jpg
GEO:45.5181986;-74.6536609
X-APPLE-STRUCTURED-LOCATION;VALUE=URI;X-ADDRESS=Trinity United Church 50 High Street Vankleek Hill ON Canada;X-APPLE-RADIUS=500;X-TITLE=50 High Street:geo:-74.6536609,45.5181986
END:VEVENT
BEGIN:VEVENT
DTSTART;TZID=America/Toronto:20240426T100000
DTEND;TZID=America/Toronto:20240426T140000
DTSTAMP:20260419T233146
CREATED:20240322T170216Z
LAST-MODIFIED:20240322T170226Z
UID:10009883-1714125600-1714140000@thereview.ca
SUMMARY:Fun Friday: The Good Food Garden One-on-One Q&A
DESCRIPTION:Fun Fridays continue at The Review:\n\nJoin Peggy McDonald of Good Food Garden for an event that will help you Get Growing! \n\nThe Good Food Garden One-on-One Q&A\n\nPeggy will be here to answer all your gardening questions! Curious about no-till gardening? Want to learn how to control pests in an ecological way? Wondering what food plants to try in your garden this year? Learn about Peggy’s upcoming Seedling Sale\, her CSA organic vegetable basket program\, and her Farm Store. Drop in for a cozy and inspirational chat with Vankleek Hill’s own organic gardening guru! \n\nFriday\, April 26\, 2024\n10-2\nThe Review\, 76 Main St. E.\, Vankleek Hill\nfor more info\, contact Andrea: andrea@thereview.ca  613-678-3327 ext. 1015\n\nGood Food Garden is a sustainable\, biodiverse\, no-till\, small-scale vegetable farm located in Vankleek Hill\, Ontario. To learn more\, visit www.goodfoodgarden.ca or @Good Food Garden\n\nAnother fun event brought to you by The Review!
URL:https://thereview.ca/event/fun-friday-the-good-food-garden-one-on-one-qa/
LOCATION:The Review\, 76 Main St E\, Vankleek Hill\, Ontario\, K0B 1R0\, Canada
CATEGORIES:Environment,Food & Beverage,Local,The Review Events
ATTACH;FMTTYPE=image/png:https://thereview.ca/wp-content/uploads/2024/03/GFG-logo-1000px.png
GEO:45.5190283;-74.6502871
X-APPLE-STRUCTURED-LOCATION;VALUE=URI;X-ADDRESS=The Review 76 Main St E Vankleek Hill Ontario K0B 1R0 Canada;X-APPLE-RADIUS=500;X-TITLE=76 Main St E:geo:-74.6502871,45.5190283
END:VEVENT
BEGIN:VEVENT
DTSTART;TZID=America/Toronto:20240505T130000
DTEND;TZID=America/Toronto:20240505T160000
DTSTAMP:20260419T233146
CREATED:20240418T152002Z
LAST-MODIFIED:20240418T152012Z
UID:10009921-1714914000-1714924800@thereview.ca
SUMMARY:Hillcrest Funeral Home Annual Tree Planting
DESCRIPTION:The McAlpine Forever Forest is located on Concession #1 in Vankleek Hill\, ON. Travel west on County Rd 10 from Vankleek Hill\, turn right on Concession #1. There is also a google map at www.treesofrememberance.com that will direct you to the planting location. \n\n\n\nYour presence and support would be welcome\, as we gather to plant trees in remembrance of those we have lost. Together\, we’ll create a lasting tribute to their memory and celebrate the beauty of life. Everyone Is welcome.
URL:https://thereview.ca/event/hillcrest-funeral-home-annual-tree-planting/
CATEGORIES:Environment,Meetings,Other
ATTACH;FMTTYPE=image/jpeg:https://thereview.ca/wp-content/uploads/2024/04/Hillcrest-event.jpg
END:VEVENT
BEGIN:VEVENT
DTSTART;TZID=America/Toronto:20241001T190000
DTEND;TZID=America/Toronto:20241001T203000
DTSTAMP:20260419T233146
CREATED:20240916T183502Z
LAST-MODIFIED:20240916T183502Z
UID:10010093-1727809200-1727814600@thereview.ca
SUMMARY:Seniors for Cl!mate
DESCRIPTION:Join Seniors Across Canada For A Day Of Climate Action This Fall. \nGetting a Heat Pump: The Good\, the Bad and the Ugly. A roundtable of locals who have experienced getting a Heat Pump. Learn about the single biggest thing YOU can do for the Climate! \nLater is too late!
URL:https://thereview.ca/event/seniors-for-clmate/
CATEGORIES:Environment,Meetings
ATTACH;FMTTYPE=image/jpeg:https://s3.us-east-2.amazonaws.com/thereview.ca/wp-content/uploads/2024/09/16143450/ecoeast.jpg
END:VEVENT
BEGIN:VEVENT
DTSTART;TZID=America/Toronto:20241005T130000
DTEND;TZID=America/Toronto:20241005T160000
DTSTAMP:20260419T233146
CREATED:20240916T181232Z
LAST-MODIFIED:20240916T181403Z
UID:10010089-1728133200-1728144000@thereview.ca
SUMMARY:Touch the Soil
DESCRIPTION:Dalkeith…Plus! Presents Touch The Soil. Indoor and Outdoor Exhibition. New Ideas about Dirt & Old Methods of Farming. \n$1 Admission.
URL:https://thereview.ca/event/touch-the-soil/
LOCATION:Dalkeith Library
CATEGORIES:Environment
ATTACH;FMTTYPE=image/jpeg:https://s3.us-east-2.amazonaws.com/thereview.ca/wp-content/uploads/2024/09/16141218/touch-the-soil.jpg
END:VEVENT
BEGIN:VEVENT
DTSTART;TZID=America/Toronto:20241024T100000
DTEND;TZID=America/Toronto:20241024T150000
DTSTAMP:20260419T233146
CREATED:20241008T191515Z
LAST-MODIFIED:20241008T191515Z
UID:10010101-1729764000-1729782000@thereview.ca
SUMMARY:E-Waste Collection Drive
DESCRIPTION:Drop off your electronics for free of cost\, environmentally responsible recycling. Money is raised on every pound of electronics collected. Proceeds will go to the\nVankleek Hill and District Lions Club. \n  \nItems you can recycle free of charge: Computing\, printing\, mobile\, peripherals\, pain\, display\, audio/visual\, networking\, cables\, and light bulbs \nPLEASE ERASE ANY PERSONAL DATA FROM YOUR GEAR BEFORE RECYCLING. \n  \nVANKLEEK HILL & DISTRICT LIONS CLUB \nArmand Lapierre\n613-632-3840
URL:https://thereview.ca/event/e-waste-collection-drive/
LOCATION:A. Paquette Garage\, 34 Wall Street\, Vankleek Hill\, Ontario\, K0B 1R0\, Canada
CATEGORIES:Environment
ATTACH;FMTTYPE=image/jpeg:https://s3.us-east-2.amazonaws.com/thereview.ca/wp-content/uploads/2024/10/08151500/Lions-club.jpg
GEO:45.5168266;-74.654346
X-APPLE-STRUCTURED-LOCATION;VALUE=URI;X-ADDRESS=A. Paquette Garage 34 Wall Street Vankleek Hill Ontario K0B 1R0 Canada;X-APPLE-RADIUS=500;X-TITLE=34 Wall Street:geo:-74.654346,45.5168266
END:VEVENT
BEGIN:VEVENT
DTSTART;TZID=America/Toronto:20250302T100000
DTEND;TZID=America/Toronto:20250302T160000
DTSTAMP:20260419T233146
CREATED:20250122T161632Z
LAST-MODIFIED:20250122T161632Z
UID:10010172-1740909600-1740931200@thereview.ca
SUMMARY:Growing Green
DESCRIPTION:See flyer to scan to see workshops\, seminars and vendors! \n1535 Du Pare Ave\, Rockland\, ON\nL’Escale High School
URL:https://thereview.ca/event/growing-green/
CATEGORIES:Courses,Environment
ATTACH;FMTTYPE=image/jpeg:https://s3.us-east-2.amazonaws.com/thereview.ca/wp-content/uploads/2025/01/22111451/Rockland-garden.jpg
END:VEVENT
BEGIN:VEVENT
DTSTART;TZID=America/Toronto:20250824T100000
DTEND;TZID=America/Toronto:20250824T160000
DTSTAMP:20260419T233146
CREATED:20250825T154026Z
LAST-MODIFIED:20250825T154026Z
UID:10029114-1756029600-1756051200@thereview.ca
SUMMARY:Glengarry Honey and Pollinator's Festival
DESCRIPTION:Glengarry Honey and Pollinator’s Festival\nAugust 24 – 10 am to 4 pm\nAlexandria Island Park\, 102 Derby St W\, North Glengarry\, Ontario\, K0C 1A0 \nMeet the vendors \nTIBO Honey\nStewart Honey\nGees Bees\nHillside Apiaries\nMcCaig Honey\nHazelwood Gardens\nTwin Oaks Elementary School\nBuzz Honey Products\nRaising River Conservation\nAlus\nSouth Nation Conservation\nVankleek Hill Horticultural Society\nFlora Kitchenette\nMuddytoes Organic\nLavender Boutique Farm\nParachute Farm\nSunwheel Flower Farm\nSnowbear Designs\nLoose Threads\nVankleek Hill District Nature Society\nSt Eugene Vinaigrie Artisanale\nNature’s Aid\nEden’s Refuge\nLou’s Treasures
URL:https://thereview.ca/event/glengarry-honey-and-pollinators-festival/
LOCATION:102 Derby St W\, Alexandria\, Ontario\, K0C 1A0\, 102 Derby St W\, Alexandria\, Ontario\, K0C 1A0\, Canada
CATEGORIES:Environment
ATTACH;FMTTYPE=image/jpeg:https://s3.us-east-2.amazonaws.com/thereview.ca/wp-content/uploads/2025/08/22194245/IMG_1551.jpeg
ORGANIZER;CN="Glengarry Honey and Pollinator Festival":MAILTO:theglengarryhoneyandpollinator@gmail.com
END:VEVENT
END:VCALENDAR