BEGIN:VCALENDAR
VERSION:2.0
PRODID:-//The Review Newspaper - ECPv6.15.18//NONSGML v1.0//EN
CALSCALE:GREGORIAN
METHOD:PUBLISH
X-ORIGINAL-URL:https://thereview.ca
X-WR-CALDESC:Events for The Review Newspaper
REFRESH-INTERVAL;VALUE=DURATION:PT1H
X-Robots-Tag:noindex
X-PUBLISHED-TTL:PT1H
BEGIN:VTIMEZONE
TZID:America/Toronto
BEGIN:DAYLIGHT
TZOFFSETFROM:-0500
TZOFFSETTO:-0400
TZNAME:EDT
DTSTART:20230312T070000
END:DAYLIGHT
BEGIN:STANDARD
TZOFFSETFROM:-0400
TZOFFSETTO:-0500
TZNAME:EST
DTSTART:20231105T060000
END:STANDARD
BEGIN:DAYLIGHT
TZOFFSETFROM:-0500
TZOFFSETTO:-0400
TZNAME:EDT
DTSTART:20240310T070000
END:DAYLIGHT
BEGIN:STANDARD
TZOFFSETFROM:-0400
TZOFFSETTO:-0500
TZNAME:EST
DTSTART:20241103T060000
END:STANDARD
BEGIN:DAYLIGHT
TZOFFSETFROM:-0500
TZOFFSETTO:-0400
TZNAME:EDT
DTSTART:20250309T070000
END:DAYLIGHT
BEGIN:STANDARD
TZOFFSETFROM:-0400
TZOFFSETTO:-0500
TZNAME:EST
DTSTART:20251102T060000
END:STANDARD
END:VTIMEZONE
BEGIN:VEVENT
DTSTART;TZID=America/Toronto:20240505T130000
DTEND;TZID=America/Toronto:20240505T160000
DTSTAMP:20260426T001558
CREATED:20240418T152002Z
LAST-MODIFIED:20240418T152012Z
UID:10009921-1714914000-1714924800@thereview.ca
SUMMARY:Hillcrest Funeral Home Annual Tree Planting
DESCRIPTION:The McAlpine Forever Forest is located on Concession #1 in Vankleek Hill\, ON. Travel west on County Rd 10 from Vankleek Hill\, turn right on Concession #1. There is also a google map at www.treesofrememberance.com that will direct you to the planting location. \n\n\n\nYour presence and support would be welcome\, as we gather to plant trees in remembrance of those we have lost. Together\, we’ll create a lasting tribute to their memory and celebrate the beauty of life. Everyone Is welcome.
URL:https://thereview.ca/event/hillcrest-funeral-home-annual-tree-planting/
LOCATION:Ontario
CATEGORIES:Environment,Meetings,Other
ATTACH;FMTTYPE=image/jpeg:https://thereview.ca/wp-content/uploads/2024/04/Hillcrest-event.jpg
END:VEVENT
END:VCALENDAR