BEGIN:VCALENDAR
VERSION:2.0
PRODID:-//The Review Newspaper - ECPv6.15.18//NONSGML v1.0//EN
CALSCALE:GREGORIAN
METHOD:PUBLISH
X-ORIGINAL-URL:https://thereview.ca
X-WR-CALDESC:Events for The Review Newspaper
REFRESH-INTERVAL;VALUE=DURATION:PT1H
X-Robots-Tag:noindex
X-PUBLISHED-TTL:PT1H
BEGIN:VTIMEZONE
TZID:America/Toronto
BEGIN:DAYLIGHT
TZOFFSETFROM:-0500
TZOFFSETTO:-0400
TZNAME:EDT
DTSTART:20230312T070000
END:DAYLIGHT
BEGIN:STANDARD
TZOFFSETFROM:-0400
TZOFFSETTO:-0500
TZNAME:EST
DTSTART:20231105T060000
END:STANDARD
BEGIN:DAYLIGHT
TZOFFSETFROM:-0500
TZOFFSETTO:-0400
TZNAME:EDT
DTSTART:20240310T070000
END:DAYLIGHT
BEGIN:STANDARD
TZOFFSETFROM:-0400
TZOFFSETTO:-0500
TZNAME:EST
DTSTART:20241103T060000
END:STANDARD
BEGIN:DAYLIGHT
TZOFFSETFROM:-0500
TZOFFSETTO:-0400
TZNAME:EDT
DTSTART:20250309T070000
END:DAYLIGHT
BEGIN:STANDARD
TZOFFSETFROM:-0400
TZOFFSETTO:-0500
TZNAME:EST
DTSTART:20251102T060000
END:STANDARD
END:VTIMEZONE
BEGIN:VEVENT
DTSTART;TZID=America/Toronto:20240426T100000
DTEND;TZID=America/Toronto:20240426T140000
DTSTAMP:20260421T203745
CREATED:20240322T170216Z
LAST-MODIFIED:20240322T170226Z
UID:10009883-1714125600-1714140000@thereview.ca
SUMMARY:Fun Friday: The Good Food Garden One-on-One Q&A
DESCRIPTION:Fun Fridays continue at The Review:\n\nJoin Peggy McDonald of Good Food Garden for an event that will help you Get Growing! \n\nThe Good Food Garden One-on-One Q&A\n\nPeggy will be here to answer all your gardening questions! Curious about no-till gardening? Want to learn how to control pests in an ecological way? Wondering what food plants to try in your garden this year? Learn about Peggy’s upcoming Seedling Sale\, her CSA organic vegetable basket program\, and her Farm Store. Drop in for a cozy and inspirational chat with Vankleek Hill’s own organic gardening guru! \n\nFriday\, April 26\, 2024\n10-2\nThe Review\, 76 Main St. E.\, Vankleek Hill\nfor more info\, contact Andrea: andrea@thereview.ca  613-678-3327 ext. 1015\n\nGood Food Garden is a sustainable\, biodiverse\, no-till\, small-scale vegetable farm located in Vankleek Hill\, Ontario. To learn more\, visit www.goodfoodgarden.ca or @Good Food Garden\n\nAnother fun event brought to you by The Review!
URL:https://thereview.ca/event/fun-friday-the-good-food-garden-one-on-one-qa/
LOCATION:The Review\, 76 Main St E\, Vankleek Hill\, Ontario\, K0B 1R0\, Canada
CATEGORIES:Environment,Food & Beverage,Local,The Review Events
ATTACH;FMTTYPE=image/png:https://thereview.ca/wp-content/uploads/2024/03/GFG-logo-1000px.png
GEO:45.5190283;-74.6502871
X-APPLE-STRUCTURED-LOCATION;VALUE=URI;X-ADDRESS=The Review 76 Main St E Vankleek Hill Ontario K0B 1R0 Canada;X-APPLE-RADIUS=500;X-TITLE=76 Main St E:geo:-74.6502871,45.5190283
END:VEVENT
END:VCALENDAR