BEGIN:VCALENDAR
VERSION:2.0
PRODID:-//The Review Newspaper - ECPv6.15.18//NONSGML v1.0//EN
CALSCALE:GREGORIAN
METHOD:PUBLISH
X-WR-CALNAME:The Review Newspaper
X-ORIGINAL-URL:https://thereview.ca
X-WR-CALDESC:Events for The Review Newspaper
REFRESH-INTERVAL;VALUE=DURATION:PT1H
X-Robots-Tag:noindex
X-PUBLISHED-TTL:PT1H
BEGIN:VTIMEZONE
TZID:America/Toronto
BEGIN:DAYLIGHT
TZOFFSETFROM:-0500
TZOFFSETTO:-0400
TZNAME:EDT
DTSTART:20210314T070000
END:DAYLIGHT
BEGIN:STANDARD
TZOFFSETFROM:-0400
TZOFFSETTO:-0500
TZNAME:EST
DTSTART:20211107T060000
END:STANDARD
BEGIN:DAYLIGHT
TZOFFSETFROM:-0500
TZOFFSETTO:-0400
TZNAME:EDT
DTSTART:20220313T070000
END:DAYLIGHT
BEGIN:STANDARD
TZOFFSETFROM:-0400
TZOFFSETTO:-0500
TZNAME:EST
DTSTART:20221106T060000
END:STANDARD
BEGIN:DAYLIGHT
TZOFFSETFROM:-0500
TZOFFSETTO:-0400
TZNAME:EDT
DTSTART:20230312T070000
END:DAYLIGHT
BEGIN:STANDARD
TZOFFSETFROM:-0400
TZOFFSETTO:-0500
TZNAME:EST
DTSTART:20231105T060000
END:STANDARD
END:VTIMEZONE
BEGIN:VEVENT
DTSTART;TZID=America/Toronto:20221112T100000
DTEND;TZID=America/Toronto:20221112T160000
DTSTAMP:20260422T222026
CREATED:20221026T141809Z
LAST-MODIFIED:20221026T142111Z
UID:10007883-1668247200-1668268800@thereview.ca
SUMMARY:The Hudson War Memorial Library Annual Art Sale
DESCRIPTION:The War Memorial Library Shop / The Bunker’s eagerly anticipated annual “Off the Wall” Art Sale will happen Saturday\, November 12 from 10AM to 4PM at the Stephen F Shaar Community Centre\, 394 Main Road\, Hudson\, QC \nAfter another year of generous donations\, closet cleaning\, and post-covid downsizing\, the Bunker is proud to present to you its latest collection of art-work of all genres\, along with a “Tower of London” worthy assortment of gold and silver jewellery. If the success of last year’s event is anything to go by\, hopeful art aficionados will be lined up well before the doors open. \nThere will be over three hundred pieces for sale\, which includes paintings\, watercolours\, limited edition prints\, prints on canvas\, nature prints\, Inuit art\, carvings\, masks\, and Asian art. You will find landscapes\, florals\, still lifes\, portraits\, you name it. National and international artists will be represented\, along with local artists\, including Margaret Frizzel\, working in a wide range of styles and media. There will undoubtably be something that will appeal to all tastes and budgets. All will be sold at amazing\, non-negotiable prices\, prices that make The Bunker such a special place to shop. \nAs usual\, proceeds from this sale support the War Memorial Library and numerous other charities. The War Memorial Library is staffed by volunteers. \n(Cash only\, thank you!) \nSee you there! \nhttps://artshudson.org/2210-kathryn-lamb-bunker.shtml
URL:https://thereview.ca/event/the-hudson-war-memorial-library-annual-art-sale/
LOCATION:Stephen F. Shaar Community Centre\, 394 Main Road\, Hudson\, Quebec\, J0P 1H0\, Canada
CATEGORIES:Arts & Culture,Local
ATTACH;FMTTYPE=image/jpeg:https://thereview.ca/wp-content/uploads/2022/10/Bunker_2022.jpg
GEO:45.4566145;-74.1377577
X-APPLE-STRUCTURED-LOCATION;VALUE=URI;X-ADDRESS=Stephen F. Shaar Community Centre 394 Main Road Hudson Quebec J0P 1H0 Canada;X-APPLE-RADIUS=500;X-TITLE=394 Main Road:geo:-74.1377577,45.4566145
END:VEVENT
BEGIN:VEVENT
DTSTART;VALUE=DATE:20221119
DTEND;VALUE=DATE:20221120
DTSTAMP:20260422T222026
CREATED:20221008T150659Z
LAST-MODIFIED:20221008T150700Z
UID:10008120-1668816000-1668902399@thereview.ca
SUMMARY:Christmas Porch Tour Maker Pop-Up With Nationview Creations
DESCRIPTION:Local artisan Erika Wilson of Nationview Creations will be at Indigo Hill on the day of the Vankleek Hill Christmas Porch Tour\, selling her handmade needle-felted greeting cards. As you tour the town for the Porch Tour or participate in its Gnome Scavenger Hunt\, be sure to pop in to see Erika’s newest creations\, including holiday-themed cards\, felted ornaments\, wool dryer balls\, and other whimsical creations that are perfect for the gift-giving season!
URL:https://thereview.ca/event/christmas-porch-tour-maker-pop-up-with-nationview-creations/
LOCATION:Indigo Hill\, 26 Main St. East\, Vankleek Hill\, Ontario\, K0B1R0\, Canada
CATEGORIES:Arts & Culture,Local
ATTACH;FMTTYPE=image/jpeg:https://thereview.ca/wp-content/uploads/2022/10/NationviewPopup1.jpg
ORGANIZER;CN="Indigo Hill Dye Studio":MAILTO:info@indigohilldyestudio.ca
GEO:45.5193271;-74.6515365
X-APPLE-STRUCTURED-LOCATION;VALUE=URI;X-ADDRESS=Indigo Hill 26 Main St. East Vankleek Hill Ontario K0B1R0 Canada;X-APPLE-RADIUS=500;X-TITLE=26 Main St. East:geo:-74.6515365,45.5193271
END:VEVENT
END:VCALENDAR