BEGIN:VCALENDAR
VERSION:2.0
PRODID:-//The Review Newspaper - ECPv6.15.18//NONSGML v1.0//EN
CALSCALE:GREGORIAN
METHOD:PUBLISH
X-WR-CALNAME:The Review Newspaper
X-ORIGINAL-URL:https://thereview.ca
X-WR-CALDESC:Events for The Review Newspaper
REFRESH-INTERVAL;VALUE=DURATION:PT1H
X-Robots-Tag:noindex
X-PUBLISHED-TTL:PT1H
BEGIN:VTIMEZONE
TZID:America/Toronto
BEGIN:DAYLIGHT
TZOFFSETFROM:-0500
TZOFFSETTO:-0400
TZNAME:EDT
DTSTART:20200308T070000
END:DAYLIGHT
BEGIN:STANDARD
TZOFFSETFROM:-0400
TZOFFSETTO:-0500
TZNAME:EST
DTSTART:20201101T060000
END:STANDARD
BEGIN:DAYLIGHT
TZOFFSETFROM:-0500
TZOFFSETTO:-0400
TZNAME:EDT
DTSTART:20210314T070000
END:DAYLIGHT
BEGIN:STANDARD
TZOFFSETFROM:-0400
TZOFFSETTO:-0500
TZNAME:EST
DTSTART:20211107T060000
END:STANDARD
BEGIN:DAYLIGHT
TZOFFSETFROM:-0500
TZOFFSETTO:-0400
TZNAME:EDT
DTSTART:20220313T070000
END:DAYLIGHT
BEGIN:STANDARD
TZOFFSETFROM:-0400
TZOFFSETTO:-0500
TZNAME:EST
DTSTART:20221106T060000
END:STANDARD
END:VTIMEZONE
BEGIN:VEVENT
DTSTART;TZID=America/Toronto:20210731T110000
DTEND;TZID=America/Toronto:20210815T140000
DTSTAMP:20260425T221026
CREATED:20210728T143508Z
LAST-MODIFIED:20210728T143508Z
UID:10007569-1627729200-1629036000@thereview.ca
SUMMARY:A Collectif Art Show
DESCRIPTION:Recent work by our local artists! \nOpening event Saturday\, July 31 \, 11am to 2pm \nTo book a private visit\, call 613-527-5230. \nClosed Monday and Tuesday.
URL:https://thereview.ca/event/a-collectif-art-show/
LOCATION:Glengarry Pioneer Museum\, 1645 County Rd 30\, Dunvegan\, Ontario\, K0C 1J0\, Canada
CATEGORIES:Arts & Culture,Local
ATTACH;FMTTYPE=image/jpeg:https://thereview.ca/wp-content/uploads/2017/03/TK_Glengarry-Pioneer-Museum_Harvest-Festival-39.jpg
GEO:45.363552;-74.8200683
X-APPLE-STRUCTURED-LOCATION;VALUE=URI;X-ADDRESS=Glengarry Pioneer Museum 1645 County Rd 30 Dunvegan Ontario K0C 1J0 Canada;X-APPLE-RADIUS=500;X-TITLE=1645 County Rd 30:geo:-74.8200683,45.363552
END:VEVENT
BEGIN:VEVENT
DTSTART;TZID=America/Toronto:20210804T110000
DTEND;TZID=America/Toronto:20210808T170000
DTSTAMP:20260425T221026
CREATED:20210623T142305Z
LAST-MODIFIED:20210702T140551Z
UID:10007523-1628074800-1628442000@thereview.ca
SUMMARY:Route des Arts
DESCRIPTION:routedesarts.ca
URL:https://thereview.ca/event/route-des-arts/
CATEGORIES:Arts & Culture,Local
ATTACH;FMTTYPE=image/jpeg:https://thereview.ca/wp-content/uploads/2021/06/routes-des-arts-2021-06-23.jpg
END:VEVENT
BEGIN:VEVENT
DTSTART;TZID=America/Toronto:20210804T130000
DTEND;TZID=America/Toronto:20210828T160000
DTSTAMP:20260425T221026
CREATED:20210818T145941Z
LAST-MODIFIED:20210818T145941Z
UID:10007545-1628082000-1630166400@thereview.ca
SUMMARY:Exposition
DESCRIPTION:Love of the Land show by artist Chris Godin
URL:https://thereview.ca/event/exposition/
LOCATION:Arbor Gallery Cultural Centre\, 36 Home Ave\, Vankleek Hill\, Ontario\, K0B 1R0\, Canada
CATEGORIES:Arts & Culture,Local
ATTACH;FMTTYPE=image/jpeg:https://thereview.ca/wp-content/uploads/2021/08/Christine-Godin-2021-08-18.jpg
GEO:45.520225;-74.6495046
X-APPLE-STRUCTURED-LOCATION;VALUE=URI;X-ADDRESS=Arbor Gallery Cultural Centre 36 Home Ave Vankleek Hill Ontario K0B 1R0 Canada;X-APPLE-RADIUS=500;X-TITLE=36 Home Ave:geo:-74.6495046,45.520225
END:VEVENT
BEGIN:VEVENT
DTSTART;VALUE=DATE:20210805
DTEND;VALUE=DATE:20210806
DTSTAMP:20260425T221026
CREATED:20210721T141559Z
LAST-MODIFIED:20210721T141559Z
UID:10007531-1628121600-1628207999@thereview.ca
SUMMARY:Classical Music Under the Stars
DESCRIPTION:The evening’s soloist performer will be Ottawa concert pianist Nicholas Deek. \nFor more info visit: GlengarryPioneerMuseum.ca \nor call Jennifer Black 613-527-5230
URL:https://thereview.ca/event/classical-music-under-the-stars/
LOCATION:Glengarry Pioneer Museum\, 1645 County Rd 30\, Dunvegan\, Ontario\, K0C 1J0\, Canada
CATEGORIES:Arts & Culture,Music
ATTACH;FMTTYPE=image/jpeg:https://thereview.ca/wp-content/uploads/2021/07/nicholas_deek.jpg
GEO:45.363552;-74.8200683
X-APPLE-STRUCTURED-LOCATION;VALUE=URI;X-ADDRESS=Glengarry Pioneer Museum 1645 County Rd 30 Dunvegan Ontario K0C 1J0 Canada;X-APPLE-RADIUS=500;X-TITLE=1645 County Rd 30:geo:-74.8200683,45.363552
END:VEVENT
BEGIN:VEVENT
DTSTART;TZID=America/Toronto:20210808T120000
DTEND;TZID=America/Toronto:20210808T160000
DTSTAMP:20260425T221026
CREATED:20210728T144032Z
LAST-MODIFIED:20210728T144148Z
UID:10007579-1628424000-1628438400@thereview.ca
SUMMARY:Christine Lenoir Godin art show
DESCRIPTION:The Arbor Gallery will hold a meet and greet outdoors followed by an “After Glow” at the Windsor Tavern. \nGallery hours: Wednesday to Sunday\, noon to 4pm \n 
URL:https://thereview.ca/event/christine-lenoir-godin-art-show/
LOCATION:Arbor Gallery Cultural Centre\, 36 Home Ave\, Vankleek Hill\, Ontario\, K0B 1R0\, Canada
CATEGORIES:Arts & Culture,Local
ATTACH;FMTTYPE=image/jpeg:https://thereview.ca/wp-content/uploads/2018/04/dh-christine-lenoir-godin-web.jpg
ORGANIZER;CN="Arbor Galley Cultural Centre":MAILTO:contact@arborgallery.org
GEO:45.520225;-74.6495046
X-APPLE-STRUCTURED-LOCATION;VALUE=URI;X-ADDRESS=Arbor Gallery Cultural Centre 36 Home Ave Vankleek Hill Ontario K0B 1R0 Canada;X-APPLE-RADIUS=500;X-TITLE=36 Home Ave:geo:-74.6495046,45.520225
END:VEVENT
BEGIN:VEVENT
DTSTART;TZID=America/Toronto:20210815T140000
DTEND;TZID=America/Toronto:20210815T170000
DTSTAMP:20260425T221026
CREATED:20210804T151056Z
LAST-MODIFIED:20210804T151056Z
UID:10007609-1629036000-1629046800@thereview.ca
SUMMARY:Open doors
DESCRIPTION:Discover Espace culturel Saint-Gilles \nRosemere Bigband – Trumpet Quartet
URL:https://thereview.ca/event/open-doors/
LOCATION:Espace Culturel\, 562\, Outaouais Road\, Brownsburg-Chatham\, Quebec\, J8G 1V2\, Canada
CATEGORIES:Arts & Culture
ATTACH;FMTTYPE=image/jpeg:https://thereview.ca/wp-content/uploads/2020/12/116885542_119965816470135_3219719966289366576_o.jpg
GEO:45.5631128;-74.3824571
X-APPLE-STRUCTURED-LOCATION;VALUE=URI;X-ADDRESS=Espace Culturel 562 Outaouais Road Brownsburg-Chatham Quebec J8G 1V2 Canada;X-APPLE-RADIUS=500;X-TITLE=562\, Outaouais Road:geo:-74.3824571,45.5631128
END:VEVENT
END:VCALENDAR