BEGIN:VCALENDAR
VERSION:2.0
PRODID:-//The Review Newspaper - ECPv6.15.18//NONSGML v1.0//EN
CALSCALE:GREGORIAN
METHOD:PUBLISH
X-WR-CALNAME:The Review Newspaper
X-ORIGINAL-URL:https://thereview.ca
X-WR-CALDESC:Events for The Review Newspaper
REFRESH-INTERVAL;VALUE=DURATION:PT1H
X-Robots-Tag:noindex
X-PUBLISHED-TTL:PT1H
BEGIN:VTIMEZONE
TZID:America/Toronto
BEGIN:DAYLIGHT
TZOFFSETFROM:-0500
TZOFFSETTO:-0400
TZNAME:EDT
DTSTART:20200308T070000
END:DAYLIGHT
BEGIN:STANDARD
TZOFFSETFROM:-0400
TZOFFSETTO:-0500
TZNAME:EST
DTSTART:20201101T060000
END:STANDARD
BEGIN:DAYLIGHT
TZOFFSETFROM:-0500
TZOFFSETTO:-0400
TZNAME:EDT
DTSTART:20210314T070000
END:DAYLIGHT
BEGIN:STANDARD
TZOFFSETFROM:-0400
TZOFFSETTO:-0500
TZNAME:EST
DTSTART:20211107T060000
END:STANDARD
BEGIN:DAYLIGHT
TZOFFSETFROM:-0500
TZOFFSETTO:-0400
TZNAME:EDT
DTSTART:20220313T070000
END:DAYLIGHT
BEGIN:STANDARD
TZOFFSETFROM:-0400
TZOFFSETTO:-0500
TZNAME:EST
DTSTART:20221106T060000
END:STANDARD
END:VTIMEZONE
BEGIN:VEVENT
DTSTART;TZID=America/Toronto:20210701T183000
DTEND;TZID=America/Toronto:20210701T203000
DTSTAMP:20260419T223914
CREATED:20210623T143032Z
LAST-MODIFIED:20210623T143032Z
UID:10007530-1625164200-1625171400@thereview.ca
SUMMARY:Canada Day concert
DESCRIPTION:A list of amazing talent will be performing at UCPR’s first ever Canada PR 2021 event. \nThe celebrations will begin at 6:30 p.m. on July 1 via Facebook Live on the Canada PR 2021 event page https://www.facebook.com/events/850103679251699 .
URL:https://thereview.ca/event/canada-day-concert/
LOCATION:Ontario
CATEGORIES:Arts & Culture,Local,Music
ATTACH;FMTTYPE=image/jpeg:https://thereview.ca/wp-content/uploads/2018/06/Canada-Day-1.jpg
END:VEVENT
BEGIN:VEVENT
DTSTART;VALUE=DATE:20210707
DTEND;VALUE=DATE:20210722
DTSTAMP:20260419T223914
CREATED:20210705T200815Z
LAST-MODIFIED:20210705T200815Z
UID:10007549-1625616000-1626911999@thereview.ca
SUMMARY:Online Auction Fundraiser
DESCRIPTION:The Glengarry Pioneer Museum will kick off a 2-week online auction fundraiser that will feature many local craftspeople and businesses. \nFor more info: www.glengarrypioneermuseum.ca
URL:https://thereview.ca/event/online-auction-fundraiser/
LOCATION:Ontario
CATEGORIES:Arts & Culture,Local
ATTACH;FMTTYPE=image/jpeg:https://thereview.ca/wp-content/uploads/2020/12/RM_JULY-29-2020-GLENGARRY-PIONEER-MUSEUM-MAKING-A-MOVIE-23.jpg
END:VEVENT
BEGIN:VEVENT
DTSTART;TZID=America/Toronto:20210731T110000
DTEND;TZID=America/Toronto:20210815T140000
DTSTAMP:20260419T223914
CREATED:20210728T143508Z
LAST-MODIFIED:20210728T143508Z
UID:10007569-1627729200-1629036000@thereview.ca
SUMMARY:A Collectif Art Show
DESCRIPTION:Recent work by our local artists! \nOpening event Saturday\, July 31 \, 11am to 2pm \nTo book a private visit\, call 613-527-5230. \nClosed Monday and Tuesday.
URL:https://thereview.ca/event/a-collectif-art-show/
LOCATION:Glengarry Pioneer Museum\, 1645 County Rd 30\, Dunvegan\, Ontario\, K0C 1J0\, Canada
CATEGORIES:Arts & Culture,Local
ATTACH;FMTTYPE=image/jpeg:https://thereview.ca/wp-content/uploads/2017/03/TK_Glengarry-Pioneer-Museum_Harvest-Festival-39.jpg
GEO:45.363552;-74.8200683
X-APPLE-STRUCTURED-LOCATION;VALUE=URI;X-ADDRESS=Glengarry Pioneer Museum 1645 County Rd 30 Dunvegan Ontario K0C 1J0 Canada;X-APPLE-RADIUS=500;X-TITLE=1645 County Rd 30:geo:-74.8200683,45.363552
END:VEVENT
END:VCALENDAR